BEGIN:VCALENDAR
VERSION:2.0
PRODID:-//Starthub Asia - ECPv6.15.14//NONSGML v1.0//EN
CALSCALE:GREGORIAN
METHOD:PUBLISH
X-WR-CALNAME:Starthub Asia
X-ORIGINAL-URL:https://starthub.asia
X-WR-CALDESC:Events for Starthub Asia
REFRESH-INTERVAL;VALUE=DURATION:PT1H
X-Robots-Tag:noindex
X-PUBLISHED-TTL:PT1H
BEGIN:VTIMEZONE
TZID:Asia/Hong_Kong
BEGIN:STANDARD
TZOFFSETFROM:+0800
TZOFFSETTO:+0800
TZNAME:HKT
DTSTART:20250101T000000
END:STANDARD
END:VTIMEZONE
BEGIN:VEVENT
DTSTART;TZID=Asia/Hong_Kong:20260420T080000
DTEND;TZID=Asia/Hong_Kong:20260423T170000
DTSTAMP:20260420T171604
CREATED:20260414T172308Z
LAST-MODIFIED:20260414T172308Z
UID:65659-1776672000-1776963600@starthub.asia
SUMMARY:Hong Kong Web3 Festival
DESCRIPTION:Hong Kong Web3 Festival is Asia’s premier crypto event co-hosted by Wanxiang Blockchain Labs and HashKey Group and organized by W3ME. The previous three editions brought together over 350 exhibitors and more than 1\,200 speakers for in-depth discussions\, and attracted a cumulative total of 100\,000 attendees. \nTaking place from April 20 to 23\, 2026 at HKCEC\, the 4th Hong Kong Web3 Festival will feature world-leading crypto exchanges\, stellar Web3 projects\, and Web3 experts and builders to exchange ideas and shape future narratives for the crypto space. \nFor more details\, please click here.
URL:https://starthub.asia/event/hong-kong-web3-festival/
LOCATION:Hong Kong Convention and Exhibition Centre\, Hong Kong
CATEGORIES:Conference
ATTACH;FMTTYPE=image/png:https://starthub.asia/wp-content/uploads/2026/04/Hong-Kong-Web3-Festival.png
END:VEVENT
END:VCALENDAR