BEGIN:VCALENDAR
VERSION:2.0
PRODID:-//Starthub Asia - ECPv6.15.14//NONSGML v1.0//EN
CALSCALE:GREGORIAN
METHOD:PUBLISH
X-WR-CALNAME:Starthub Asia
X-ORIGINAL-URL:https://starthub.asia
X-WR-CALDESC:Events for Starthub Asia
REFRESH-INTERVAL;VALUE=DURATION:PT1H
X-Robots-Tag:noindex
X-PUBLISHED-TTL:PT1H
BEGIN:VTIMEZONE
TZID:Asia/Hong_Kong
BEGIN:STANDARD
TZOFFSETFROM:+0800
TZOFFSETTO:+0800
TZNAME:HKT
DTSTART:20230101T000000
END:STANDARD
END:VTIMEZONE
BEGIN:VEVENT
DTSTART;TZID=Asia/Hong_Kong:20260421T093000
DTEND;TZID=Asia/Hong_Kong:20260421T113000
DTSTAMP:20260421T220800
CREATED:20260414T162432Z
LAST-MODIFIED:20260415T093748Z
UID:65594-1776763800-1776771000@starthub.asia
SUMMARY:Collaborate\, Network\, and Explore High-Potential Investments
DESCRIPTION:Dear Investors\, \nWe are pleased to invite you to the Investor Breakfast Roundtable\, co-hosted by StartHub Asia and VNTR\, with venue sponsorship by Eaton Club. This exclusive event is tailored for forward-thinking investors to connect\, collaborate\, and explore emerging opportunities across high-growth sectors such as AI\, HealthTech\, FinTech\, GreenTech\, and more. \nThis roundtable provides a unique platform for deal flow exploration\, peer networking\, and access to insights from key ecosystem leaders. \n\nEvent Details \n\nDate: Tuesday\, 21 April 2026\nTime: 9:30 AM – 11:30 AM (Registration starts at 9:30 AM)\nVenue: Park Studio\, 5/F\, Eaton Club\, Champion Tower\, Three Garden Road\, Central\, HK\nCatering: Enjoy coffee\, tea\, and a gourmet breakfast menu\, featuring:\n\n\nCroque Monsieur\nAssorted Muffins\nPesto Parmesan Madeleines\nLemon Tarts\n\n\nWhat to Expect \n\nInsights into Emerging Opportunities\n\nEngage in thoughtful discussions on high-potential sectors and industry trends shaping the future of investment.\n\n\nInvestor Networking & Community Building\n\nConnect with a closed circle of 25 investors in an intimate\, invitation-only setting. Build valuable relationships and exchange actionable insights with like-minded peers.\n\n\nEcosystem Updates & Announcements\n\nStartHub Asia: Be the first to learn about the soft launch of the AI Matching & Community Circle Platform\, designed to streamline connections between investors and opportunities.\nVNTR: Updates on the VNTR Investor Circle\, including exclusive global events and tailored investment initiatives.\nEaton Club: Introduction to Eaton Club’s premium coworking and event spaces\, ideal for hosting professional gatherings in Hong Kong.\n\n\nDeal Flow Exploration\n\nGain access to curated investment opportunities from high-growth companies and emerging innovation clusters\, presented in a succinct and professional format.\n\n\n\n\nWhy Attend? \nThis roundtable is a platform for high-impact networking\, deal flow exploration\, and insightful discussions. Whether you’re seeking to expand your portfolio or forge new connections in the investment community\, this event offers the perfect opportunity to engage with key players in the field. \nRSVP Details \n​This event is free of charge and by invitation only. Limited to 25 investors. \nReserve Your Spot Now \n\nAbout Us \n\nStartHub Asia: A collaborative platform designed to connect investors and partners with high-potential opportunities in innovation clusters such as AI\, HealthTech\, and GreenTech\, through bespoke tools\, offline networking events\, and strategic partnerships.\nVNTR: The leading global investor community\, VNTR facilitates collaboration\, co-investment\, and deal flow among top global investors through a network of 5\,000+ professionals worldwide.\nEaton Club: Hong Kong’s premier coworking and event space provider\, offering modern\, professional venues that inspire collaboration and innovation.\n\n\nWe look forward to welcoming you to this exclusive gathering of investors\, innovators\, and thought leaders. \nWarm regards\,\nPaul Chan\nCo-founder and CEO\nStartHub Asia\nContact:  +852 52286502 (WhatsApp)
URL:https://starthub.asia/event/collaborate-network-and-explore-high-potential-investments/
LOCATION:Park Studio\, 5/F\, Eaton Club\, Champion Tower\, Three Garden Road\, Central\, HK\, Hong Kong
CATEGORIES:Community Events,Conference,Conference Workshop,Course,Exhibition,Exhibition Networking,Funding & Expansion
ATTACH;FMTTYPE=image/png:https://starthub.asia/wp-content/uploads/2026/04/Collaborate-Network-and-Explore-High-Potential-Investments.png
END:VEVENT
BEGIN:VEVENT
DTSTART;TZID=Asia/Hong_Kong:20241024T180000
DTEND;TZID=Asia/Hong_Kong:20241024T200000
DTSTAMP:20260421T220800
CREATED:20241021T181313Z
LAST-MODIFIED:20241021T181313Z
UID:40895-1729792800-1729800000@starthub.asia
SUMMARY:Climate Investing – The Biggest Crisis and Opportunity of Our Time
DESCRIPTION:Investors for Climate & Audacy Ventures are hosting an intimate gathering for investors and founders that share an interest in climate investing. Attendees will learn about the potential returns of investing climate\, as well as pathways to decarbonization and the latest innovation in fast-growing markets\, through insights from industry-leading founders\, investors\, and experts. \nFor more details\, please click here.
URL:https://starthub.asia/event/climate-investing-the-biggest-crisis-and-opportunity-of-our-time/
LOCATION:Audacy Ventures Offices in Admiralty\, HK Address: Unit 1910-1910A\, 19F\, Bank of America Tower\, No. 12 Harcourt Road\, Hong Kong\, Hong Kong
CATEGORIES:Community Events
ATTACH;FMTTYPE=image/png:https://starthub.asia/wp-content/uploads/2024/10/Climate-Investing-–-The-Biggest-Crisis-and-Opportunity-of-Our-Time.png
END:VEVENT
BEGIN:VEVENT
DTSTART;TZID=Asia/Hong_Kong:20241024T160000
DTEND;TZID=Asia/Hong_Kong:20241024T190000
DTSTAMP:20260421T220800
CREATED:20241021T180704Z
LAST-MODIFIED:20241021T180704Z
UID:40888-1729785600-1729796400@starthub.asia
SUMMARY:UrbanLab x HKPTA: China PropTech Startup Expedition
DESCRIPTION:Calling All PropTech Advocates!\nJoin us for an evening of startup pitch roadshow in partnership with UrbanLab and HKPTA. This exclusive event will showcase Mainland China’s tech startups that have their sights set on global success through market development in Hong Kong and beyond.\nDrinks and nibbles will be provided. \nFor more details\, please click here.
URL:https://starthub.asia/event/urbanlab-x-hkpta-china-proptech-startup-expedition/
LOCATION:TBC
CATEGORIES:Community Events
ATTACH;FMTTYPE=image/png:https://starthub.asia/wp-content/uploads/2024/10/China-PropTech-Startup-Expedition.png
END:VEVENT
BEGIN:VEVENT
DTSTART;TZID=Asia/Hong_Kong:20241023T190000
DTEND;TZID=Asia/Hong_Kong:20241023T210000
DTSTAMP:20260421T220800
CREATED:20241021T065413Z
LAST-MODIFIED:20241021T065413Z
UID:40846-1729710000-1729717200@starthub.asia
SUMMARY:Central Harbourfront Evening Run
DESCRIPTION:Join us for a fun 5km run/jog along the spectacular Hong Kong Central Harbourfront! Led by Hong Kong’s Experiential Running Club – Rock & Run\, it’s going to be an amazing scenic run to see a different side of Hong Kong. \nFor more details\, please click here.
URL:https://starthub.asia/event/central-harbourfront-evening-run/
LOCATION:Central Harbourfront
CATEGORIES:Community Events
ATTACH;FMTTYPE=image/png:https://starthub.asia/wp-content/uploads/2024/10/Central-Harbourfront-Evening-Run.png
END:VEVENT
BEGIN:VEVENT
DTSTART;TZID=Asia/Hong_Kong:20241023T180000
DTEND;TZID=Asia/Hong_Kong:20241023T210000
DTSTAMP:20260421T220800
CREATED:20241021T065137Z
LAST-MODIFIED:20241021T065137Z
UID:40841-1729706400-1729717200@starthub.asia
SUMMARY:UK Tech Founders Showcase Event
DESCRIPTION:In partnership with The Hong Kong British Chamber of Commerce and hosted by the Eaton Club\, we invite you to our StartmeupHK Festival community event\, where leading tech founders from the UK will showcase their latest innovations and solutions. The evening includes fireside chats with UK tech founders as they share their insights\, along with the opportunity to connect with industry peers over drinks and nibbles. VIP guests\, trade mission partners\, investors and local tech founders are welcome. \nFor more details\, please click here.
URL:https://starthub.asia/event/uk-tech-founders-showcase-event/
LOCATION:Eaton Club Address: 5/F\, Champion Tower\, 3 Garden Rd\, Central
CATEGORIES:Community Events
ATTACH;FMTTYPE=image/jpeg:https://starthub.asia/wp-content/uploads/2024/10/UK-Tech-Founders-Showcase-Event.jpg
END:VEVENT
BEGIN:VEVENT
DTSTART;TZID=Asia/Hong_Kong:20241022T083000
DTEND;TZID=Asia/Hong_Kong:20241024T000000
DTSTAMP:20260421T220800
CREATED:20241021T064048Z
LAST-MODIFIED:20241021T064048Z
UID:40817-1729585800-1729728000@starthub.asia
SUMMARY:Hupo People Leaders’ Breakfast Roundtable
DESCRIPTION:Organised by Hupo\, start your day with an exclusive small-group breakfast designed for people leaders in a Head role across business and HR\, to connect\, collaborate\, and inspire one another. This is a unique opportunity to exchange insights around strategies for leadership and people development for the talent landscape in HK\, in a relaxed and closed-door setting. A limited 10-guest experience will be curated for each day. Register your interest with Sahil@hupo.co. We look forward to this valuable time together. \n\nStart Date:22/10/2024 8:30am\nEnd Date:24/10/2024 9:30am\n\nFor more details\, please click here.
URL:https://starthub.asia/event/hupo-people-leaders-breakfast-roundtable/
LOCATION:Oola\, 9 Star Street
CATEGORIES:Community Events
ATTACH;FMTTYPE=image/jpeg:https://starthub.asia/wp-content/uploads/2024/10/Hupo-People-Leaders.jpg
END:VEVENT
BEGIN:VEVENT
DTSTART;TZID=Asia/Hong_Kong:20241020T160000
DTEND;TZID=Asia/Hong_Kong:20241020T190000
DTSTAMP:20260421T220800
CREATED:20241021T060517Z
LAST-MODIFIED:20241021T060517Z
UID:40803-1729440000-1729450800@starthub.asia
SUMMARY:Victoria Peak Sunset Hike
DESCRIPTION:Join us for an amazing sunset hike around Victoria Peak! The views are stunning. Led by Joseph from Hong Kong’s experiential activity group “Rock & Run\,” this hike wraps around the Peak and ends with a surprise. Suitable for all levels! \nFor more details\, please click here.
URL:https://starthub.asia/event/victoria-peak-sunset-hike/
LOCATION:Victoria Peak
CATEGORIES:Community Events
END:VEVENT
END:VCALENDAR