BEGIN:VCALENDAR
VERSION:2.0
PRODID:-//Starthub Asia - ECPv6.15.14//NONSGML v1.0//EN
CALSCALE:GREGORIAN
METHOD:PUBLISH
X-ORIGINAL-URL:https://starthub.asia
X-WR-CALDESC:Events for Starthub Asia
REFRESH-INTERVAL;VALUE=DURATION:PT1H
X-Robots-Tag:noindex
X-PUBLISHED-TTL:PT1H
BEGIN:VTIMEZONE
TZID:Asia/Hong_Kong
BEGIN:STANDARD
TZOFFSETFROM:+0800
TZOFFSETTO:+0800
TZNAME:HKT
DTSTART:20240101T000000
END:STANDARD
END:VTIMEZONE
BEGIN:VEVENT
DTSTART;TZID=Asia/Hong_Kong:20250807T080000
DTEND;TZID=Asia/Hong_Kong:20250807T183000
DTSTAMP:20260422T062000
CREATED:20250729T085652Z
LAST-MODIFIED:20250729T085652Z
UID:58026-1754553600-1754591400@starthub.asia
SUMMARY:The MarTech Summit Hong Kong 2025
DESCRIPTION:We’re excited to announce the return of The MarTech Summit to Hong Kong for the 4th consecutive year! This time\, we’re taking it up a notch at a new premium venue — the iconic Diamond Ballroom\, The Ritz-Carlton Hong Kong\, offering stunning harbour views. \nGet ready for a high-impact\, one-day summit bringing together 200+ senior marketers and 30+ industry-leading speakers for focused networking\, knowledge exchange\, and actionable insights. \nYou’ll be networking with senior executives from top companies like Cathay Pacific\, HSBC\, J.P. Morgan\, Nike\, Colgate\, Shell\, Hong Kong Disneyland\, Vogue\, Shangri-La\, and many more—ensuring a dynamic mix of thought leadership and industry presence.\n➡Secure your passes now: https://themartechsummit.com/hongkong-registration \nWhat’s Going to Happen?\n✅ Expert-Led Discussions on AI\, Customer Data\, Marketing Analytics & Engagement\n✅ Dynamic Panels\, Fireside Chats\, Keynotes\, & Interactive Roundtables\n✅ Facilitated networking with top decision-makers in a non-expo setting\n✅ A Tailored Agenda for Hong Kong & Greater Bay Area market strategies\n✅ Premium experience in a luxury venue with curated hospitality\n✅ Maximise your CPD hours with practical\, real-world MarTech insights \n➡Check out the Speaker Line-up here: https://themartechsummit.com/hongkong#speakers \n\nFor more details\, please click here.
URL:https://starthub.asia/event/the-martech-summit-hong-kong-2025/
LOCATION:The Ritz-Carlton Hong Kong\, Hong Kong
CATEGORIES:Conference,Networking,Workshop
ATTACH;FMTTYPE=image/jpeg:https://starthub.asia/wp-content/uploads/2025/07/The-MarTech-Summit-Hong-Kong-2025.jpg
END:VEVENT
BEGIN:VEVENT
DTSTART;TZID=Asia/Hong_Kong:20250818T140000
DTEND;TZID=Asia/Hong_Kong:20250819T170000
DTSTAMP:20260422T062000
CREATED:20250809T093732Z
LAST-MODIFIED:20250809T093732Z
UID:58840-1755525600-1755622800@starthub.asia
SUMMARY:HONG KONG BEST KOREA Startup IR DEMODAY & Biz MEETUP Program [​Materials & Components / Machinery / Smart Infrastructure / Smart Construction / Mobility / UAM / Aerospace / Robotics / Energy / Marine]
DESCRIPTION:HONG KONG BEST KOREA Startup IR DEMODAY & Biz MEETUP\nConnecting Korea’s Innovation Leaders with Global Opportunities \nObjective:\nShowcase Korea’s most promising startups to global investors and business partners\, driving cross-border collaborations and investments across cutting-edge sectors. \nEligible Participants:\nEntrepreneurs\, Investors\, Industry Experts\, Research Institutions\, Accelerators\, Government Agencies\, and Associations. \nIndustry Focus:\nContent / XR / Metaverse / EduTech / SportTech / Smart City / Smart Factory / Smart Home / Smart Office / Smart Building / Smart Hub \nEvent Details:\nVenue: Ball Room (B1)\, Gloucester Luk Kwok Hotel\n(72 Gloucester Road\, Wanchai\, Hong Kong | Near Wan Chai Station) \nDate: 18-19 August\, 2025\nTime: 14:00–17:00 HKT Daily \nFeatured Startups:\nCutting edge and award-winning Korean innovators\, including:\nCES Innovation Award\, Presidential Award\, and Global Technology Honorees. \nFunding Stage Breakdown:\nSeed (10%) | Pre-A (25%) | Series A (25%) | Series B (25%) | Series C (15%) \nInvestor Benefits:\n– Executive One-Pagers: Curated English profiles of all startups.\n– Pre-Event 1:1 Zoom Meetings: Secure 5–10 targeted sessions.\n– Day 1: Deep-dive into startup traction and investment potential.\n– Day 2: Structured negotiations for term sheets\, partnerships\, and procurement.\n– Post-Event Support: Ongoing deal-closing and partnership facilitation. \nRegistration & Participation:\nApply: https://forms.gle/E9pwmBDnHswQDRUb6 \nOnline Access: https://zoom.us/j/95844861240?pwd=KITIEwgIkcNapurcIapkrkg5p28x8T.1 \nContact:\nJimyeong (Jimmy) Ryu\, Team Leader\, SCG Korea\n✉️ scg_rjm@scghuman.com \n\nFor more details\, please click here.
URL:https://starthub.asia/event/hong-kong-best-korea-startup-ir-demoday-biz-meetup-program-materials-components-machinery-smart-infrastructure-smart-construction-mobility-uam-aerospace-robotics-energy-2/
LOCATION:Ball Room(B1)\, Gloucester Luk Kwok Hotel (Near Wan Chai Station) (72 Gloucester Road\, Wanchai\, Hong Kong)\, Hong Kong
CATEGORIES:Conference,Networking,Pitching
ATTACH;FMTTYPE=image/png:https://starthub.asia/wp-content/uploads/2025/08/Theme-4-Front-Banner.png
END:VEVENT
BEGIN:VEVENT
DTSTART;TZID=Asia/Hong_Kong:20250825T000000
DTEND;TZID=Asia/Hong_Kong:20250826T000000
DTSTAMP:20260422T062000
CREATED:20250811T005848Z
LAST-MODIFIED:20250811T005848Z
UID:58956-1756080000-1756166400@starthub.asia
SUMMARY:IFINEXPO HK – Connecting the Financial Ecosystem
DESCRIPTION:What Is IFINEXPO ?\nIFINEXPO is the world’s top and largest international financial ecology expo\, covering banking\, insurance\, securities\, futures\, investment\, cryptocurrency\, foreign exchange\, payment and other financial technology companies. Founded in 2014\, we have the industrial chain resources of the summit and have organized more than 100 large-scale financial events. We have been committed to connecting the financial industry chain and building a platform for knowledge sharing and resource docking. Welcome to join us. \nValues\nCommunication Cooperation Innovation Compliance Education Responsibility Communication: The exchange and sharing of information\, ideas\, and experiences to establish connections\, enhance understanding\, and promote collaboration. Cooperation: Working together towards a common goal\, achieving resource complementarity and mutual benefit through joint efforts. Innovation: Creating new thinking\, methods\, technologies\, or products to drive progress and development in the foreign exchange industry\, constantly adapting and leading market changes. Compliance: Abiding by laws\, regulations\, industry standards\, and internal rules to ensure legitimate and standardized behavior\, maintaining market order and fair competition. Education: Cultivating and enhancing people’s qualities and abilities through imparting knowledge\, skills\, and experience\, providing talent support for the development of the industry or organization. Responsibility: Taking ownership for one’s actions and making contributions towards maintaining the order and standards of the industry. \nIFINEXPO Scope\nFinancial market\, financial institution\, financial product and service\, financial regulatory system\, financial consumer and investor\, financial information and data service\, financial infrastructure\, financial policy\, financial technology\, financial risk management service\, financial education and training\, financial rating agency\, financial industry association and organization\, financial derivatives market\, financial asset custody and clearing service\, financial intellectual property service\, financial leasing service\, green financial service\, cross-border financial service\, supply chain financial service\, financial big data analysis service \nThe Target\nConnecting the financial ecosystem – building a platform for information sharing and resource docking \nGoal & Mission\nIFINEXPO connects the financial ecosystem to make finance more efficient \n\nFor more details\, please click here.
URL:https://starthub.asia/event/ifinexpo-hk-connecting-the-financial-ecosystem/
LOCATION:3/F\, Hong Kong Convention and Exhibition Centre
CATEGORIES:Conference
ATTACH;FMTTYPE=image/avif:https://starthub.asia/wp-content/uploads/2025/08/IFINEXPO-HK-–-Connecting-the-Financial-Ecosystem.avif
END:VEVENT
BEGIN:VEVENT
DTSTART;TZID=Asia/Hong_Kong:20250827T000000
DTEND;TZID=Asia/Hong_Kong:20250828T000000
DTSTAMP:20260422T062000
CREATED:20250809T094409Z
LAST-MODIFIED:20250809T094409Z
UID:58858-1756252800-1756339200@starthub.asia
SUMMARY:DePIN EXPO HK 2025
DESCRIPTION:DePIN (Decentralized Physical Infrastructure Networks) is rapidly emerging as one of the most practically impactful sectors within the Web3 space. As the world’s first flagship event dedicated to the DePIN ecosystem\, DePIN Expo 2025 will be grandly held in Hong Kong from August 27 to 28. \n​Commissioned and guided by the Hong Kong Special Administrative Region Government\, DePIN Expo 2025 is initiated by DeMall and co-organized by Web3Labs\, MetaEra\, and Techub News. Under the theme “Life\, Reimagined with DePIN”\, the event will gather global pioneers\, industry leaders\, and tech enthusiasts in the DePIN space to explore how decentralized technologies are reshaping the real world in groundbreaking ways. \n​This landmark event has already secured academic support from top institutions in Hong Kong\, as well as world-renowned universities such as UC Berkeley and Stanford University. In addition\, it has formed strategic partnerships with leading global tech media outlets including Barron’s (a Dow Jones publication) and Bitcoin Magazine\, further underscoring its global influence and leadership position in the industry. \n\nFor more details\, please click here.
URL:https://starthub.asia/event/depin-expo-hk-2025/
LOCATION:Cyberport
CATEGORIES:Conference
ATTACH;FMTTYPE=image/jpeg:https://starthub.asia/wp-content/uploads/2025/08/DePIN-EXPO-HK-2025.jpg
END:VEVENT
END:VCALENDAR