BEGIN:VCALENDAR
VERSION:2.0
PRODID:-//Starthub Asia - ECPv6.15.14//NONSGML v1.0//EN
CALSCALE:GREGORIAN
METHOD:PUBLISH
X-ORIGINAL-URL:https://starthub.asia
X-WR-CALDESC:Events for Starthub Asia
REFRESH-INTERVAL;VALUE=DURATION:PT1H
X-Robots-Tag:noindex
X-PUBLISHED-TTL:PT1H
BEGIN:VTIMEZONE
TZID:Asia/Hong_Kong
BEGIN:STANDARD
TZOFFSETFROM:+0800
TZOFFSETTO:+0800
TZNAME:HKT
DTSTART:20240101T000000
END:STANDARD
END:VTIMEZONE
BEGIN:VEVENT
DTSTART;TZID=Asia/Hong_Kong:20250909T000000
DTEND;TZID=Asia/Hong_Kong:20250910T000000
DTSTAMP:20260422T045354
CREATED:20250811T004601Z
LAST-MODIFIED:20250811T004601Z
UID:58942-1757376000-1757462400@starthub.asia
SUMMARY:WOW SUMMIT HONG KONG 2025
DESCRIPTION:​Experience the Future of Technology in Hong Kong \n​Join 7\,000+ visionaries from 50+ countries at Hong Kong’s most anticipated tech event!\n_________________________________________________________ \n​Why Attend WOW SUMMIT 2025? \nDiscover Revolutionary Technologies:\n* Cutting-edge AI innovations and demos\n* Next-generation Web3 applications\n* Breakthrough robotics\n* Transformative fintech solutions\n* Immersive VR/AR experiences \nConnect With Global Leaders:\n* Industry pioneers\n* Top investors\n* Government officials\n* Tech visionaries\n* Startup founders \nExpand Your Knowledge:\n* Hands-on workshops for all skill levels\n* Expert-led masterclasses\n* Specialized sessions for non-tech professionals\n* Educational programs for students \nExplore New Opportunities:\n* Global startup pitch competition\n* Exclusive VIP networking events\n* Cross-industry partnership forums\n* Investment showcases \n​NEW FOR 2025: WOW META FEST \n​Experience our interactive technology exhibition designed for everyone! Bring your family to explore and engage with the latest innovations in a fun\, accessible environment. \n\nFor more details\, please click here.
URL:https://starthub.asia/event/wow-summit-hong-kong-2025-2/
LOCATION:AsiaWorld-Expo\, 1 Airport Expo Blvd\, Chek Lap Kok\, Hong Kong
CATEGORIES:Conference
ATTACH;FMTTYPE=image/jpeg:https://starthub.asia/wp-content/uploads/2025/08/WOW-SUMMIT-HONG-KONG-2025.jpg
END:VEVENT
BEGIN:VEVENT
DTSTART;TZID=Asia/Hong_Kong:20250910T090000
DTEND;TZID=Asia/Hong_Kong:20250911T180000
DTSTAMP:20260422T045354
CREATED:20250811T005314Z
LAST-MODIFIED:20250811T005314Z
UID:58947-1757494800-1757613600@starthub.asia
SUMMARY:The Belt and Road Summit
DESCRIPTION:The Belt and Road Summit is a premier international platform for promoting business collaboration along the Belt and Road. The Summit gathers senior government officials and business leaders from countries and regions along and beyond the Belt and Road to exchange insights on multilateral co-operation and explore concrete business opportunities. \n\nFor more details\, please click here.
URL:https://starthub.asia/event/the-belt-and-road-summit/
LOCATION:Hong Kong Convention and Exhibition Centre\, Hong Kong
CATEGORIES:Conference
ATTACH;FMTTYPE=image/jpeg:https://starthub.asia/wp-content/uploads/2025/08/The-Belt-and-Road-Summit.jpg
END:VEVENT
END:VCALENDAR