BEGIN:VCALENDAR
VERSION:2.0
PRODID:-//Starthub Asia - ECPv6.15.14//NONSGML v1.0//EN
CALSCALE:GREGORIAN
METHOD:PUBLISH
X-ORIGINAL-URL:https://starthub.asia
X-WR-CALDESC:Events for Starthub Asia
REFRESH-INTERVAL;VALUE=DURATION:PT1H
X-Robots-Tag:noindex
X-PUBLISHED-TTL:PT1H
BEGIN:VTIMEZONE
TZID:Asia/Hong_Kong
BEGIN:STANDARD
TZOFFSETFROM:+0800
TZOFFSETTO:+0800
TZNAME:HKT
DTSTART:20250101T000000
END:STANDARD
END:VTIMEZONE
BEGIN:VEVENT
DTSTART;TZID=Asia/Hong_Kong:20260610T090000
DTEND;TZID=Asia/Hong_Kong:20260610T180000
DTSTAMP:20260421T213227
CREATED:20260415T054114Z
LAST-MODIFIED:20260415T054114Z
UID:65756-1781082000-1781114400@starthub.asia
SUMMARY:Hong Kong Hack
DESCRIPTION:Hong Kong Hack 2026\, taking place on June 10\, 2026\, is a profit-neutral\, high-level technical symposium dedicated to frontier security research\, offensive and defensive practices\, and the future of digital trust. \nHong Kong Hack is part of the Hack series of technical security events organized by Casaba Security. Previous editions of the series have been successfully held in Malaysia (MYHACK) and Singapore (SGHack)\, focusing on frontier security research\, real-world offensive and defensive practices\, and high-quality technical exchange. Over time\, the Hack series has established a strong reputation within the regional security community for being non-commercial\, technically rigorous\, and content-driven. \nFor more details\, please click here.
URL:https://starthub.asia/event/hong-kong-hack/
LOCATION:Hong Kong Science and Technology Parks – InnoCentre\, Hong Kong
CATEGORIES:Conference
ATTACH;FMTTYPE=image/png:https://starthub.asia/wp-content/uploads/2026/04/Hong-Kong-Hack.png
END:VEVENT
END:VCALENDAR