BEGIN:VCALENDAR
VERSION:2.0
PRODID:-//Starthub Asia - ECPv6.15.14//NONSGML v1.0//EN
CALSCALE:GREGORIAN
METHOD:PUBLISH
X-WR-CALNAME:Starthub Asia
X-ORIGINAL-URL:https://starthub.asia
X-WR-CALDESC:Events for Starthub Asia
REFRESH-INTERVAL;VALUE=DURATION:PT1H
X-Robots-Tag:noindex
X-PUBLISHED-TTL:PT1H
BEGIN:VTIMEZONE
TZID:Asia/Hong_Kong
BEGIN:STANDARD
TZOFFSETFROM:+0800
TZOFFSETTO:+0800
TZNAME:HKT
DTSTART:20240101T000000
END:STANDARD
END:VTIMEZONE
BEGIN:VEVENT
DTSTART;TZID=Asia/Hong_Kong:20250827T000000
DTEND;TZID=Asia/Hong_Kong:20250828T000000
DTSTAMP:20260422T073550
CREATED:20250809T094409Z
LAST-MODIFIED:20250809T094409Z
UID:58858-1756252800-1756339200@starthub.asia
SUMMARY:DePIN EXPO HK 2025
DESCRIPTION:DePIN (Decentralized Physical Infrastructure Networks) is rapidly emerging as one of the most practically impactful sectors within the Web3 space. As the world’s first flagship event dedicated to the DePIN ecosystem\, DePIN Expo 2025 will be grandly held in Hong Kong from August 27 to 28. \n​Commissioned and guided by the Hong Kong Special Administrative Region Government\, DePIN Expo 2025 is initiated by DeMall and co-organized by Web3Labs\, MetaEra\, and Techub News. Under the theme “Life\, Reimagined with DePIN”\, the event will gather global pioneers\, industry leaders\, and tech enthusiasts in the DePIN space to explore how decentralized technologies are reshaping the real world in groundbreaking ways. \n​This landmark event has already secured academic support from top institutions in Hong Kong\, as well as world-renowned universities such as UC Berkeley and Stanford University. In addition\, it has formed strategic partnerships with leading global tech media outlets including Barron’s (a Dow Jones publication) and Bitcoin Magazine\, further underscoring its global influence and leadership position in the industry. \n\nFor more details\, please click here.
URL:https://starthub.asia/event/depin-expo-hk-2025/
LOCATION:Cyberport
CATEGORIES:Conference
ATTACH;FMTTYPE=image/jpeg:https://starthub.asia/wp-content/uploads/2025/08/DePIN-EXPO-HK-2025.jpg
END:VEVENT
END:VCALENDAR