BEGIN:VCALENDAR
VERSION:2.0
PRODID:-//Starthub Asia - ECPv6.15.14//NONSGML v1.0//EN
CALSCALE:GREGORIAN
METHOD:PUBLISH
X-WR-CALNAME:Starthub Asia
X-ORIGINAL-URL:https://starthub.asia
X-WR-CALDESC:Events for Starthub Asia
REFRESH-INTERVAL;VALUE=DURATION:PT1H
X-Robots-Tag:noindex
X-PUBLISHED-TTL:PT1H
BEGIN:VTIMEZONE
TZID:Asia/Hong_Kong
BEGIN:STANDARD
TZOFFSETFROM:+0800
TZOFFSETTO:+0800
TZNAME:HKT
DTSTART:20240101T000000
END:STANDARD
END:VTIMEZONE
BEGIN:VEVENT
DTSTART;TZID=Asia/Hong_Kong:20251016T000000
DTEND;TZID=Asia/Hong_Kong:20251017T000000
DTSTAMP:20260422T044849
CREATED:20251020T120025Z
LAST-MODIFIED:20251020T120025Z
UID:62712-1760572800-1760659200@starthub.asia
SUMMARY:「中小企資援組」 政府資助與科技博覽 2025
DESCRIPTION:生產力局連同工業貿易署合辦年度盛事「中小企資援組：政府資助與科技博覽2025」將於2025年10月16日至17日舉行，為中小企提供一站式「落地」平台，透過展覽、專題研討會及即場諮詢等，搶先掌握「求FUND升TECH」策略！延續去年五大主題，今年更加添AI、新零售科技及IP品牌等元素，新增沉浸式數碼化場景體驗，務求360度賦能中小企「出海」，全方位提升企業持續發展能力及競爭優勢 ! \nFor more details\, please click here.
URL:https://starthub.asia/event/%e3%80%8c%e4%b8%ad%e5%b0%8f%e4%bc%81%e8%b3%87%e6%8f%b4%e7%b5%84%e3%80%8d-%e6%94%bf%e5%ba%9c%e8%b3%87%e5%8a%a9%e8%88%87%e7%a7%91%e6%8a%80%e5%8d%9a%e8%a6%bd-2025/
LOCATION:九龍達之路78號生產力大樓 1 Airport Expo Blvd\, Chek Lap Kok\, Hong Kong
CATEGORIES:Conference,Exhibition,Seminar
ATTACH;FMTTYPE=image/png:https://starthub.asia/wp-content/uploads/2025/10/「中小企資援組」-政府資助與科技博覽-2025.png
END:VEVENT
END:VCALENDAR