BEGIN:VCALENDAR
VERSION:2.0
PRODID:-//Starthub Asia - ECPv6.15.14//NONSGML v1.0//EN
CALSCALE:GREGORIAN
METHOD:PUBLISH
X-WR-CALNAME:Starthub Asia
X-ORIGINAL-URL:https://starthub.asia
X-WR-CALDESC:Events for Starthub Asia
REFRESH-INTERVAL;VALUE=DURATION:PT1H
X-Robots-Tag:noindex
X-PUBLISHED-TTL:PT1H
BEGIN:VTIMEZONE
TZID:Asia/Hong_Kong
BEGIN:STANDARD
TZOFFSETFROM:+0800
TZOFFSETTO:+0800
TZNAME:HKT
DTSTART:20240101T000000
END:STANDARD
END:VTIMEZONE
BEGIN:VEVENT
DTSTART;TZID=Asia/Hong_Kong:20251020T000000
DTEND;TZID=Asia/Hong_Kong:20251021T000000
DTSTAMP:20260422T044854
CREATED:20251020T120822Z
LAST-MODIFIED:20251020T120822Z
UID:62724-1760918400-1761004800@starthub.asia
SUMMARY:iCANX Hong Kong Summit 2025
DESCRIPTION:The iCANX Summit brings together global experts from both academic and industrial fields. It also establishes a professional jury to announce three major award lists. The summit aims to encourage innovation\, facilitate the growth of young scientists\, and promote high – tech investment\, thereby advancing the science and technology industry. \nFor more details\, please click here.
URL:https://starthub.asia/event/icanx-hong-kong-summit-2025/
LOCATION:Hong Kong Convention and Exhibition Centre 1號 Expo Dr\, Wan Chai\, Hong Kong
CATEGORIES:Conference
ATTACH;FMTTYPE=image/jpeg:https://starthub.asia/wp-content/uploads/2025/10/iCANX-Hong-Kong-Summit-2025.jpg
END:VEVENT
END:VCALENDAR