BEGIN:VCALENDAR
VERSION:2.0
PRODID:-//Starthub Asia - ECPv6.15.14//NONSGML v1.0//EN
CALSCALE:GREGORIAN
METHOD:PUBLISH
X-ORIGINAL-URL:https://starthub.asia
X-WR-CALDESC:Events for Starthub Asia
REFRESH-INTERVAL;VALUE=DURATION:PT1H
X-Robots-Tag:noindex
X-PUBLISHED-TTL:PT1H
BEGIN:VTIMEZONE
TZID:Asia/Hong_Kong
BEGIN:STANDARD
TZOFFSETFROM:+0800
TZOFFSETTO:+0800
TZNAME:HKT
DTSTART:20240101T000000
END:STANDARD
END:VTIMEZONE
BEGIN:VEVENT
DTSTART;TZID=Asia/Hong_Kong:20251026T000000
DTEND;TZID=Asia/Hong_Kong:20251228T000000
DTSTAMP:20260422T034150
CREATED:20250812T071123Z
LAST-MODIFIED:20250812T071123Z
UID:59051-1761436800-1766880000@starthub.asia
SUMMARY:iFX EXPO ASIA
DESCRIPTION:Presenting powerful possibilities\, iFX EXPO is the online trading industry’s biggest event series bridging the world’s top online trading brands with like-minded professionals. It has grown into a global standard\, providing every individual with a hub to network\, exchange ideas and grow their business. \n\nFor more details\, please click here.
URL:https://starthub.asia/event/ifx-expo-asia/
LOCATION:1 Airport Expo Blvd\, Chek Lap Kok\, Hong Kong
CATEGORIES:Conference,Exhibition,Networking
END:VEVENT
BEGIN:VEVENT
DTSTART;TZID=Asia/Hong_Kong:20251103T000000
DTEND;TZID=Asia/Hong_Kong:20251107T000000
DTSTAMP:20260422T034150
CREATED:20251020T145330Z
LAST-MODIFIED:20251020T145330Z
UID:62765-1762128000-1762473600@starthub.asia
SUMMARY:Hong Kong FinTech Week x StartmeupHK Festival 2025
DESCRIPTION:Hong Kong FinTech Week and StartmeupHK Festival are joining forces in 2025 for a special 10th-anniversary edition—marking a decade of impact and innovation. This unique collaboration unites the worlds of fintech and entrepreneurship\, bringing together 37\,000+ executives\, 800+ leading speakers\, and 700+ exhibitors from 100+ economies to share insights and explore the future of technology. \nFor more details\, please click here.
URL:https://starthub.asia/event/hong-kong-fintech-week-x-startmeuphk-festival-2025/
LOCATION:Hong Kong Convention & Exhibition Centre and Multiple Venues
CATEGORIES:Conference,Exhibition,Networking,Pitching
ATTACH;FMTTYPE=image/png:https://starthub.asia/wp-content/uploads/2025/10/Hong-Kong-FinTech-Week-x-StartmeupHK-Festival-2025.png
END:VEVENT
BEGIN:VEVENT
DTSTART;TZID=Asia/Hong_Kong:20251105T093000
DTEND;TZID=Asia/Hong_Kong:20251105T170000
DTSTAMP:20260422T034150
CREATED:20251020T174200Z
LAST-MODIFIED:20251020T174200Z
UID:62843-1762335000-1762362000@starthub.asia
SUMMARY:Future Mobility Innovation Summit
DESCRIPTION:We will delve into hot topics related to the adaptation of Autonomous Driving and LAE. Gain insights from experts and industry leaders across various fields\, engage in meaningful exchange\, and work together to contribute to the development of Autonomous Driving and LAE in Hong Kong! \nFor more details\, please click here.
URL:https://starthub.asia/event/future-mobility-innovation-summit/
LOCATION:1/F\, Inno Theatre\, HKPC Building\, 78 Tat Chee Avenue\, Kowloon
CATEGORIES:Conference,Exhibition,Networking
ATTACH;FMTTYPE=image/webp:https://starthub.asia/wp-content/uploads/2025/10/Future-Mobility-Innovation-Summit.webp
END:VEVENT
END:VCALENDAR