BEGIN:VCALENDAR
VERSION:2.0
PRODID:-//Starthub Asia - ECPv6.15.14//NONSGML v1.0//EN
CALSCALE:GREGORIAN
METHOD:PUBLISH
X-ORIGINAL-URL:https://starthub.asia
X-WR-CALDESC:Events for Starthub Asia
REFRESH-INTERVAL;VALUE=DURATION:PT1H
X-Robots-Tag:noindex
X-PUBLISHED-TTL:PT1H
BEGIN:VTIMEZONE
TZID:Asia/Hong_Kong
BEGIN:STANDARD
TZOFFSETFROM:+0800
TZOFFSETTO:+0800
TZNAME:HKT
DTSTART:20240101T000000
END:STANDARD
END:VTIMEZONE
BEGIN:VEVENT
DTSTART;TZID=Asia/Hong_Kong:20251026T000000
DTEND;TZID=Asia/Hong_Kong:20251228T000000
DTSTAMP:20260422T022351
CREATED:20250812T071123Z
LAST-MODIFIED:20250812T071123Z
UID:59051-1761436800-1766880000@starthub.asia
SUMMARY:iFX EXPO ASIA
DESCRIPTION:Presenting powerful possibilities\, iFX EXPO is the online trading industry’s biggest event series bridging the world’s top online trading brands with like-minded professionals. It has grown into a global standard\, providing every individual with a hub to network\, exchange ideas and grow their business. \n\nFor more details\, please click here.
URL:https://starthub.asia/event/ifx-expo-asia/
LOCATION:1 Airport Expo Blvd\, Chek Lap Kok\, Hong Kong
CATEGORIES:Conference,Exhibition,Networking
END:VEVENT
BEGIN:VEVENT
DTSTART;TZID=Asia/Hong_Kong:20251203T083000
DTEND;TZID=Asia/Hong_Kong:20251205T170000
DTSTAMP:20260422T022351
CREATED:20251021T060641Z
LAST-MODIFIED:20251021T060641Z
UID:62934-1764750600-1764954000@starthub.asia
SUMMARY:The 14th International Symposium on Circulating Nucleic Acids in Plasma & Serum
DESCRIPTION:CNAPS\, as the pioneering meeting dedicated to circulating nucleic acids research\, has a rich history starting from 1997. This international symposium will convene leading scientists\, clinicians\, researchers\, students and industry experts to discuss and exchange the latest advancements in the field of circulating nucleic acids. \n✨ Programme Highlights\n• Presentations by globally renowned experts in circulating nucleic acids research\n• Poster presentations showcasing the latest advancements and innovative applications\n• Networking opportunities to connect with leading scientists and industry professionals\, encouraging meaningful discussions \n📅 Important Dates\n• Registration deadline: November 12\, 2025 (early bird offers till July 31\, 2025)\n• Abstract Submission deadline: July 31\, 2025 \nPlease visit www.cnaps2025.org for more information on the programme\, registration and abstract submission. \n\nFor more details\, please click here.
URL:https://starthub.asia/event/the-14th-international-symposium-on-circulating-nucleic-acids-in-plasma-serum/
LOCATION:Hong Kong Ocean Park Marriott Hotel
CATEGORIES:Conference
ATTACH;FMTTYPE=image/jpeg:https://starthub.asia/wp-content/uploads/2025/10/The-14th-International-Symposium-on-Circulating-Nucleic-Acids-in-Plasma-Serum.jpg
END:VEVENT
BEGIN:VEVENT
DTSTART;TZID=Asia/Hong_Kong:20251204T090000
DTEND;TZID=Asia/Hong_Kong:20251205T170000
DTSTAMP:20260422T022351
CREATED:20251021T061615Z
LAST-MODIFIED:20251021T061615Z
UID:62943-1764838800-1764954000@starthub.asia
SUMMARY:Business of Intellectual Property Asia Forum (BIP Asia)\, Hong Kong 2025
DESCRIPTION:Jointly organised by the HKSAR Government and Hong Kong Trade Development Council\, the annual BIP Asia Forum brings IP users\, owners\, investors\, professionals and business leaders from all over the world to discuss the latest developments in the IP world\, and to explore business collaboration opportunities. \nFor more details\, please click here.
URL:https://starthub.asia/event/business-of-intellectual-property-asia-forum-bip-asia-hong-kong-2025/
LOCATION:Hong Kong Convention & Exhibition Centre\, Hong Kong
CATEGORIES:Conference,Networking,Pitching
ATTACH;FMTTYPE=image/png:https://starthub.asia/wp-content/uploads/2025/10/Business-of-Intellectual-Property-Asia-Forum-BIP-Asia-Hong-Kong-2025.png
END:VEVENT
END:VCALENDAR