BEGIN:VCALENDAR
VERSION:2.0
PRODID:-//Starthub Asia - ECPv6.15.14//NONSGML v1.0//EN
CALSCALE:GREGORIAN
METHOD:PUBLISH
X-ORIGINAL-URL:https://starthub.asia
X-WR-CALDESC:Events for Starthub Asia
REFRESH-INTERVAL;VALUE=DURATION:PT1H
X-Robots-Tag:noindex
X-PUBLISHED-TTL:PT1H
BEGIN:VTIMEZONE
TZID:Asia/Hong_Kong
BEGIN:STANDARD
TZOFFSETFROM:+0800
TZOFFSETTO:+0800
TZNAME:HKT
DTSTART:20250101T000000
END:STANDARD
END:VTIMEZONE
BEGIN:VEVENT
DTSTART;TZID=Asia/Hong_Kong:20260126T080000
DTEND;TZID=Asia/Hong_Kong:20260127T170000
DTSTAMP:20260421T232106
CREATED:20260415T091833Z
LAST-MODIFIED:20260415T091833Z
UID:66000-1769414400-1769533200@starthub.asia
SUMMARY:Asian Financial Forum (AFF)
DESCRIPTION:The Asian Financial Forum (AFF) is the region’s premier platform that brings together influential leaders from government\, finance\, and business communities globally for ground-breaking discussions and exchange of insights on the global economy from an Asian perspective. The AFF 2025 convened over 130 elite speakers from around the world and attracted over 3\,600 visitors from 60 countries and regions\, including over 70 overseas and Mainland China delegations\, participating for thought leadership and discussions while witnessing the latest fintech advancements\, emerging business strategies\, and expanding their professional networks. \nFor more details\, please click here.
URL:https://starthub.asia/event/asian-financial-forum-aff/
LOCATION:Hong Kong Convention and Exhibition Centre\, Hong Kong
CATEGORIES:Conference,Networking
ATTACH;FMTTYPE=image/webp:https://starthub.asia/wp-content/uploads/2026/04/Asian-Financial-Forum-AFF.webp
END:VEVENT
END:VCALENDAR