BEGIN:VCALENDAR
VERSION:2.0
PRODID:-//Starthub Asia - ECPv6.15.14//NONSGML v1.0//EN
CALSCALE:GREGORIAN
METHOD:PUBLISH
X-ORIGINAL-URL:https://starthub.asia
X-WR-CALDESC:Events for Starthub Asia
REFRESH-INTERVAL;VALUE=DURATION:PT1H
X-Robots-Tag:noindex
X-PUBLISHED-TTL:PT1H
BEGIN:VTIMEZONE
TZID:Asia/Hong_Kong
BEGIN:STANDARD
TZOFFSETFROM:+0800
TZOFFSETTO:+0800
TZNAME:HKT
DTSTART:20250101T000000
END:STANDARD
END:VTIMEZONE
BEGIN:VEVENT
DTSTART;TZID=Asia/Hong_Kong:20260310T080000
DTEND;TZID=Asia/Hong_Kong:20260312T170000
DTSTAMP:20260421T202335
CREATED:20260415T060753Z
LAST-MODIFIED:20260415T060753Z
UID:65785-1773129600-1773334800@starthub.asia
SUMMARY:The Battery Show Asia 2026
DESCRIPTION:The world’s leading battery and energy exhibition\, The Battery Show made its electrifying Asian debut in 2025\, attracting 17\,893 buyers from 132 countries and regions\, with nearly 60% from outside mainland China. Alongside 314 global exhibitors across 4 co-located events\, 2025 edition created a powerful platform for breakthrough technologies and international collaboration. \nIn 2026\, the show returns to AsiaWorld-Expo\, Hong Kong (March 10-12)\, welcoming 20\,000+ policymakers\, innovators\, engineers\, manufacturers\, and thought leaders for three days of immersive networking and cutting-edge showcases. \nCo-located with Energy Storage Asia and Mobility Tech Asia\, the show offers unparalleled access to new markets\, cross-sector synergies\, and high-value partnerships across the global energy and mobility value chain. \nFor more details\, please click here.
URL:https://starthub.asia/event/the-battery-show-asia-2026/
LOCATION:AsiaWorld-Expo\, Hong Kong
CATEGORIES:Conference,Exhibition,Networking
ATTACH;FMTTYPE=image/png:https://starthub.asia/wp-content/uploads/2026/04/The-Battery-Show-Asia-2026.png
END:VEVENT
BEGIN:VEVENT
DTSTART;TZID=Asia/Hong_Kong:20260311T090000
DTEND;TZID=Asia/Hong_Kong:20260312T164500
DTSTAMP:20260421T202335
CREATED:20260415T061154Z
LAST-MODIFIED:20260415T061154Z
UID:65794-1773219600-1773333900@starthub.asia
SUMMARY:6th annual Technology for Change Asia
DESCRIPTION:Business leaders understand that to thrive they must adopt new technologies. The challenge is how to use them effectively\, sustainably and with measurable impact. Join us to decode the technical details and pinpoint the solutions helping businesses prosper amid a changing world order. \nFor more details\, please click here.
URL:https://starthub.asia/event/6th-annual-technology-for-change-asia/
LOCATION:Hopewell Hotel Hong Kong\, Hong Kong
CATEGORIES:Conference
ATTACH;FMTTYPE=image/png:https://starthub.asia/wp-content/uploads/2026/04/6th-annual-Technology-for-Change-Asia.png
END:VEVENT
BEGIN:VEVENT
DTSTART;TZID=Asia/Hong_Kong:20260312T080000
DTEND;TZID=Asia/Hong_Kong:20260313T170000
DTSTAMP:20260421T202335
CREATED:20260415T061525Z
LAST-MODIFIED:20260415T061525Z
UID:65804-1773302400-1773421200@starthub.asia
SUMMARY:JUMPSTARTER 2026 Grand Finale
DESCRIPTION:JUMPSTARTER 2026 will spotlight AI and sustainability. Immerse yourself in world-class speakers\, innovative startups\, and invaluable networking opportunities. Lead the pack in AI trends and sustainability impact\, drive business evolution\, and harness the power of connections and inspiration. Secure your spot now! \nFor more details\, please click here.
URL:https://starthub.asia/event/jumpstarter-2026-grand-finale/
LOCATION:Hong Kong Convention and Exhibition Centre\, Hong Kong
CATEGORIES:Conference,Networking,Pitching
ATTACH;FMTTYPE=image/jpeg:https://starthub.asia/wp-content/uploads/2026/04/JUMPSTARTER-2026-Grand-Finale.jpg
END:VEVENT
END:VCALENDAR