BEGIN:VCALENDAR
VERSION:2.0
PRODID:-//Starthub Asia - ECPv6.15.14//NONSGML v1.0//EN
CALSCALE:GREGORIAN
METHOD:PUBLISH
X-WR-CALNAME:Starthub Asia
X-ORIGINAL-URL:https://starthub.asia
X-WR-CALDESC:Events for Starthub Asia
REFRESH-INTERVAL;VALUE=DURATION:PT1H
X-Robots-Tag:noindex
X-PUBLISHED-TTL:PT1H
BEGIN:VTIMEZONE
TZID:Asia/Hong_Kong
BEGIN:STANDARD
TZOFFSETFROM:+0800
TZOFFSETTO:+0800
TZNAME:HKT
DTSTART:20250101T000000
END:STANDARD
END:VTIMEZONE
BEGIN:VEVENT
DTSTART;TZID=Asia/Hong_Kong:20260318T080000
DTEND;TZID=Asia/Hong_Kong:20260319T170000
DTSTAMP:20260423T175359
CREATED:20260415T062724Z
LAST-MODIFIED:20260415T062724Z
UID:65827-1773820800-1773939600@starthub.asia
SUMMARY:Global Talent Summit Week
DESCRIPTION:Hong Kong Talent Engage will host an international mega event this March\, Global Talent Summit Week (GTS Week)\, to foster regional talent exchange\, showcase diverse development opportunities and engage insights from leaders in government\, business and academia to collectively explore future talent trends. \nGTS Week focuses on the integration of education\, technology and talents\, connecting global minds through: \n\nInternational Talent Forum (18-19 March)*\n\nA key thought-leadership programme connecting a Nobel Prize Laureate\, government officials\, business leaders and world-class scholars to explore topics on integration of education\, technology\, and talents\, fostering a sustainable talent ecosystem. \n\nCareerConnect Expo (18-19 March)\n\nA multi-zone expo showcasing five exhibition zones that support professional advancement in Hong Kong. \n\nSatellite Events (17-29 March)\n\nMore Details \n*The public can watch the livestream on the official website \nFor more details\, please click here.
URL:https://starthub.asia/event/global-talent-summit-week/
LOCATION:Hong Kong Convention and Exhibition Centre (HKCEC) and online\, Hong Kong
CATEGORIES:Conference
ATTACH;FMTTYPE=image/jpeg:https://starthub.asia/wp-content/uploads/2026/04/Global-Talent-Summit-Week.jpg
END:VEVENT
END:VCALENDAR