BEGIN:VCALENDAR
VERSION:2.0
PRODID:-//Starthub Asia - ECPv6.15.14//NONSGML v1.0//EN
CALSCALE:GREGORIAN
METHOD:PUBLISH
X-WR-CALNAME:Starthub Asia
X-ORIGINAL-URL:https://starthub.asia
X-WR-CALDESC:Events for Starthub Asia
REFRESH-INTERVAL;VALUE=DURATION:PT1H
X-Robots-Tag:noindex
X-PUBLISHED-TTL:PT1H
BEGIN:VTIMEZONE
TZID:Asia/Hong_Kong
BEGIN:STANDARD
TZOFFSETFROM:+0800
TZOFFSETTO:+0800
TZNAME:HKT
DTSTART:20250101T000000
END:STANDARD
END:VTIMEZONE
BEGIN:VEVENT
DTSTART;TZID=Asia/Hong_Kong:20260325T080000
DTEND;TZID=Asia/Hong_Kong:20260326T170000
DTSTAMP:20260421T202234
CREATED:20260415T075404Z
LAST-MODIFIED:20260415T075404Z
UID:65860-1774425600-1774544400@starthub.asia
SUMMARY:InsurInnovator Connect Asia 2026
DESCRIPTION:InsurInnovator Connect Asia 2026 returns on March 25–26\, 2026 in Hong Kong\, bringing together 1\,200+ senior leaders from across the insurance value chain. With focused forums on: AI and predictive intelligence\, embedded insurance and bancassurance\, life and health innovation\, reinsurance and risk management\, fraud and cyber resilience\, as well as auto and connected mobility. \nIIC ASIA 2026 converges thought leadership and industry evolution\, uniting 500+ C-suite leaders to redefine Asia’s insurance landscape. \nFor more details\, please click here.
URL:https://starthub.asia/event/insurinnovator-connect-asia-2026/
LOCATION:Hong Kong\, Hong Kong
CATEGORIES:Conference,Exhibition,Networking
ATTACH;FMTTYPE=image/png:https://starthub.asia/wp-content/uploads/2026/04/InsurInnovator-Connect-Asia-2026.png
END:VEVENT
END:VCALENDAR