BEGIN:VCALENDAR
VERSION:2.0
PRODID:-//Starthub Asia - ECPv6.15.14//NONSGML v1.0//EN
CALSCALE:GREGORIAN
METHOD:PUBLISH
X-WR-CALNAME:Starthub Asia
X-ORIGINAL-URL:https://starthub.asia
X-WR-CALDESC:Events for Starthub Asia
REFRESH-INTERVAL;VALUE=DURATION:PT1H
X-Robots-Tag:noindex
X-PUBLISHED-TTL:PT1H
BEGIN:VTIMEZONE
TZID:Asia/Hong_Kong
BEGIN:STANDARD
TZOFFSETFROM:+0800
TZOFFSETTO:+0800
TZNAME:HKT
DTSTART:20250101T000000
END:STANDARD
END:VTIMEZONE
BEGIN:VEVENT
DTSTART;TZID=Asia/Hong_Kong:20260511T080000
DTEND;TZID=Asia/Hong_Kong:20260513T170000
DTSTAMP:20260421T214155
CREATED:20260415T052912Z
LAST-MODIFIED:20260415T052912Z
UID:65735-1778486400-1778691600@starthub.asia
SUMMARY:HKTDC Hong Kong International Medical and Healthcare Fair
DESCRIPTION:Feel the pulse of the medical and healthcare trade \nBusiness Opportunities Abound at Blossoming Healthcare Platform \nThe HKTDC Hong Kong International Medical and Healthcare Fair provides industry players with the ideal platform to update themselves on the latest development and forge strong connections within the medical products field. \nFor more details\, please click here.
URL:https://starthub.asia/event/hktdc-hong-kong-international-medical-and-healthcare-fair/
LOCATION:Hong Kong Convention and Exhibition Centre\, Hong Kong
CATEGORIES:Conference
ATTACH;FMTTYPE=image/jpeg:https://starthub.asia/wp-content/uploads/2026/04/HKTDC-Hong-Kong-International-Medical-and-Healthcare-Fair.jpg
END:VEVENT
END:VCALENDAR