BEGIN:VCALENDAR
VERSION:2.0
PRODID:-//Starthub Asia - ECPv6.15.14//NONSGML v1.0//EN
CALSCALE:GREGORIAN
METHOD:PUBLISH
X-WR-CALNAME:Starthub Asia
X-ORIGINAL-URL:https://starthub.asia
X-WR-CALDESC:Events for Starthub Asia
REFRESH-INTERVAL;VALUE=DURATION:PT1H
X-Robots-Tag:noindex
X-PUBLISHED-TTL:PT1H
BEGIN:VTIMEZONE
TZID:Asia/Hong_Kong
BEGIN:STANDARD
TZOFFSETFROM:+0800
TZOFFSETTO:+0800
TZNAME:HKT
DTSTART:20230101T000000
END:STANDARD
END:VTIMEZONE
BEGIN:VEVENT
DTSTART;TZID=Asia/Hong_Kong:20250218T090000
DTEND;TZID=Asia/Hong_Kong:20250220T180000
DTSTAMP:20260422T003426
CREATED:20250306T094312Z
LAST-MODIFIED:20250306T094312Z
UID:50702-1739869200-1740074400@starthub.asia
SUMMARY:Consensus Hong Kong
DESCRIPTION:Consensus is the world’s largest\, longest-running\, and most influential gathering of the global Blockchain\, Web3\, and AI communities. It unites visionaries\, disruptors\, and decision-makers who are reshaping the foundations of finance\, technology\, governance\, and society. \nConsensus\, the industry’s most influential event in digital assets and Web3\, is making its highly anticipated debut in Hong Kong. For the first time\, this flagship event will unite global leaders\, innovators\, and investors from both East and West in a three-day experience focused on networking\, dealmaking\, and shaping the future of digital assets. \nTaking place February 18-20\, 2025\, in the vibrant hub of Hong Kong\, known for its strategic position in global markets\, Consensus 2025 offers an unparalleled opportunity to connect with top-tier professionals and forge impactful partnerships. Produced by CoinDesk\, a trusted voice in the industry\, this event is built on independent journalism and meaningful dialogue that drives the industry forward. \nSecure your spot today and be part of the most transformative event in digital assets. \nFor more details\, please click here.
URL:https://starthub.asia/event/consensus-hong-kong/
LOCATION:Hong Kong Convention & Exhibition Centre\, Hong Kong
CATEGORIES:Conference
ATTACH;FMTTYPE=image/jpeg:https://starthub.asia/wp-content/uploads/2025/03/1.jpg
END:VEVENT
BEGIN:VEVENT
DTSTART;TZID=Asia/Hong_Kong:20241129T093000
DTEND;TZID=Asia/Hong_Kong:20241129T163000
DTSTAMP:20260422T003426
CREATED:20241021T185626Z
LAST-MODIFIED:20241021T185626Z
UID:40941-1732872600-1732897800@starthub.asia
SUMMARY:CUHK CSRCom & Sustainability Hub’s 2024 Professional Workshop: Shaping Sustainable Tomorrow
DESCRIPTION:The School of Journalism and Communication of CUHK is thrilled to invite you to the CUHK CSRCom & Sustainability Hub’s 2024 Professional Workshop: Shaping Sustainable Tomorrow! This is a fantastic opportunity for you and your colleagues to engage with thought leaders in strategic communication\, Corporate Social Responsibility (CSR)\, Environmental\, Social\, and Governance (ESG) practices\, and sustainability. \nWorkshop Details: \nDate: 29 November 2024 (Friday)\nTime: 9:30 am to 4:30 pm\nVenue: Crystal Ballroom A\, Level B3\, Holiday Inn Golden Mile\, 50 Nathan Road\, Tsim Sha Tsui\, Hong Kong\nRegistration Fee:\n• HK$600 per person (pay on/ before 1 November 2024) /\n• HK$1\,000 per person (pay after 1 November 2024)\nLanguage: English \nConvener: Prof. Sora Kim (Professor\, Director of M.S.Sc. in Corporate Communication Programme\, Director of CSRCom & Sustainability Hub\,School of Journalism and Communication\, CUHK)\nCo-Convener: Prof. Shih-chia Wu (Associate Professor of Practice\, Deputy Director of M.S.Sc. in Corporate Communication Programme\, School of Journalism and Communication\, CUHK) \nRegistration deadline: 11:59 pm\, 15 November 2024 (Friday)\nRegistration link: https://cloud.itsc.cuhk.edu.hk/webform/view.php?id=13694212 \nJoin us for a dynamic day filled with insightful presentations\, interactive discussions\, and practical case studies designed to equip you with the knowledge and tools to foster sustainability in your organization. Whether you are looking to enhance your professional skills\, network with industry professionals\, or gain new insights\, this workshop promises to be highly enriching! \nSeats are limited\, so we encourage you to register early to secure your spot! Please find the promotional poster attached for more details about the workshop\, including our esteemed speakers and the exciting topics we will cover. \nIf you are interested\, please REGISTER HERE on or before 11:59 pm\, 15 November 2024 (Friday). \nFor more information\, please refer to the attached poster. Should you have any enquiries\, you may reach us at 3943-8705. \nWe look forward to your participation! \nFor more details\, please click here.
URL:https://starthub.asia/event/cuhk-csrcom-sustainability-hubs-2024-professional-workshop-shaping-sustainable-tomorrow/
LOCATION:Crystal Ballroom A\, Level B3\, Holiday Inn Golden Mile\, 50 Nathan Road\, Tsim Sha Tsui\, Hong Kong
CATEGORIES:Conference,Networking,Seminar,Workshop
ATTACH;FMTTYPE=image/jpeg:https://starthub.asia/wp-content/uploads/2024/10/CUHK-CSRCom-Sustainability-Hubs-2024-Professional-Workshop.jpg
END:VEVENT
BEGIN:VEVENT
DTSTART;TZID=Asia/Hong_Kong:20241126T100000
DTEND;TZID=Asia/Hong_Kong:20241126T140000
DTSTAMP:20260422T003426
CREATED:20241021T185335Z
LAST-MODIFIED:20241021T185335Z
UID:40936-1732615200-1732629600@starthub.asia
SUMMARY:Conquer Europe: Your Passport to Success with Search Marketing
DESCRIPTION:Get ready to unlock the European market with expert insights and actionable strategies for Chinese and Hong Kong brands. \nThis is the very first event of many worldwide\, enpowered and supported by the best.\nLearn from industry experts who have successfully navigated the European landscape\, bringing invaluable insights and practical advice for Chinese and Hong Kong brands. \nFor more details\, please click here.
URL:https://starthub.asia/event/conquer-europe-your-passport-to-success-with-search-marketing/
LOCATION:ARTIANT HUB (LAI CHI KOK)
CATEGORIES:Conference,Networking,Workshop
ATTACH;FMTTYPE=image/png:https://starthub.asia/wp-content/uploads/2024/10/Conquer-Europe-Your-Passport-to-Success-with-Search-Marketing.png
END:VEVENT
BEGIN:VEVENT
DTSTART;TZID=Asia/Hong_Kong:20241120T183000
DTEND;TZID=Asia/Hong_Kong:20241120T203000
DTSTAMP:20260422T003426
CREATED:20241021T185104Z
LAST-MODIFIED:20241021T185104Z
UID:40932-1732127400-1732134600@starthub.asia
SUMMARY:Sustainability Talent – Challenges & Future Demand
DESCRIPTION:As sustainability and environmental\, social\, and governance (ESG) practices become top priorities for companies\, there is a growing demand for professionals equipped with the skills to drive this transformation. \nBut how is the talent market evolving to meet these needs? \nJoin us for a discussion on the current and future state of sustainability and ESG talent in Hong Kong. We’ll explore the challenges facing this rapidly expanding sector\, from skills gaps and recruitment hurdles to retaining top talent. \nWhether you’re an HR professional\, a hiring manager\, or someone looking to build a career in this space\, this session will provide different perspectives on shaping a workforce that can succeed in a purpose-driven economy. \nFor more details\, please click here.
URL:https://starthub.asia/event/sustainability-talent-challenges-future-demand/
LOCATION:WLAB (Hong Kong)\, Hong Kong
CATEGORIES:Conference,Networking
ATTACH;FMTTYPE=image/jpeg:https://starthub.asia/wp-content/uploads/2024/10/Sustainability-Talent-–-Challenges-Future-Demand.jpg
END:VEVENT
BEGIN:VEVENT
DTSTART;TZID=Asia/Hong_Kong:20241118T090000
DTEND;TZID=Asia/Hong_Kong:20241121T163000
DTSTAMP:20260422T003426
CREATED:20241021T184134Z
LAST-MODIFIED:20241021T184134Z
UID:40924-1731920400-1732206600@starthub.asia
SUMMARY:The 37th Annual AVCJ Private Equity Forum
DESCRIPTION:Join us at the 37th Annual AVCJ Private Equity Forum\, the premier private markets gathering in Asia. This event unites the biggest names in global private equity and offers more insights\, opportunities\, and enhanced networking. \nOur program features 165+ speakers and is powered by superior data analytics\, helping investors understand trends and gain future insights. The AVCJ Forum is where the world’s leading LPs come to understand Asia’s global impact. \nOrganized by Mergermarket\, the forum blends five insightful conferences and an awards ceremony\, spotlighting promising market opportunities and pressing macroeconomic issues in private equity. \nFor more details\, please click here.
URL:https://starthub.asia/event/the-37th-annual-avcj-private-equity-forum/
LOCATION:FOUR SEASONS HOTEL HONG KONG\, Hong Kong
CATEGORIES:Conference,Networking,Webinar
ATTACH;FMTTYPE=image/png:https://starthub.asia/wp-content/uploads/2024/10/The-37th-Annual-AVCJ-Private-Equity-Forum.png
END:VEVENT
BEGIN:VEVENT
DTSTART;TZID=Asia/Hong_Kong:20241113T183000
DTEND;TZID=Asia/Hong_Kong:20241113T203000
DTSTAMP:20260422T003426
CREATED:20241021T183450Z
LAST-MODIFIED:20241021T183450Z
UID:40917-1731522600-1731529800@starthub.asia
SUMMARY:IAQ and ESG Impact Assessment #WICS24
DESCRIPTION:The panel focuses on the role of Indoor Air Quality (IAQ) in corporate settings and its impact on employee well-being and organizational performance. This comprehensive session will cover correlation between IAQ best practices\, employee well-being and ESG \nIt sheds lights on direct link between IAQ and employee health\, productivity\, and engagement. Industry pioneers will share best practices for enhancing air quality in corporate environments\, leading to reduced absenteeism and improved overall health outcomes. \nIt provides an inspiration of a future work environment – including better IAQ at common area\, breastfeeding room\, activity and meeting spaces\, and even home offices. \nIt also delves into the significance of IAQ within the ESG framework. Panelists will share on how improving IAQ can enhance a company’s ESG performance and discover methodologies for assessing and reporting IAQ impacts on sustainability scores. \nFor more details\, please click here.
URL:https://starthub.asia/event/iaq-and-esg-impact-assessment-wics24/
LOCATION:WLAB (Hong Kong)\, Hong Kong
CATEGORIES:Conference,Networking
ATTACH;FMTTYPE=image/jpeg:https://starthub.asia/wp-content/uploads/2024/10/IAQ-and-ESG-Impact-Assessment.jpg
END:VEVENT
BEGIN:VEVENT
DTSTART;TZID=Asia/Hong_Kong:20241030T183000
DTEND;TZID=Asia/Hong_Kong:20241030T203000
DTSTAMP:20260422T003426
CREATED:20241021T182734Z
LAST-MODIFIED:20241021T182734Z
UID:40911-1730313000-1730320200@starthub.asia
SUMMARY:How to Make Hong Kong a Better Place: A LIVE #impact Podcast #WICS24
DESCRIPTION:What if it were simple? What if we could all become part of the solution? \nJoin us for an evening with an incredible lineup of changemakers and leaders from Hong Kong’s social impact scene. Learn from them how we can create a more inclusive city. \nExperience a live recording of the #impact Podcast — one of Hong Kong’s first and top social impact podcasts\, ranking in the top 5% globally. Hosted by Regina Larko\, founder and host of #impact\, in collaboration with The DO. And if you’re feeling brave (which you will after this evening!)\, you’ll have the chance to share your own voice on the #impact Podcast too! \nFor more details\, please click here.
URL:https://starthub.asia/event/how-to-make-hong-kong-a-better-place-a-live-impact-podcast-wics24/
LOCATION:WLAB (Hong Kong)\, Hong Kong
CATEGORIES:Conference,Networking
ATTACH;FMTTYPE=image/jpeg:https://starthub.asia/wp-content/uploads/2024/10/How-to-Make-Hong-Kong-a-Better-Place.jpg
END:VEVENT
BEGIN:VEVENT
DTSTART;TZID=Asia/Hong_Kong:20241030T080000
DTEND;TZID=Asia/Hong_Kong:20241102T170000
DTSTAMP:20260422T003426
CREATED:20241021T182332Z
LAST-MODIFIED:20241021T182332Z
UID:40908-1730275200-1730566800@starthub.asia
SUMMARY:Eco Expo Asia
DESCRIPTION:Eco Expo Asia is a global trade platform for the environmental protection industry that showcases the latest green products\, equipment and state-of-the-art technology. The fair provides B2G\, B2B and B2C opportunities for the green industry through its strong support from Hong Kong\, Mainland China as well as international government authorities and industry associations. \nFor more details\, please click here.
URL:https://starthub.asia/event/eco-expo-asia/
LOCATION:AsiaWorld-Expo\, Hong Kong
CATEGORIES:Conference,Exhibition
END:VEVENT
BEGIN:VEVENT
DTSTART;TZID=Asia/Hong_Kong:20241024T100000
DTEND;TZID=Asia/Hong_Kong:20241024T163000
DTSTAMP:20260422T003426
CREATED:20241021T180401Z
LAST-MODIFIED:20241021T180401Z
UID:40881-1729764000-1729787400@starthub.asia
SUMMARY:AWS Innovate Conference – Migrate. Modernize. Build.
DESCRIPTION:AWS Innovate 2024 is the annual flagship virtual event that brings together industry experts\, thought leaders\, and successful customer stories to explore the latest cloud strategies and practical guidance in Hong Kong. Discover proven strategies for seamless workload migration\, application modernization\, and building AI-enabled solutions. This workshop is ideal for IT professionals\, developers\, startup founders and decision-makers interested in cloud adoption and optimization. \nFor more details\, please click here.
URL:https://starthub.asia/event/aws-innovate-conference-migrate-modernize-build/
LOCATION:Virtual
CATEGORIES:Conference,Webinar
ATTACH;FMTTYPE=image/png:https://starthub.asia/wp-content/uploads/2024/10/AWS-Innovate-Conference-–-Migrate.-Modernize.-Build.png
END:VEVENT
BEGIN:VEVENT
DTSTART;TZID=Asia/Hong_Kong:20241024T090000
DTEND;TZID=Asia/Hong_Kong:20241025T180000
DTSTAMP:20260422T003426
CREATED:20241021T174631Z
LAST-MODIFIED:20241021T174631Z
UID:40869-1729760400-1729879200@starthub.asia
SUMMARY:Cyberport Venture Capital Forum 2024
DESCRIPTION:Cyberport Venture Capital Forum (CVCF) is an annual flagship conference to discuss global successes of tech investment and latest trends of venture capitals markets in digital technology space. The last edition was concluded with over 2\,500 attendances from investors\, start-ups\, enterprises\, professional services and other business executives in Hong Kong and overseas\, and enthusiasts with over 120\,000 online views\, along with over 300 deal flows and more than 100 solution showcases. \nThis year’s theme is “Innovation Challenger: Building New Venture Visions”\, which will discuss how funders and founders navigate the new funding reality and increasingly complex\, competitive global landscape amidst the prevailing global turbulence. The event will gather industry leaders and entrepreneurs to decode strategies for building bold\, compelling visions that can captivate investors\, forge valuable corporate partnerships\, and unlock lucrative market collaborations to drive sustainable growth. \nGlobal/regional venture experts and entrepreneurial leaders will offer actionable insights on the latest fundraising and tech trends\, market dynamics\, government’s I&T support\, and leverage corporate venture\, success stories and AI/Web3 deep-dive. \nFor more details\, please click here.
URL:https://starthub.asia/event/cyberport-venture-capital-forum-2024/
LOCATION:Cyberport
CATEGORIES:Conference,Exhibition,Networking,Pitching,Seminar,Workshop
ATTACH;FMTTYPE=image/png:https://starthub.asia/wp-content/uploads/2024/10/Cyberport-Venture-Capital-Forum-2024.png
END:VEVENT
BEGIN:VEVENT
DTSTART;TZID=Asia/Hong_Kong:20241014T090000
DTEND;TZID=Asia/Hong_Kong:20241014T170000
DTSTAMP:20260422T003426
CREATED:20241021T054754Z
LAST-MODIFIED:20241021T054754Z
UID:40784-1728896400-1728925200@starthub.asia
SUMMARY:Global Youth Entrepreneurs Forum 2024
DESCRIPTION:【#GlobalYouthEntrepreneursForum2024】Opens for Registration\nArtificial intelligence (AI) presents today’s entrepreneurs with a plethora of opportunities and challenges. In the face of the rise of AI\, The Hong Kong Federation of Youth Groups’ (HKFYG) flagship event\, the Global Youth Entrepreneurs Forum (GYEF)\, will be held from 14 to 22 October. Themed “The New Wave of Artificial Intelligence in Business”\, this year’s Forum will dive into the vast opportunities that AI offers to the global entrepreneurial landscape and the key trends shaping its growth. Spanning across Hong Kong\, Macau and Shunde\, Foshan\, the Forum is set to bring together luminaries and visionaries from around the world\, from entrepreneurs to investors and industry experts.\nThis year\, the Forum is centred on how AI technology is reshaping different industries\, creating new opportunities for young entrepreneurs. Featured topics include emerging business opportunities\, real-world applications\, female entrepreneurship and transformation in traditional industries. Venture capital roadshows and business practice workshops will be held concurrently alongside sessions and discussions. The Forum thus provides a conducive platform for delegates to gain insights\, raise funds\, get inspired to turn discoveries into breakthroughs\, and harness the power of AI in an exponential age.\n14.10.2024 | Hong Kong\n15-16.10.2024 | Macau(Full)\n21-22.10.2024 | Shunde\, Foshan \nFor more details\, please click here.
URL:https://starthub.asia/event/global-youth-entrepreneurs-forum-2024/
LOCATION:4/F\, HKPC Building\, Conference Hall\, 78 Tat Chee Avenue\, Kowloon\, Hong Kong\, Hong Kong
CATEGORIES:Conference
ATTACH;FMTTYPE=image/png:https://starthub.asia/wp-content/uploads/2024/10/Global-Youth-Entrepreneurs-Forum-2024.png
END:VEVENT
BEGIN:VEVENT
DTSTART;TZID=Asia/Hong_Kong:20241010T140000
DTEND;TZID=Asia/Hong_Kong:20241130T210000
DTSTAMP:20260422T003426
CREATED:20241021T054244Z
LAST-MODIFIED:20241021T054244Z
UID:40779-1728568800-1733000400@starthub.asia
SUMMARY:WLAB’s Inclusive Cities Summit 2024 #WICS24
DESCRIPTION:WLAB’s Inclusive Cities Summit (WICS) promotes and builds momentum for liveable\, inclusive\, sustainable\, equitable\, and culturally-vibrant cities. The summit delves into the intersections of Inclusive Cities\, Social Impact\, Sustainability\, Youth Empowerment\, Aging Society\, Heritage and Future of Work\, all within the context of Hong Kong’s evolving landscape. \nFor more details\, please click here.
URL:https://starthub.asia/event/wlabs-inclusive-cities-summit-2024-wics24/
LOCATION:WLAB @ Quarry Bay
CATEGORIES:Conference,Networking
ATTACH;FMTTYPE=image/jpeg:https://starthub.asia/wp-content/uploads/2024/10/WLABs-Inclusive-Cities-Summit-2024-WICS24.jpg
END:VEVENT
BEGIN:VEVENT
DTSTART;TZID=Asia/Hong_Kong:20241010T080000
DTEND;TZID=Asia/Hong_Kong:20241130T170000
DTSTAMP:20260422T003426
CREATED:20241021T175426Z
LAST-MODIFIED:20241021T175426Z
UID:40878-1728547200-1732986000@starthub.asia
SUMMARY:WLAB’s Inclusive Cities Summit 2024 #WICS24
DESCRIPTION:WLAB’s Inclusive Cities Summit (WICS) promotes and builds momentum for liveable\, inclusive\, sustainable\, equitable\, and culturally-vibrant cities. The summit delves into the intersections of Inclusive Cities\, Social Impact\, Sustainability\, Youth Empowerment\, Aging Society\, Heritage and Future of Work\, all within the context of Hong Kong’s evolving landscape. \nFor more details\, please click here.
URL:https://starthub.asia/event/wlabs-inclusive-cities-summit-2024-wics24-2/
LOCATION:WLAB @ Quarry Bay
CATEGORIES:Conference,Networking
ATTACH;FMTTYPE=image/jpeg:https://starthub.asia/wp-content/uploads/2024/10/WLABs-Inclusive-Cities-Summit-2024-WICS24-1.jpg
END:VEVENT
BEGIN:VEVENT
DTSTART;TZID=Asia/Hong_Kong:20241004T103000
DTEND;TZID=Asia/Hong_Kong:20241004T183000
DTSTAMP:20260422T003426
CREATED:20241020T093732Z
LAST-MODIFIED:20241020T093732Z
UID:40749-1728037800-1728066600@starthub.asia
SUMMARY:inno4life 創意文化及科技創新展覽 2024
DESCRIPTION:第三屆Inno4life—創意文化及科技創新展覽強勢回歸。Inno4life-創意文化及科技創新2024將於2024年10月4日至6日假香港灣仔會議展覽中心3樓展覽廳F及G舉行。是次的展覽共有五大關鍵區域，將會繼續向公眾分別展示更多在美容和生活、醫療技術、教育發展、環境以及金融科技四個方面的創新科技項目和技術。展會為參觀者提供豐富的參觀體驗，包括購物、最新生活科技展示、工作坊和講座。 \nInno4life-創意文化及科技創新展覽2024讓訪客花一個周末，迎接創意創新的生活態度。 \n欲知更多信息，請點擊這裏。
URL:https://starthub.asia/event/inno4life-%e5%89%b5%e6%84%8f%e6%96%87%e5%8c%96%e5%8f%8a%e7%a7%91%e6%8a%80%e5%89%b5%e6%96%b0%e5%b1%95%e8%a6%bd-2024/
LOCATION:香港會議展覽中心 Address: 1 Expo Dr\, Wan Chai\, Hong Kong
CATEGORIES:Conference,Exhibition
ATTACH;FMTTYPE=image/jpeg:https://starthub.asia/wp-content/uploads/2024/10/inno4life-創意文化及科技創新展覽-2024.jpg
END:VEVENT
BEGIN:VEVENT
DTSTART;TZID=Asia/Hong_Kong:20240712T000000
DTEND;TZID=Asia/Hong_Kong:20240713T000000
DTSTAMP:20260422T003426
CREATED:20240603T082126Z
LAST-MODIFIED:20240713T075836Z
UID:35415-1720742400-1720828800@starthub.asia
SUMMARY:ReThink HK
DESCRIPTION:ReThink HK is Hong Kong’s best-attended and most ambitious business event for sustainable development. \nThe 4th edition\, which hosted over 6\,000 attendees in September 2023\, was designed specifically for business leaders\, sustainability practitioners\, and those responsible for researching and resourcing net-zero and ESG strategies. \nThe two-day conference and expo demonstrated the business case for a just and sustainable transition\, supported by real solutions that will accelerate Hong Kong towards a more resilient and sustainable future. \nFor more information\, please visit HERE.
URL:https://starthub.asia/event/rethink-hk/
LOCATION:Hall 1CDE\, HKCEC\, WanChai\, Hong Kong
CATEGORIES:Conference
ATTACH;FMTTYPE=image/jpeg:https://starthub.asia/wp-content/uploads/2024/06/ReThink-HK.jpg
END:VEVENT
BEGIN:VEVENT
DTSTART;TZID=Asia/Hong_Kong:20240711T000000
DTEND;TZID=Asia/Hong_Kong:20240711T000000
DTSTAMP:20260422T003426
CREATED:20240603T081811Z
LAST-MODIFIED:20240713T075902Z
UID:35410-1720656000-1720656000@starthub.asia
SUMMARY:Navigating Volatility: Unleashing Operational Efficiencies and Innovative Business Models
DESCRIPTION:Continuing to grow sustainably amidst intense economic and social volatility necessitates organizations to discover novel efficiencies in their operations\, find ways to enhance productivity\, and pioneer innovative business models. To effectively navigate these challenges\, CIOs and senior IT executives must develop a technology strategy that is adaptable to change and be resilient in the face of uncertainty. \nFor more information\, please visit HERE.
URL:https://starthub.asia/event/navigating-volatility-unleashing-operational-efficiencies-and-innovative-business-models/
CATEGORIES:Conference
ATTACH;FMTTYPE=image/png:https://starthub.asia/wp-content/uploads/2024/06/Unleashing-Operational-Efficiencies-and-Innovative-Business-Models.png
END:VEVENT
BEGIN:VEVENT
DTSTART;TZID=Asia/Hong_Kong:20240709T000000
DTEND;TZID=Asia/Hong_Kong:20240709T000000
DTSTAMP:20260422T003426
CREATED:20240603T081628Z
LAST-MODIFIED:20240713T080011Z
UID:35406-1720483200-1720483200@starthub.asia
SUMMARY:The MarTech Summit Hong Kong
DESCRIPTION:In today’s dynamic landscape\, upgrading to high-performance MarTech solutions is crucial for success. As we gear up for The MarTech Summit Hong Kong\, we’re thrilled to announce a fresh speaker lineup and an agenda packed with engaged panel discussions\, fireside chats\, keynote presentations\, and more! \nWith 85% attendance from senior leadership\, including C-suite executives\, department heads\, directors\, and others\, you’re guaranteed unparalleled opportunities to learn and network with industry leaders. \nThis marks our third consecutive year hosting the event in Hong Kong\, demonstrating our commitment to delivering exceptional experiences and fostering invaluable connections in this vibrant city. \nThis summit is designed for Senior-Level executives in functions such as:\nMarketing & Technology | Customer Experience (CX) & Engagement | Data & Consumer Insights | E-commerce Marketing | Digital Strategy | Innovation | Social Media | Content Strategy & Storytelling | CRM | Performance Marketing | Automation | Digital Transformation | Metaverse | Gamification
URL:https://starthub.asia/event/the-martech-summit-hong-kong/
LOCATION:Grand Ballroom\, Kowloon Shangri-La
CATEGORIES:Conference
ATTACH;FMTTYPE=image/jpeg:https://starthub.asia/wp-content/uploads/2024/06/The-MarTech-Summit-Hong-Kong.jpg
END:VEVENT
BEGIN:VEVENT
DTSTART;TZID=Asia/Hong_Kong:20240612T000000
DTEND;TZID=Asia/Hong_Kong:20240612T010000
DTSTAMP:20260422T003426
CREATED:20240603T075431Z
LAST-MODIFIED:20240713T080128Z
UID:35383-1718150400-1718154000@starthub.asia
SUMMARY:2024 HONG KONG RETAIL SUMMIT – Retail Revolution for Experiential Shopping
DESCRIPTION:2024 marks the critical moment of economic recovery for various industries in the era of post-pandemic. In view of the tremendous changes in consumption patterns and customer experience\, “experiential shopping experience” is playing a uprising demand in consumer market in the post-pandemic retail industry landscape. \nThis year\, Hong Kong Retail Summit will be signified on the overarching theme of “Retail Revolution for Experiential Shopping” and held on 12 June 2024 (Wednesday) at HKCEC New Wing N101\, in the format of full-day physical conference in 4 sessions plus a networking luncheon exclusive for speakers and sponsors.
URL:https://starthub.asia/event/2024-hong-kong-retail-summit-retail-revolution-for-experiential-shopping/
LOCATION:HKCEC\, 1 Expo Dr\, Wan Chai\, Hong Kong
CATEGORIES:Conference
ATTACH;FMTTYPE=image/png:https://starthub.asia/wp-content/uploads/2024/06/2024-HONG-KONG-RETAIL-SUMMIT-–-Retail-Revolution-for-Experiential-Shopping.png
END:VEVENT
BEGIN:VEVENT
DTSTART;TZID=Asia/Hong_Kong:20240606T000000
DTEND;TZID=Asia/Hong_Kong:20240606T170000
DTSTAMP:20260422T003426
CREATED:20240531T000710Z
LAST-MODIFIED:20240713T080859Z
UID:35371-1717632000-1717693200@starthub.asia
SUMMARY:2024 FEDP Forum: Stay Ahead at Green New Era: Unlocking Businesses’ Potential
DESCRIPTION:Join us for the highly anticipated “Stay Ahead at Green New Era: Unlocking Businesses’ Potential” forum. This event is a powerhouse of knowledge and networking\, bringing together industry leaders to explore the frontiers of sustainable finance and innovation. \nWhat to Expect?\n\nInsights on RegTech: Dive deep into automating compliance and harnessing technology for efficiency.\nExpert Talks on ESG Data Solutions: Learn about innovative green tech and ESG data collection solutions.\nSustainable Business Strategies: Discover how sustainability can be seamlessly integrated into your business practices.\n\nDon’t miss out on this opportunity to shape the future of sustainable finance. Register now to secure your spot and unlock the potential for a greener and more sustainable future for businesses and communities alike. \nForum Details:\nDate: 6 June 2024 (Thursday) 14:30 – 16:30\nLanguage: English \nFree Registration Method: \n\nTo join in-person\, please register in advance for this event#: https://rb.gy/7kz8k8\n(#You will receive a confirmation email containing information about joining the event In-person.) OR\nTo join in Virtual\, please register in advance for this webinar*: https://astri-org.zoom.us/webinar/register/WN_c8pHtCpGR5O28K6bS5saog (* You will receive a confirmation email containing information about joining the webinar.)\n\nProgramme Rundown:\nWelcoming and Opening Remarks:\nDenis YIP\, Chief Executive Officer\, ASTRI\nEdward AU\, Managing Partner\, Southern Region\, Deloitte China \nKeynote Section- Embracing Sustainable Growth in the Green New Era\nKeynote Speaker: Ms Jayne Chan\, Head of Startups\, InvestHK \nPanel 1 – Regtech And Compliance Innovation: Key Trends & Challenges \nModerator:\nMr Alvin LI\, Head\, Supervisory Technology Division\, Banking Supervision Department\, Hong Kong Monetary Authority \nSpeakers:\n\nMr. David CHAN\, Chief Information Security Officer of Hang Seng Bank\nMr Alan CHEUNG\, Chief Director\, Artificial Intelligence & Trust Technologies\, ASTRI\nMs Millie PAU\, Alternate Chief Executive & Chief Compliance Officer\, WeLab Bank Limite\nMs Adelide YEUNG\, Strategy\, Risk and Transactions Partner\, Deloitte China\n\nPanel 2 – Dialogues with Innovators – Building Resilience: The Intersection of Climate Change\, ESG\, and Business Strategy \nModerator:\nMr Simon LEE\, Senior Director\, FinTech\, PropTech & Art-Tech\, ASTRI \nPotential Speakers:\n\nMs Michelle AU\, Director\, Sustainability\, China State Construction Engineering (Hong Kong) Ltd\nMr Ricky LEUNG\, Deputy Director\, Artificial Intelligence & Trust Technologies\, ASTRI\nMs Rosana Wong\, Deputy Chair\, Yau Lee Holding Limited\n\nClosing Remarks Robert LUI\, Hong Kong Digital Asset Leader\, Deloitte China \nPlease feel free to contact us at fedp@astri.org if you have any questions. Thank you!
URL:https://starthub.asia/event/2024-fedp-forum-stay-ahead-at-green-new-era-unlocking-businesses-potential/
LOCATION:Deloitte\,\, One Pacific Place\,\, Hong Kong
CATEGORIES:Conference,Networking,Seminar, Webinar
ATTACH;FMTTYPE=image/png:https://starthub.asia/wp-content/uploads/2024/05/2024-FEDP-Forum.png
END:VEVENT
END:VCALENDAR