BEGIN:VCALENDAR
VERSION:2.0
PRODID:-//Starthub Asia - ECPv6.15.14//NONSGML v1.0//EN
CALSCALE:GREGORIAN
METHOD:PUBLISH
X-WR-CALNAME:Starthub Asia
X-ORIGINAL-URL:https://starthub.asia
X-WR-CALDESC:Events for Starthub Asia
REFRESH-INTERVAL;VALUE=DURATION:PT1H
X-Robots-Tag:noindex
X-PUBLISHED-TTL:PT1H
BEGIN:VTIMEZONE
TZID:Asia/Hong_Kong
BEGIN:STANDARD
TZOFFSETFROM:+0800
TZOFFSETTO:+0800
TZNAME:HKT
DTSTART:20240101T000000
END:STANDARD
END:VTIMEZONE
BEGIN:VEVENT
DTSTART;TZID=Asia/Hong_Kong:20251009T183000
DTEND;TZID=Asia/Hong_Kong:20251009T203000
DTSTAMP:20260422T032217
CREATED:20251019T152656Z
LAST-MODIFIED:20251019T152656Z
UID:62674-1760034600-1760041800@starthub.asia
SUMMARY:Start Smart\, Scale Smarter: A Masterclass for Hong Kong Entrepreneurs
DESCRIPTION:Hong Kong is a launchpad for entrepreneurs\, but hidden roadblocks can stall your growth before you even take off.\n​That’s why Aspire and Osome\, in partnership with e27\, are bringing together Hong Kong’s entrepreneurial community for a closed-door masterclass on building strong foundations and scaling smarter.\n​This isn’t another surface-level talk. It’s a hands-on\, interactive session designed to give you: \n​Compliance clarity: how to stay on top of regulations without drowning in paperwork \n​Financial confidence: the numbers and reporting that actually matter to investors and stakeholders \n​Smart systems: how automation frees up your time to focus on growth \n​Scaling strategies: proven ways to grow from Hong Kong into Southeast Asia \n​Why Attend?\n​✨ Learn what matters most – cut through the noise with practical insights on compliance\, finance\, and growth.\n✨ Go beyond theory – walk away with frameworks and tools you can apply immediately.\n✨ Build your network – connect with founders\, freelancers\, creators\, and leaders facing the same challenges.\n✨ Scale with confidence – discover smarter ways to grow in Hong Kong and beyond. \n​And because growth doesn’t just happen in the session\, you’ll also connect with peers over dinner — where some of the best insights are shared off-stage. \n​Meet the Speakers\nGigi Li — Channel Partnerships Director\, Aspire\nWith deep experience across Greater China\, Gigi builds partnerships that help businesses grow. She’ll cover cash flow mastery\, funding readiness\, and how to scale from Hong Kong into Southeast Asia with lean finance ops. \n​Tiffany Lew — Osome Business Expert\, Osome Hong Kong\nFormerly with Salesforce and Square\, Tiffany now helps Hong Kong founders avoid setup pitfalls and stay compliant with ease. She’ll share how AI + expert support can streamline accounting\, payroll\, and tax. \n🔥 Seats are limited — once they’re filled\, they’re gone.\nDon’t miss this chance to sharpen your growth strategy and be part of the conversation shaping Hong Kong’s next wave of builders. \n​🚀 Secure your seat and scale smarter in Hong Kong! \nFor more details\, please click here.
URL:https://starthub.asia/event/start-smart-scale-smarter-a-masterclass-for-hong-kong-entrepreneurs/
LOCATION:Garage Society Wan Chai Lockhart\, Beverly House 1/F-2/F\, Lockhart Road\, Wan Chai
CATEGORIES:Course,Seminar,Workshop
ATTACH;FMTTYPE=image/png:https://starthub.asia/wp-content/uploads/2025/10/Start-Smart-Scale-Smarter-A-Masterclass-for-Hong-Kong-Entrepreneurs-Update.png
END:VEVENT
BEGIN:VEVENT
DTSTART;TZID=Asia/Hong_Kong:20251021T180000
DTEND;TZID=Asia/Hong_Kong:20251021T193000
DTSTAMP:20260422T032218
CREATED:20251020T121937Z
LAST-MODIFIED:20251020T121955Z
UID:62738-1761069600-1761075000@starthub.asia
SUMMARY:Session 3: Drafting Patents — From Idea to Billion-Dollar Asset
DESCRIPTION:About the Session \n​Breakthrough research often grabs headlines but rarely reaches the market. The reason? Without a strong patent specification\, innovations stay trapped in labs for years. \n​In this session\, you’ll learn to identify key inventive features using clear language\, well-supported specifications with broad claims that protect your ideas — and keep competitors at bay. \n​*Seating is on a first-come\, first-served basis. To secure your spot\, please arrive 10–15 minutes early. \nFor more details\, please click here.
URL:https://starthub.asia/event/session-3-drafting-patents-from-idea-to-billion-dollar-asset/
LOCATION:The University of Hong Kong Tsui Tsin Tong Building
CATEGORIES:Course,Workshop
ATTACH;FMTTYPE=image/jpeg:https://starthub.asia/wp-content/uploads/2025/10/Session-3-Drafting-Patents-—-From-Idea-to-Billion-Dollar-Asset.jpg
END:VEVENT
BEGIN:VEVENT
DTSTART;TZID=Asia/Hong_Kong:20251024T143000
DTEND;TZID=Asia/Hong_Kong:20251024T170000
DTSTAMP:20260422T032218
CREATED:20251020T123438Z
LAST-MODIFIED:20251020T123438Z
UID:62750-1761316200-1761325200@starthub.asia
SUMMARY:IP201 Generative AI – IP Concept and Legal Considerations
DESCRIPTION:This course aims to introduce the involvement of IP in the Generative AI\, allowing participants to understand the relevant IP concept\, the potential legal issues associated with Generative AI and how to protect IP rights in the age of AI. \nFor more details\, please click here.
URL:https://starthub.asia/event/ip201-generative-ai-ip-concept-and-legal-considerations/
LOCATION:VTC Tower\, 27 Wood Road\, Wan Chai\, Hong Kong\, Hong Kong
CATEGORIES:Course
ATTACH;FMTTYPE=image/jpeg:https://starthub.asia/wp-content/uploads/2025/10/IP201-CORRECT-IMAGE-scaled-1.jpg
END:VEVENT
END:VCALENDAR