BEGIN:VCALENDAR
VERSION:2.0
PRODID:-//Starthub Asia - ECPv6.15.14//NONSGML v1.0//EN
CALSCALE:GREGORIAN
METHOD:PUBLISH
X-WR-CALNAME:Starthub Asia
X-ORIGINAL-URL:https://starthub.asia
X-WR-CALDESC:Events for Starthub Asia
REFRESH-INTERVAL;VALUE=DURATION:PT1H
X-Robots-Tag:noindex
X-PUBLISHED-TTL:PT1H
BEGIN:VTIMEZONE
TZID:Asia/Hong_Kong
BEGIN:STANDARD
TZOFFSETFROM:+0800
TZOFFSETTO:+0800
TZNAME:HKT
DTSTART:20250101T000000
END:STANDARD
END:VTIMEZONE
BEGIN:VEVENT
DTSTART;TZID=Asia/Hong_Kong:20260312T100000
DTEND;TZID=Asia/Hong_Kong:20260312T170000
DTSTAMP:20260421T173108
CREATED:20260415T061708Z
LAST-MODIFIED:20260415T061708Z
UID:65808-1773309600-1773334800@starthub.asia
SUMMARY:IP306 IP Valuation
DESCRIPTION:This course aims to introduce the concept of intellectual property (IP) valuation and its application in managing and optimising the IP asset portfolios\, providing participants with an overview of the core valuation concepts\, key methodologies and relevant strategies related to IP valuation. \nFor more details\, please click here.
URL:https://starthub.asia/event/ip306-ip-valuation/
LOCATION:VTC Tower\, 27 Wood Road\, Wan Chai\, Hong Kong\, Hong Kong
CATEGORIES:Course
ATTACH;FMTTYPE=image/jpeg:https://starthub.asia/wp-content/uploads/2026/04/IP306-IP-Valuation.jpeg
END:VEVENT
END:VCALENDAR