BEGIN:VCALENDAR
VERSION:2.0
PRODID:-//Starthub Asia - ECPv6.15.14//NONSGML v1.0//EN
CALSCALE:GREGORIAN
METHOD:PUBLISH
X-WR-CALNAME:Starthub Asia
X-ORIGINAL-URL:https://starthub.asia
X-WR-CALDESC:Events for Starthub Asia
REFRESH-INTERVAL;VALUE=DURATION:PT1H
X-Robots-Tag:noindex
X-PUBLISHED-TTL:PT1H
BEGIN:VTIMEZONE
TZID:Asia/Hong_Kong
BEGIN:STANDARD
TZOFFSETFROM:+0800
TZOFFSETTO:+0800
TZNAME:HKT
DTSTART:20230101T000000
END:STANDARD
END:VTIMEZONE
BEGIN:VEVENT
DTSTART;TZID=Asia/Hong_Kong:20260421T093000
DTEND;TZID=Asia/Hong_Kong:20260421T113000
DTSTAMP:20260421T173729
CREATED:20260414T162432Z
LAST-MODIFIED:20260415T093748Z
UID:65594-1776763800-1776771000@starthub.asia
SUMMARY:Collaborate\, Network\, and Explore High-Potential Investments
DESCRIPTION:Dear Investors\, \nWe are pleased to invite you to the Investor Breakfast Roundtable\, co-hosted by StartHub Asia and VNTR\, with venue sponsorship by Eaton Club. This exclusive event is tailored for forward-thinking investors to connect\, collaborate\, and explore emerging opportunities across high-growth sectors such as AI\, HealthTech\, FinTech\, GreenTech\, and more. \nThis roundtable provides a unique platform for deal flow exploration\, peer networking\, and access to insights from key ecosystem leaders. \n\nEvent Details \n\nDate: Tuesday\, 21 April 2026\nTime: 9:30 AM – 11:30 AM (Registration starts at 9:30 AM)\nVenue: Park Studio\, 5/F\, Eaton Club\, Champion Tower\, Three Garden Road\, Central\, HK\nCatering: Enjoy coffee\, tea\, and a gourmet breakfast menu\, featuring:\n\n\nCroque Monsieur\nAssorted Muffins\nPesto Parmesan Madeleines\nLemon Tarts\n\n\nWhat to Expect \n\nInsights into Emerging Opportunities\n\nEngage in thoughtful discussions on high-potential sectors and industry trends shaping the future of investment.\n\n\nInvestor Networking & Community Building\n\nConnect with a closed circle of 25 investors in an intimate\, invitation-only setting. Build valuable relationships and exchange actionable insights with like-minded peers.\n\n\nEcosystem Updates & Announcements\n\nStartHub Asia: Be the first to learn about the soft launch of the AI Matching & Community Circle Platform\, designed to streamline connections between investors and opportunities.\nVNTR: Updates on the VNTR Investor Circle\, including exclusive global events and tailored investment initiatives.\nEaton Club: Introduction to Eaton Club’s premium coworking and event spaces\, ideal for hosting professional gatherings in Hong Kong.\n\n\nDeal Flow Exploration\n\nGain access to curated investment opportunities from high-growth companies and emerging innovation clusters\, presented in a succinct and professional format.\n\n\n\n\nWhy Attend? \nThis roundtable is a platform for high-impact networking\, deal flow exploration\, and insightful discussions. Whether you’re seeking to expand your portfolio or forge new connections in the investment community\, this event offers the perfect opportunity to engage with key players in the field. \nRSVP Details \n​This event is free of charge and by invitation only. Limited to 25 investors. \nReserve Your Spot Now \n\nAbout Us \n\nStartHub Asia: A collaborative platform designed to connect investors and partners with high-potential opportunities in innovation clusters such as AI\, HealthTech\, and GreenTech\, through bespoke tools\, offline networking events\, and strategic partnerships.\nVNTR: The leading global investor community\, VNTR facilitates collaboration\, co-investment\, and deal flow among top global investors through a network of 5\,000+ professionals worldwide.\nEaton Club: Hong Kong’s premier coworking and event space provider\, offering modern\, professional venues that inspire collaboration and innovation.\n\n\nWe look forward to welcoming you to this exclusive gathering of investors\, innovators\, and thought leaders. \nWarm regards\,\nPaul Chan\nCo-founder and CEO\nStartHub Asia\nContact:  +852 52286502 (WhatsApp)
URL:https://starthub.asia/event/collaborate-network-and-explore-high-potential-investments/
LOCATION:Park Studio\, 5/F\, Eaton Club\, Champion Tower\, Three Garden Road\, Central\, HK\, Hong Kong
CATEGORIES:Community Events,Conference,Conference Workshop,Course,Exhibition,Exhibition Networking,Funding & Expansion
ATTACH;FMTTYPE=image/png:https://starthub.asia/wp-content/uploads/2026/04/Collaborate-Network-and-Explore-High-Potential-Investments.png
END:VEVENT
BEGIN:VEVENT
DTSTART;TZID=Asia/Hong_Kong:20260312T100000
DTEND;TZID=Asia/Hong_Kong:20260312T170000
DTSTAMP:20260421T173729
CREATED:20260415T061708Z
LAST-MODIFIED:20260415T061708Z
UID:65808-1773309600-1773334800@starthub.asia
SUMMARY:IP306 IP Valuation
DESCRIPTION:This course aims to introduce the concept of intellectual property (IP) valuation and its application in managing and optimising the IP asset portfolios\, providing participants with an overview of the core valuation concepts\, key methodologies and relevant strategies related to IP valuation. \nFor more details\, please click here.
URL:https://starthub.asia/event/ip306-ip-valuation/
LOCATION:VTC Tower\, 27 Wood Road\, Wan Chai\, Hong Kong\, Hong Kong
CATEGORIES:Course
ATTACH;FMTTYPE=image/jpeg:https://starthub.asia/wp-content/uploads/2026/04/IP306-IP-Valuation.jpeg
END:VEVENT
BEGIN:VEVENT
DTSTART;TZID=Asia/Hong_Kong:20260114T133000
DTEND;TZID=Asia/Hong_Kong:20260114T150000
DTSTAMP:20260421T173729
CREATED:20260415T085851Z
LAST-MODIFIED:20260415T085851Z
UID:65971-1768397400-1768402800@starthub.asia
SUMMARY:[數碼學堂] AI x 機械人超低門檻入場攻略 助力市場營銷兼爆升生意
DESCRIPTION:中小企老闆最頭痛的三大難題：人手不足、成本上升、客戶要求越來越高。競爭越來越激烈，如何突圍而出？競爭對手已開始部署AI與機械人技術搶佔市場先機，中小企如何在有限資源下快速入場追落後？ \n本月「數碼學堂」邀請了兩位業界頂尖專家，分享如何使用製圖、寫文章以外的進階AI技術，以及如何選擇適合的機械人方案，助你提升營銷效率，拓展海外市場。 \n同場亦會為大家講解貿發局的「展覽+」(EXHIBITION+)融合展覽模式，助大家延續推廣優勢，發揮線上線下協同效應，捉緊每個商機。參加者可即場發問，與專家現場交流及聽取專業意見，亦可於會後與業內人士及到場專家交流分享。 \nFor more details\, please click here.
URL:https://starthub.asia/event/%e6%95%b8%e7%a2%bc%e5%ad%b8%e5%a0%82-ai-x-%e6%a9%9f%e6%a2%b0%e4%ba%ba%e8%b6%85%e4%bd%8e%e9%96%80%e6%aa%bb%e5%85%a5%e5%a0%b4%e6%94%bb%e7%95%a5-%e5%8a%a9%e5%8a%9b%e5%b8%82%e5%a0%b4%e7%87%9f%e9%8a%b7/
LOCATION:香港會議展覽中心3樓大會堂前廳 「the STAGE」+ 網上直播\, Hong Kong
CATEGORIES:Course,Seminar,Webinar,Workshop
ATTACH;FMTTYPE=image/png:https://starthub.asia/wp-content/uploads/2026/04/數碼學堂-AI-x-機械人超低門檻入場攻略-助力市場營銷兼爆升生意.png
END:VEVENT
BEGIN:VEVENT
DTSTART;TZID=Asia/Hong_Kong:20251202T090000
DTEND;TZID=Asia/Hong_Kong:20251203T170000
DTSTAMP:20260421T173729
CREATED:20251021T055916Z
LAST-MODIFIED:20251021T055916Z
UID:62929-1764666000-1764781200@starthub.asia
SUMMARY:2025 Global Innovation Show
DESCRIPTION:The 2025 Global Innovation Show (GIS) (Hong Kong) is set to take place on December 2–3\, 2025 at The AsiaWorld-Expo in Hong Kong. \nThis premier technology event is hosted by the Global Tech Innovation Alliance (Hong Kong) (GTIA) and co-hosted by the Silicon Valley Innovation & Entrepreneurship Forum (SVIEF). It is organized by Beijing Gaochuang Technology Co.\, Ltd and Beijing Zhongji Shengshi Intelligent Technology Co.\, Ltd. (2045 Accelerator).The 2025 GIS is strongly supported by the China Chamber of International Commerce (CCOIC/CCPIT)\, which will organize domestic and international enterprises and distinguished guests to attend. \nDedicated to advancing global exchanges and collaboration in scientific and technological innovation\, GIS champions the principle of “Technology for Good” and “AI for Good”. As a world-class platform for the launch of cutting-edge innovations\, it will bring together over 900 pioneering start-ups from leading innovation hubs including Europe\, the United States\, China\, Japan\, Singapore\, and Australia\, alongside more than 100 global Fortune 500 companies\, unicorns\, and industry leaders. The focus will be on the industrialization of disruptive technologies. \nWith the collaboration of Hong Kong\, Guangzhou\, Shenzhen\, and Macao\, GIS is committed to creating a “landmark of the Greater Bay Area” for technological innovation and industrialization. Rooted in Hong Kong and leveraging the collective strengths of the Guangdong-Hong Kong-Macao Greater Bay Area\, GIS aims to help the region become a global innovation hub while building a three-tiered ecosystem that integrates technology\, capital\, and markets. The event will bring together over 500 top investors and more than 1\,000 professional global buyers onsite\, establishing a pragmatic platform for business matching and transactions. \nThe exhibition will feature eight key sectors: AI + Embodied Robot\, New energy & Automotive Technology、Consumer Electronics、Smart Home Internet of Things、Big Data+Enterprise Technology\, Advanced Manufacturing\, Biomedical Technology\, and G-Star New Concept Startups. In addition\, an international pavilion matrix will showcase five key country/region themes — the United States\, Europe\, South Korea\, ASEAN\, and Hong Kong — providing a comprehensive display of the world’s cutting-edge technological innovations. \nFor more details\, please click here.
URL:https://starthub.asia/event/2025-global-innovation-show/
LOCATION:Hong Kong AsianWorld Expo
CATEGORIES:Conference,Course,Exhibition,Networking,Pitching,Tour
ATTACH;FMTTYPE=image/jpeg:https://starthub.asia/wp-content/uploads/2025/10/2025-Global-Innovation-Show.jpeg
END:VEVENT
BEGIN:VEVENT
DTSTART;TZID=Asia/Hong_Kong:20251111T120000
DTEND;TZID=Asia/Hong_Kong:20251111T123000
DTSTAMP:20260421T173729
CREATED:20251020T183931Z
LAST-MODIFIED:20251020T183931Z
UID:62898-1762862400-1762864200@starthub.asia
SUMMARY:[Lunch & Learn Webinar Series #71] 用數據與AI升級你的行銷！讓曝光、互動、業績一次到位
DESCRIPTION:在數據與人工智能驅動下，品牌需要採用創新策略以實現業務增長。本次活動將探討如何利用數據和 AI 技術，提升品牌的營銷效率，擴大客戶基礎，並增強客戶參與度。參加者將獲得實用的技能和見解，幫助他們在不斷變化的市場環境中脫穎而出。 \n內容\n– 行銷成效看得見：用更系統化方法追蹤你的KPI，認識「成效歸因」和「客戶終身價值」，挖掘現有客戶潛力，讓每一筆行銷預算都花在刀口上。\n– 不再靠感覺亂花錢：用AI數據分析，精準規劃品牌行銷預算，集中資源在最有效的推廣渠道，達到行銷投資回報最大化。\n– 精選適配KOL：用AI工具幫你挑出最適合自家品牌的KOL／網紅，帶來實質生意額。並探索AI助手工具，讓你輕鬆省下內容製作的時間和費用。\n– 行銷新趨勢：結合即時通訊工具與AI代理技術，快速帶進潛在客戶、提升成交率，開啟跨平台互動行銷新時代。\n– 案例分享：一年粉絲暴增百萬倍的真實經驗分享，解析如何靠創新方法突破行銷瓶頸，打造品牌爆紅！ \nFor more details\, please click here.
URL:https://starthub.asia/event/lunch-learn-webinar-series-71-%e7%94%a8%e6%95%b8%e6%93%9a%e8%88%87ai%e5%8d%87%e7%b4%9a%e4%bd%a0%e7%9a%84%e8%a1%8c%e9%8a%b7%ef%bc%81%e8%ae%93%e6%9b%9d%e5%85%89%e3%80%81%e4%ba%92%e5%8b%95%e3%80%81/
LOCATION:網上直播\, Hong Kong
CATEGORIES:Course,Webinar,Workshop
ATTACH;FMTTYPE=image/png:https://starthub.asia/wp-content/uploads/2025/10/Lunch-Learn-Webinar-Series-71-用數據與AI升級你的行銷！讓曝光、互動、業績一次到位.png
END:VEVENT
BEGIN:VEVENT
DTSTART;TZID=Asia/Hong_Kong:20251106T100000
DTEND;TZID=Asia/Hong_Kong:20251113T170000
DTSTAMP:20260421T173729
CREATED:20251020T180647Z
LAST-MODIFIED:20251020T180647Z
UID:62862-1762423200-1763053200@starthub.asia
SUMMARY:IP202 Management and Strategies of Patent Commercialisation and Technology Transfer
DESCRIPTION:The course aims to introduce the common forms of patent valuation\, commercialisation as well as key issues of technology transfer\, preparing participants to formulate appropriate strategies on patent commercialisation and technology transfer for their enterprises. \nFor more details\, please click here.
URL:https://starthub.asia/event/ip202-management-and-strategies-of-patent-commercialisation-and-technology-transfer-2/
LOCATION:VTC Tower\, 27 Wood Road\, Wan Chai\, Hong Kong\, Hong Kong
CATEGORIES:Course
ATTACH;FMTTYPE=image/jpeg:https://starthub.asia/wp-content/uploads/2025/10/IP202-Management-and-Strategies-of-Patent-Commercialisation-and-Technology-Transfer.jpeg
END:VEVENT
BEGIN:VEVENT
DTSTART;TZID=Asia/Hong_Kong:20251024T143000
DTEND;TZID=Asia/Hong_Kong:20251024T170000
DTSTAMP:20260421T173729
CREATED:20251020T123438Z
LAST-MODIFIED:20251020T123438Z
UID:62750-1761316200-1761325200@starthub.asia
SUMMARY:IP201 Generative AI – IP Concept and Legal Considerations
DESCRIPTION:This course aims to introduce the involvement of IP in the Generative AI\, allowing participants to understand the relevant IP concept\, the potential legal issues associated with Generative AI and how to protect IP rights in the age of AI. \nFor more details\, please click here.
URL:https://starthub.asia/event/ip201-generative-ai-ip-concept-and-legal-considerations/
LOCATION:VTC Tower\, 27 Wood Road\, Wan Chai\, Hong Kong\, Hong Kong
CATEGORIES:Course
ATTACH;FMTTYPE=image/jpeg:https://starthub.asia/wp-content/uploads/2025/10/IP201-CORRECT-IMAGE-scaled-1.jpg
END:VEVENT
BEGIN:VEVENT
DTSTART;TZID=Asia/Hong_Kong:20251021T180000
DTEND;TZID=Asia/Hong_Kong:20251021T193000
DTSTAMP:20260421T173729
CREATED:20251020T121937Z
LAST-MODIFIED:20251020T121955Z
UID:62738-1761069600-1761075000@starthub.asia
SUMMARY:Session 3: Drafting Patents — From Idea to Billion-Dollar Asset
DESCRIPTION:About the Session \n​Breakthrough research often grabs headlines but rarely reaches the market. The reason? Without a strong patent specification\, innovations stay trapped in labs for years. \n​In this session\, you’ll learn to identify key inventive features using clear language\, well-supported specifications with broad claims that protect your ideas — and keep competitors at bay. \n​*Seating is on a first-come\, first-served basis. To secure your spot\, please arrive 10–15 minutes early. \nFor more details\, please click here.
URL:https://starthub.asia/event/session-3-drafting-patents-from-idea-to-billion-dollar-asset/
LOCATION:The University of Hong Kong Tsui Tsin Tong Building
CATEGORIES:Course,Workshop
ATTACH;FMTTYPE=image/jpeg:https://starthub.asia/wp-content/uploads/2025/10/Session-3-Drafting-Patents-—-From-Idea-to-Billion-Dollar-Asset.jpg
END:VEVENT
BEGIN:VEVENT
DTSTART;TZID=Asia/Hong_Kong:20251009T183000
DTEND;TZID=Asia/Hong_Kong:20251009T203000
DTSTAMP:20260421T173729
CREATED:20251019T152656Z
LAST-MODIFIED:20251019T152656Z
UID:62674-1760034600-1760041800@starthub.asia
SUMMARY:Start Smart\, Scale Smarter: A Masterclass for Hong Kong Entrepreneurs
DESCRIPTION:Hong Kong is a launchpad for entrepreneurs\, but hidden roadblocks can stall your growth before you even take off.\n​That’s why Aspire and Osome\, in partnership with e27\, are bringing together Hong Kong’s entrepreneurial community for a closed-door masterclass on building strong foundations and scaling smarter.\n​This isn’t another surface-level talk. It’s a hands-on\, interactive session designed to give you: \n​Compliance clarity: how to stay on top of regulations without drowning in paperwork \n​Financial confidence: the numbers and reporting that actually matter to investors and stakeholders \n​Smart systems: how automation frees up your time to focus on growth \n​Scaling strategies: proven ways to grow from Hong Kong into Southeast Asia \n​Why Attend?\n​✨ Learn what matters most – cut through the noise with practical insights on compliance\, finance\, and growth.\n✨ Go beyond theory – walk away with frameworks and tools you can apply immediately.\n✨ Build your network – connect with founders\, freelancers\, creators\, and leaders facing the same challenges.\n✨ Scale with confidence – discover smarter ways to grow in Hong Kong and beyond. \n​And because growth doesn’t just happen in the session\, you’ll also connect with peers over dinner — where some of the best insights are shared off-stage. \n​Meet the Speakers\nGigi Li — Channel Partnerships Director\, Aspire\nWith deep experience across Greater China\, Gigi builds partnerships that help businesses grow. She’ll cover cash flow mastery\, funding readiness\, and how to scale from Hong Kong into Southeast Asia with lean finance ops. \n​Tiffany Lew — Osome Business Expert\, Osome Hong Kong\nFormerly with Salesforce and Square\, Tiffany now helps Hong Kong founders avoid setup pitfalls and stay compliant with ease. She’ll share how AI + expert support can streamline accounting\, payroll\, and tax. \n🔥 Seats are limited — once they’re filled\, they’re gone.\nDon’t miss this chance to sharpen your growth strategy and be part of the conversation shaping Hong Kong’s next wave of builders. \n​🚀 Secure your seat and scale smarter in Hong Kong! \nFor more details\, please click here.
URL:https://starthub.asia/event/start-smart-scale-smarter-a-masterclass-for-hong-kong-entrepreneurs/
LOCATION:Garage Society Wan Chai Lockhart\, Beverly House 1/F-2/F\, Lockhart Road\, Wan Chai
CATEGORIES:Course,Seminar,Workshop
ATTACH;FMTTYPE=image/png:https://starthub.asia/wp-content/uploads/2025/10/Start-Smart-Scale-Smarter-A-Masterclass-for-Hong-Kong-Entrepreneurs-Update.png
END:VEVENT
BEGIN:VEVENT
DTSTART;TZID=Asia/Hong_Kong:20250707T140000
DTEND;TZID=Asia/Hong_Kong:20250708T170000
DTSTAMP:20260421T173729
CREATED:20250729T085253Z
LAST-MODIFIED:20250729T091441Z
UID:58021-1751896800-1751994000@starthub.asia
SUMMARY:HONG KONG BEST KOREA Startup IR DEMODAY & Biz MEETUP Program [​Materials & Components / Machinery / Smart Infrastructure / Smart Construction / Mobility / UAM / Aerospace / Robotics / Energy / Marine]
DESCRIPTION:HONG KONG BEST KOREA Startup IR DEMODAY & Biz MEETUP\nConnecting Korea’s Innovation Leaders with Global Opportunities \nObjective:\nShowcase Korea’s most promising startups to global investors and business partners\, driving cross-border collaborations and investments across cutting-edge sectors. \nEligible Participants:\nEntrepreneurs\, Investors\, Industry Experts\, Research Institutions\, Accelerators\, Government Agencies\, and Associations. \nIndustry Focus:\nMaterials & Components / Machinery / Smart Infrastructure / Smart Construction / Mobility / UAM / Aerospace / Robotics / Energy / Marine \nEvent Details:\nVenue: Ball Room (B1)\, Gloucester Luk Kwok Hotel\n(72 Gloucester Road\, Wanchai\, Hong Kong | Near Wan Chai Station) \nDate: 7-8 July\, 2025\nTime: 14:00–17:00 HKT Daily \nFeatured Startups:\nCutting edge and award-winning Korean innovators\, including:\nCES Innovation Award\, Presidential Award\, and Global Technology Honorees. \nFunding Stage Breakdown:\nSeed (10%) | Pre-A (25%) | Series A (25%) | Series B (25%) | Series C (15%) \nInvestor Benefits:\n– Executive One-Pagers: Curated English profiles of all startups.\n– Pre-Event 1:1 Zoom Meetings: Secure 5–10 targeted sessions.\n– Day 1: Deep-dive into startup traction and investment potential.\n– Day 2: Structured negotiations for term sheets\, partnerships\, and procurement.\n– Post-Event Support: Ongoing deal-closing and partnership facilitation. \nRegistration & Participation:\nApply: https://forms.gle/E9pwmBDnHswQDRUb6 \nOnline Access: https://zoom.us/j/92217945639?pwd=0VE40HakdFsBccFPwFuLgusj2heFlE.1 \nContact:\nJimyeong (Jimmy) Ryu\, Team Leader\, SCG Korea\n✉️ scg_rjm@scghuman.com \n\nFor more details\, please click here.
URL:https://starthub.asia/event/hong-kong-best-korea-startup-ir-demoday-biz-meetup-program-materials-components-machinery-smart-infrastructure-smart-construction-mobility-uam-aerospace-robotics-energy/
LOCATION:Ball Room(B1)\, Gloucester Luk Kwok Hotel (Near Wan Chai Station) (72 Gloucester Road\, Wanchai\, Hong Kong)\, Hong Kong
CATEGORIES:Conference,Conference Workshop,Course,Exhibition,Networking,Pitching,Seminar,Tour,Webinar,Workshop
ATTACH;FMTTYPE=image/png:https://starthub.asia/wp-content/uploads/2025/07/Theme-2-Front-Banner-New.png
END:VEVENT
BEGIN:VEVENT
DTSTART;TZID=Asia/Hong_Kong:20250321T093000
DTEND;TZID=Asia/Hong_Kong:20250321T173000
DTSTAMP:20260421T173729
CREATED:20250308T083917Z
LAST-MODIFIED:20250308T083917Z
UID:50995-1742549400-1742578200@starthub.asia
SUMMARY:IP203 IP Commercialisation – Bringing Creativity to the Marketplace
DESCRIPTION:This one-day workshop focuses on innovation and entrepreneurship\, featuring expert speakers from various regions. It aims to equip innovators and creative designers with essential knowledge and strategies for developing effective commercialisation plans and securing funding investments. The medium of instruction will be Cantonese and English. Participants will receive a certificate upon completion of the respective training course. \nFor more details\, please click here.
URL:https://starthub.asia/event/ip203-ip-commercialisation-bringing-creativity-to-the-marketplace/
LOCATION:Lecture Theatre\, 7/F\, VTC Tower\, 27 Wood Road\, Wan Chai\, Hong Kong\, Hong Kong
CATEGORIES:Course
ATTACH;FMTTYPE=image/png:https://starthub.asia/wp-content/uploads/2025/03/IP203-IP-Commercialisation-–-Bringing-Creativity-to-the-Marketplace.png
END:VEVENT
BEGIN:VEVENT
DTSTART;TZID=Asia/Hong_Kong:20250313T140000
DTEND;TZID=Asia/Hong_Kong:20250313T170000
DTSTAMP:20260421T173729
CREATED:20250308T082331Z
LAST-MODIFIED:20250308T082331Z
UID:50973-1741874400-1741885200@starthub.asia
SUMMARY:IP205 Mastering IP Licensing: Agreements and Royalty Negotiation
DESCRIPTION:Jointly organised by Intellectual Property Department and Licensing Executives Society China (Hong Kong Sub-Chapter)\, the Advanced Programme “IP205 Mastering IP Licensing: Agreements and Royalty Negotiation” will be held in March. This course aims to provide participants with a basic understanding of IP licensing\, with emphasis on critical aspects of licensing agreements and royalty negotiations. The medium of instruction will be Cantonese and English. Participants will receive a certificate upon completion of the respective training course. \nFor more details\, please click here.
URL:https://starthub.asia/event/ip205-mastering-ip-licensing-agreements-and-royalty-negotiation/
LOCATION:Lecture Theatre\, 7/F\, VTC Tower\, 27 Wood Road\, Wan Chai\, Hong Kong\, Hong Kong
CATEGORIES:Course
ATTACH;FMTTYPE=image/png:https://starthub.asia/wp-content/uploads/2025/03/IP205-Mastering-IP-Licensing-Agreements-and-Royalty-Negotiation.png
END:VEVENT
BEGIN:VEVENT
DTSTART;TZID=Asia/Hong_Kong:20250226T100000
DTEND;TZID=Asia/Hong_Kong:20250226T170000
DTSTAMP:20260421T173729
CREATED:20250308T075358Z
LAST-MODIFIED:20250308T075358Z
UID:50918-1740564000-1740589200@starthub.asia
SUMMARY:IP103 Registration and application procedure of IP rights in Hong Kong
DESCRIPTION:This course introduces the IP registration system in Hong Kong\, enabling participants to comprehend the registration and application procedures of various IP rights and thereby formulate effective IP registration strategies for the enterprises. The medium of instruction will be Cantonese. Participants will receive a certificate upon completion of the respective training course. \nFor more details\, please click here.
URL:https://starthub.asia/event/ip103-registration-and-application-procedure-of-ip-rights-in-hong-kong/
LOCATION:7/F\, VTC Tower\, 27 Wood Road\, Wan Chai\, Hong Kong
CATEGORIES:Course
ATTACH;FMTTYPE=image/jpeg:https://starthub.asia/wp-content/uploads/2025/03/IP103-Registration-and-application-procedure-of-IP-rights-in-Hong-Kong.jpg
END:VEVENT
BEGIN:VEVENT
DTSTART;TZID=Asia/Hong_Kong:20240829T100000
DTEND;TZID=Asia/Hong_Kong:20240829T173000
DTSTAMP:20260421T173729
CREATED:20240824T181304Z
LAST-MODIFIED:20240824T181304Z
UID:36010-1724925600-1724952600@starthub.asia
SUMMARY:IP104 IP Management and Protection in Overseas Markets
DESCRIPTION:This course aims to introduce the regulations\, enforcement actions\, protection mechanisms and management strategies of Patent and Trademark rights in the key overseas markets\, allowing participants to fully grasp the fundamental knowledge of the IP management and protection strategies in overseas markets. The medium of instruction will be Cantonese and English. Participants will receive a certificate upon completion of the respective training course. \nTo register\, please visit here. \nFor more details\, please click here.
URL:https://starthub.asia/event/ip104-ip-management-and-protection-in-overseas-markets/
LOCATION:VTC Tower\, 27 Wood Road\, Wan Chai\, Hong Kong\, Hong Kong
CATEGORIES:Course
ATTACH;FMTTYPE=image/jpeg:https://starthub.asia/wp-content/uploads/2024/08/IP104-Poster-Eng-R4.jpg
END:VEVENT
END:VCALENDAR