BEGIN:VCALENDAR
VERSION:2.0
PRODID:-//Starthub Asia - ECPv6.15.14//NONSGML v1.0//EN
CALSCALE:GREGORIAN
METHOD:PUBLISH
X-ORIGINAL-URL:https://starthub.asia
X-WR-CALDESC:Events for Starthub Asia
REFRESH-INTERVAL;VALUE=DURATION:PT1H
X-Robots-Tag:noindex
X-PUBLISHED-TTL:PT1H
BEGIN:VTIMEZONE
TZID:Asia/Hong_Kong
BEGIN:STANDARD
TZOFFSETFROM:+0800
TZOFFSETTO:+0800
TZNAME:HKT
DTSTART:20250101T000000
END:STANDARD
END:VTIMEZONE
BEGIN:VEVENT
DTSTART;TZID=Asia/Hong_Kong:20260421T150000
DTEND;TZID=Asia/Hong_Kong:20260421T160000
DTSTAMP:20260421T190645
CREATED:20260414T172426Z
LAST-MODIFIED:20260414T172426Z
UID:65664-1776783600-1776787200@starthub.asia
SUMMARY:【HKTISC知識產權培訓】 追尋新穎性：專利檢索 如何塑造創新版圖
DESCRIPTION:在當今快速變動的創新經濟中，嚴謹的專利檢索對中小企業、新創公司與研發團隊至關重要，可用於驗證新穎性、避免重複研發，並將侵權風險降至最低。有效的檢索有助於團隊妥善配置資源、縮短開發週期，並強化商業化策略。除風險控管之外，檢索所帶來的洞見還能揭示技術趨勢、競爭者動態與空白的技術區域，從而促成更精準的投資決策，並加速從概念走向市場的進程。 \n本次培訓將提供規劃與執行有效專利檢索的實務技巧，並協助參加者將檢索結果轉化為創新優勢。培訓的講者包括資深專利檢索人員，他們將談及關鍵檢索類型，示範檢索策略，並介紹主要資料庫與工具。他們也會分享常見陷阱、最佳實踐與實際案例，幫助參加者理解有效的檢索如何指引研發方向，以及提升專利申請成效。 \n重點議題：\n• 申請前先檢索：明智的專利檢索策略，有助節省時間和資源\n• 掌握檢索類型：善用不同專利檢索方法\n• 工具 ＋ AI：專利檢索的實用技巧與案例分享\n• HKTISC 全方位支援：免費資源、培訓及一對一諮詢 \n立即參與，解鎖實用的專利檢索技巧，強化您的研發與創新！ \nFor more details\, please click here.
URL:https://starthub.asia/event/%e3%80%90hktisc%e7%9f%a5%e8%ad%98%e7%94%a2%e6%ac%8a%e5%9f%b9%e8%a8%93%e3%80%91-%e8%bf%bd%e5%b0%8b%e6%96%b0%e7%a9%8e%e6%80%a7%ef%bc%9a%e5%b0%88%e5%88%a9%e6%aa%a2%e7%b4%a2-%e5%a6%82%e4%bd%95%e5%a1%91/
LOCATION:網上直播（Zoom）\, Hong Kong
CATEGORIES:Seminar, Webinar
END:VEVENT
BEGIN:VEVENT
DTSTART;TZID=Asia/Hong_Kong:20260422T183000
DTEND;TZID=Asia/Hong_Kong:20260422T200000
DTSTAMP:20260421T190645
CREATED:20260414T173133Z
LAST-MODIFIED:20260414T173133Z
UID:65683-1776882600-1776888000@starthub.asia
SUMMARY:SCC創業孵化講堂 – 「創投觀點：初創的投資價值」
DESCRIPTION:日期：2026年4月22日(星期三)\n時間：下午6:30 – 8:00\n地點：中環皇后大道中99號中環中心地下 H6 CONET 活動室 C \n語言：廣東話（輔以英語專業術語）\n費用：免費（名額有限，先到先得）\n登記：https://forms.gle/FT3CM9Tae8BstKHa7  \n講堂重點：\nA. 創投視角\n1. 投資人視角：咖啡 / 健康 / 音樂案例\n2. Angel 投「人」、VC 投「成長」\n3. 風險回報：投資價值判斷 \nB. 初創募資\n1.   現金流失控\n2. Social media 布局\n3. 品牌資產\n4. 逆周期市場 \n講者：Ms Billy Ko\n– 20+ 年跨境品牌及創業實戰經驗\n– 曾歷任跨國企業 CXO\n– 曾任 4A 廣告公司 MD\n– 醫療健康營銷實戰經驗\n– Management Drives 授權顧問 \n歡迎對講堂主題內容有興趣人士免費前來參加！ \nFor more details\, please click here.
URL:https://starthub.asia/event/scc%e5%89%b5%e6%a5%ad%e5%ad%b5%e5%8c%96%e8%ac%9b%e5%a0%82-%e3%80%8c%e5%89%b5%e6%8a%95%e8%a7%80%e9%bb%9e%ef%bc%9a%e5%88%9d%e5%89%b5%e7%9a%84%e6%8a%95%e8%b3%87%e5%83%b9%e5%80%bc%e3%80%8d/
LOCATION:中環皇后大道中99號中環中心地下 H6 CONET 活動室C\, Hong Kong
CATEGORIES:Seminar, Webinar
ATTACH;FMTTYPE=image/png:https://starthub.asia/wp-content/uploads/2026/04/SCC創業孵化講堂-–-「創投觀點：初創的投資價值」.png
END:VEVENT
END:VCALENDAR