BEGIN:VCALENDAR
VERSION:2.0
PRODID:-//Starthub Asia - ECPv6.15.14//NONSGML v1.0//EN
CALSCALE:GREGORIAN
METHOD:PUBLISH
X-ORIGINAL-URL:https://starthub.asia
X-WR-CALDESC:Events for Starthub Asia
REFRESH-INTERVAL;VALUE=DURATION:PT1H
X-Robots-Tag:noindex
X-PUBLISHED-TTL:PT1H
BEGIN:VTIMEZONE
TZID:Asia/Hong_Kong
BEGIN:STANDARD
TZOFFSETFROM:+0800
TZOFFSETTO:+0800
TZNAME:HKT
DTSTART:20250101T000000
END:STANDARD
END:VTIMEZONE
BEGIN:VEVENT
DTSTART;TZID=Asia/Hong_Kong:20260204T080000
DTEND;TZID=Asia/Hong_Kong:20260205T170000
DTSTAMP:20260421T214154
CREATED:20260415T081436Z
LAST-MODIFIED:20260415T081436Z
UID:65914-1770192000-1770310800@starthub.asia
SUMMARY:Digital Assets Week 2026
DESCRIPTION:Digital Assets Week is the only conference that is bridging the gap between financial institutions\, infrastructure providers and regulatory bodies in the efforts to make advancements in digitization and tokenization of all asset classes and institutionalizing digital assets. \nReasons To Attend\n-The only event focused on bringing digital assets and institutions together\n-Leading the discussion on digital assets and regulation\n-Highly curated invite-only audience of financial institutions\, institutional investors\, brokers\, private equity and venture capital firms\, infrastructure providers\, exchanges and regulators – the entire ecosystem\n-In person networking \nFor more details\, please click here.
URL:https://starthub.asia/event/digital-assets-week-2026/
LOCATION:The GalaMuse\, Victoria Dockside\, 18 Salisbury Road\, Tsim Sha Tsui\, Hong Kong
CATEGORIES:Conference,Networking,Seminar
ATTACH;FMTTYPE=image/jpeg:https://starthub.asia/wp-content/uploads/2026/04/Digital-Assets-Week-2026.jpg
END:VEVENT
BEGIN:VEVENT
DTSTART;TZID=Asia/Hong_Kong:20260205T183000
DTEND;TZID=Asia/Hong_Kong:20260205T200000
DTSTAMP:20260421T214154
CREATED:20260415T081615Z
LAST-MODIFIED:20260415T081615Z
UID:65920-1770316200-1770321600@starthub.asia
SUMMARY:SCC創業孵化講堂 – 大灣區創業機遇與價值創新思維
DESCRIPTION:日期：2026年2月 5日 (星期四)\n時間：傍晚6:30 – 8:00\n地點：中環皇后大道中99號，中環中心地下H6 Conet活動室 E (亦歡迎線上參加）\n語言：廣東話（輔以英語專業術語）\n費用：免費（名額有限，先到先得）\n登記：https://forms.gle/xo2LrWJgduYyJLPa9  \n\n\n\n\n\n\n\n\n  \n\n\n\n\n講堂重點： \n\n建立大灣區認知基礎（環境＋思維）\n營商環境與市場機遇\n灣區價值創新概念\nAI 設計思維\n\n講者簡介：唐之杰先生 (Michael Tong) \n\n用心去創新基地（Design with Heart Innovation Hub）合伙人\nInnoEdge Consulting 首席顧問\n香港大學 研究生文憑 客席講師\nDesign Thinkers Academy 設計思維國際認證導師\n曾任跨國企業品牌及產品管理高層，專注創新商業模式與客戶體驗設計\n\nFor more details\, please click here.
URL:https://starthub.asia/event/scc%e5%89%b5%e6%a5%ad%e5%ad%b5%e5%8c%96%e8%ac%9b%e5%a0%82-%e5%a4%a7%e7%81%a3%e5%8d%80%e5%89%b5%e6%a5%ad%e6%a9%9f%e9%81%87%e8%88%87%e5%83%b9%e5%80%bc%e5%89%b5%e6%96%b0%e6%80%9d%e7%b6%ad/
LOCATION:中環皇后大道中99號，中環中心地下H6 Conet活動室 E (亦歡迎線上參加）\, Hong Kong
CATEGORIES:Seminar,Webinar
ATTACH;FMTTYPE=image/png:https://starthub.asia/wp-content/uploads/2026/04/SCC創業孵化講堂-–-大灣區創業機遇與價值創新思維.png
END:VEVENT
BEGIN:VEVENT
DTSTART;TZID=Asia/Hong_Kong:20260209T080000
DTEND;TZID=Asia/Hong_Kong:20260209T173000
DTSTAMP:20260421T214154
CREATED:20260415T081846Z
LAST-MODIFIED:20260415T081846Z
UID:65925-1770624000-1770658200@starthub.asia
SUMMARY:Liquidity 2026
DESCRIPTION:Welcome to the 「Liquidity 2026」 Institutional Summit\, the fourth edition of our flagship event\, hosted by LTP’s HK subsidiary\, LiquidityTech Limited\, on February 9\, 2026\, in Hong Kong. Over the years\, Liquidity has evolved from an Institutional Digital Asset Summit into The Premier Institutional Summit Connecting Digital\, Tokenized & Traditional Assets — reflecting the industry’s shift toward a multi-asset future. \n​This year’s summit will explore the convergence of digital assets\, tokenized markets\, and traditional finance\, with a strong focus on exploring market developments\, technological innovation\, and emerging regulatory frameworks shaping the future of finance\, as well as industry trends\, risk management\, compliance practices\, and policy developments worldwide. \n​Attendees will engage in thought-provoking dialogues with industry leaders\, sharing insights to shape the next generation of institutional finance. The summit also offers unparalleled networking opportunities\, connecting trading firms\, hedge funds\, asset allocators\, exchanges\, custodians\, banks\, and regulators — fostering meaningful collaboration to capture the opportunities at the intersection of finance and technology. \nFor more details\, please click here.
URL:https://starthub.asia/event/liquidity-2026/
LOCATION:Hong Kong JW Marriott Hotel\, Hong Kong
CATEGORIES:Conference,Networking,Seminar
ATTACH;FMTTYPE=image/avif:https://starthub.asia/wp-content/uploads/2026/04/Liquidity-2026.avif
END:VEVENT
BEGIN:VEVENT
DTSTART;TZID=Asia/Hong_Kong:20260210T080000
DTEND;TZID=Asia/Hong_Kong:20260212T170000
DTSTAMP:20260421T214154
CREATED:20260415T082132Z
LAST-MODIFIED:20260415T082132Z
UID:65930-1770710400-1770915600@starthub.asia
SUMMARY:Consensus Hong Kong 2026
DESCRIPTION:After a sold-out debut\, Consensus Hong Kong has quickly become Asia’s leading Web3 conference\, strengthening the bridge between the East and West to drive innovation in the APAC region and beyond. \nBuilt on CoinDesk’s foundation of independent journalism\, Consensus has brought together influential voices across digital finance and emerging technologies such as blockchain and AI since 2015. \nAs crypto’s Gateway to Asia\, this gathering convenes global leaders for deal-making and accelerated business growth\, offering unparalleled opportunities in one of the world’s most rapidly scaling markets for crypto adoption. \nDon’t miss this moment—join us in Hong Kong. \nFor more details\, please click here.
URL:https://starthub.asia/event/consensus-hong-kong-2026/
LOCATION:Hong Kong Convention & Exhibition Centre\, Hong Kong
CATEGORIES:Conference,Networking,Seminar
ATTACH;FMTTYPE=image/jpeg:https://starthub.asia/wp-content/uploads/2026/04/Consensus-Hong-Kong-2026.jpg
END:VEVENT
BEGIN:VEVENT
DTSTART;TZID=Asia/Hong_Kong:20260212T080000
DTEND;TZID=Asia/Hong_Kong:20260213T170000
DTSTAMP:20260421T214154
CREATED:20260415T082245Z
LAST-MODIFIED:20260415T082245Z
UID:65934-1770883200-1771002000@starthub.asia
SUMMARY:RWA SUMMIT HONG KONG
DESCRIPTION:RWA SUMMIT HONG KONG brings together the most influential voices in real-world asset tokenisation\, stablecoins\, and traditional finance convergence. Taking place during Consensus Hong Kong Week on 12-13 February 2026\, this exclusive gathering serves as the definitive platform for industry leaders\, institutional investors\, and innovators shaping the future of finance. \n​Hong Kong’s unique position as the bridge between East and West makes it the ideal location for advancing real-world asset tokenisation. The city’s progressive regulatory framework\, institutional adoption momentum\, and strategic access to Asian capital markets create unprecedented opportunities for sponsors to engage with the fastest-growing segment of digital finance. \nFor more details\, please click here.
URL:https://starthub.asia/event/rwa-summit-hong-kong/
LOCATION:Causeway Centre 28 Harbour Rd\, Wan Chai\, Hong Kong\, Hong Kong
CATEGORIES:Networking,Seminar
END:VEVENT
BEGIN:VEVENT
DTSTART;TZID=Asia/Hong_Kong:20260226T153000
DTEND;TZID=Asia/Hong_Kong:20260226T173000
DTSTAMP:20260421T214154
CREATED:20260415T082447Z
LAST-MODIFIED:20260415T082447Z
UID:65938-1772119800-1772127000@starthub.asia
SUMMARY:《智營「味」來雙軌升級「聚匯」系列》以AI「贏」戰灣區
DESCRIPTION:立刻報名參加即將舉行一連兩場的「聚匯」活動，讓業界領袖及專家為您剖析香港及其他大灣區市場的最新餐飲趨勢與機遇。 \n在兩場精彩的「聚匯」中，您將發現AI技術如何有效助企業降低成本並實踐「可持續」營運；您更可以於活動中了解政府資助措施，並與同行建立聯繫，共同應對不斷變化的消費者需求。 \n萬勿錯過這個轉型的絕佳機會！ \n欲知更多信息，請點擊這裡。
URL:https://starthub.asia/event/%e3%80%8a%e6%99%ba%e7%87%9f%e3%80%8c%e5%91%b3%e3%80%8d%e4%be%86%e9%9b%99%e8%bb%8c%e5%8d%87%e7%b4%9a%e3%80%8c%e8%81%9a%e5%8c%af%e3%80%8d%e7%b3%bb%e5%88%97%e3%80%8b%e4%bb%a5ai%e3%80%8c%e8%b4%8f%e3%80%8d/
LOCATION:九龍達之路78號生產力大樓一樓演講廳一\, Hong Kong
CATEGORIES:Seminar
ATTACH;FMTTYPE=image/png:https://starthub.asia/wp-content/uploads/2026/04/《智營「味」來雙軌升級「聚匯」系列》以AI「贏」戰灣區.png
END:VEVENT
END:VCALENDAR