BEGIN:VCALENDAR
VERSION:2.0
PRODID:-//Starthub Asia - ECPv6.15.14//NONSGML v1.0//EN
CALSCALE:GREGORIAN
METHOD:PUBLISH
X-WR-CALNAME:Starthub Asia
X-ORIGINAL-URL:https://starthub.asia
X-WR-CALDESC:Events for Starthub Asia
REFRESH-INTERVAL;VALUE=DURATION:PT1H
X-Robots-Tag:noindex
X-PUBLISHED-TTL:PT1H
BEGIN:VTIMEZONE
TZID:Asia/Hong_Kong
BEGIN:STANDARD
TZOFFSETFROM:+0800
TZOFFSETTO:+0800
TZNAME:HKT
DTSTART:20250101T000000
END:STANDARD
END:VTIMEZONE
BEGIN:VEVENT
DTSTART;TZID=Asia/Hong_Kong:20260106T100000
DTEND;TZID=Asia/Hong_Kong:20260106T173000
DTSTAMP:20260422T015048
CREATED:20260415T082951Z
LAST-MODIFIED:20260415T082951Z
UID:65942-1767693600-1767720600@starthub.asia
SUMMARY:Low Altitude Forum: Shaping the Future of eVTOL
DESCRIPTION:Organised by The Hong Kong eVTOL Industry Association\, the Low Altitude Forum 2025: Shaping the Future of eVTOL\, is Hong Kong’s first-ever forum dedicated to electric vertical take off and landing (eVTOL) aircraft and the wider low altitude economy. The forum will bring together government officials\, global original equipment manufacturers (OEMs)\, industry leaders and academic researchers to accelerate real world deployment through technical insights\, regulatory dialogue and public–private collaboration. \nThe forum will feature high level plenaries and panel sessions addressing market entry strategies\, regulatory sandboxes\, critical infrastructure (UTM\, 5G/6G\, cybersecurity\, etc.)\, technology differentiators (AI navigation\, battery systems\, noise mitigation\, etc.) and sustainable lifecycle practices. Delegates will explore pathways to safe\, scalable and commercially viable urban air mobility (UAM) across Hong Kong and the Greater Bay Area (GBA). \nFor more details\, please click here.
URL:https://starthub.asia/event/low-altitude-forum-shaping-the-future-of-evtol/
LOCATION:Charles K. Kao Auditorium\, Hong Kong Science Park\, Hong Kong
CATEGORIES:Seminar
ATTACH;FMTTYPE=image/jpeg:https://starthub.asia/wp-content/uploads/2026/04/Low-Altitude-Forum-Shaping-the-Future-of-eVTOL.jpg
END:VEVENT
END:VCALENDAR