BEGIN:VCALENDAR
VERSION:2.0
PRODID:-//Starthub Asia - ECPv6.15.14//NONSGML v1.0//EN
CALSCALE:GREGORIAN
METHOD:PUBLISH
X-ORIGINAL-URL:https://starthub.asia
X-WR-CALDESC:Events for Starthub Asia
REFRESH-INTERVAL;VALUE=DURATION:PT1H
X-Robots-Tag:noindex
X-PUBLISHED-TTL:PT1H
BEGIN:VTIMEZONE
TZID:Asia/Hong_Kong
BEGIN:STANDARD
TZOFFSETFROM:+0800
TZOFFSETTO:+0800
TZNAME:HKT
DTSTART:20250101T000000
END:STANDARD
END:VTIMEZONE
BEGIN:VEVENT
DTSTART;TZID=Asia/Hong_Kong:20260131T090000
DTEND;TZID=Asia/Hong_Kong:20260131T180000
DTSTAMP:20260421T231318
CREATED:20260415T092651Z
LAST-MODIFIED:20260415T092651Z
UID:66019-1769850000-1769882400@starthub.asia
SUMMARY:Microbiome Summit 2026
DESCRIPTION:The Microbiome Summit 2026\, with the theme “Transforming the future”\, is a collaborative effort between the Chinese University of Hong Kong\, The Hong Kong Science and Technology Park\, and the InnoHK Microbiota I-Center (MagIC)\, set to be an enlightening convergence of minds in the realm of microbiome research and application. This summit will feature a diverse array of lectures and symposiums delving into pivotal themes such as the future of Microbiome Medicine\, Early Life’s Microbiome\, Microbiome\, Nutrition\, and Diet\, Microbiome and AI\, as well as innovative discussions on microbiome-based approaches in addressing conditions like Inflammatory Bowel Disease (IBD)\, Non-communicable Diseases\, and the intricate interplay with Gut Microbiome. \nFor more details\, please click here.
URL:https://starthub.asia/event/microbiome-summit-2026/
LOCATION:Grand Hall\, 1/F\, 12W\, Science Park\, Hong Kong\, Hong Kong
CATEGORIES:Conference,Networking,Seminar
ATTACH;FMTTYPE=image/jpeg:https://starthub.asia/wp-content/uploads/2026/04/Microbiome-Summit-2026.jpg
END:VEVENT
END:VCALENDAR