BEGIN:VCALENDAR
VERSION:2.0
PRODID:-//Starthub Asia - ECPv6.15.14//NONSGML v1.0//EN
CALSCALE:GREGORIAN
METHOD:PUBLISH
X-WR-CALNAME:Starthub Asia
X-ORIGINAL-URL:https://starthub.asia
X-WR-CALDESC:Events for Starthub Asia
REFRESH-INTERVAL;VALUE=DURATION:PT1H
X-Robots-Tag:noindex
X-PUBLISHED-TTL:PT1H
BEGIN:VTIMEZONE
TZID:Asia/Hong_Kong
BEGIN:STANDARD
TZOFFSETFROM:+0800
TZOFFSETTO:+0800
TZNAME:HKT
DTSTART:20250101T000000
END:STANDARD
END:VTIMEZONE
BEGIN:VEVENT
DTSTART;TZID=Asia/Hong_Kong:20260302T090000
DTEND;TZID=Asia/Hong_Kong:20260302T100000
DTSTAMP:20260421T202248
CREATED:20260415T060222Z
LAST-MODIFIED:20260415T060222Z
UID:65770-1772442000-1772445600@starthub.asia
SUMMARY:Italian Chamber Coffee & Chat
DESCRIPTION:The Italian Chamber of Commerce in Hong Kong and Macao invites you to join us for the Italian Chamber of Commerce Coffee & Chat on Monday\, March 2\, from 9 AM to 10 AM at the ICC Office. This informal session will offer a practical conversation on how Employee Stock Ownership Plans (ESOPs) help fast‑growing companies attract\, motivate\, and retain top performers by turning employees into genuine owners of the business. Over coffee\, we will discuss how ESOPs can complement salary packages\, especially for young organizations competing with big‑tech compensation. \nWhat we will cover \n\nHow ESOPs create economic upside for employees without upfront cash investment\, functioning as an additional long-term wealth and retirement tool.​\nHow linking ownership to company performance strengthens alignment\, accountability\, and productivity across teams.\nHow ESOPs build an ownership-driven culture\, increasing engagement\, job satisfaction\, and willingness to “go the extra mile.”​\nWhy a clear\, rule-based ESOP framework (vesting\, eligibility\, liquidity) reduces perceived unfairness and supports scalable people policies.​\nHow ESOPs support succession and liquidity for founders and investors while preserving continuity and rewarding key contributors.\nWhy ESOPs matter and how they fit within a broader fundraising journey.\nHow much equity to grant to key hires and team members at different stages of growth.​\n\nThis session is ideal for founders\, HR leaders\, and managers who want a practical\, jargon-free conversation on using ESOPs as a strategic people and growth tool. \nKindly note the following: \n\nLimited seats are available. RSVP to secure your place. \nCancellations must be provided in writing to: icc@icc.org.hk 5 days before the event. No shows will be charged.\nBy attending this event\, you agree to be photographed\, recorded\, and/or filmed.\nAll events will be rescheduled or canceled if there is a Typhoon 8 (or above) or Black Rainstorm Signal.\n\nFor further information\, please email icc@icc.org.hk. \nFor more details\, please click here.
URL:https://starthub.asia/event/italian-chamber-coffee-chat/
LOCATION:Italian Chamber of Commerce in Hong Kong and Macao Unit 1102-03\, 11/F\, 299QRC\, 299 Queen’s Road Central\, Sheung Wan\, Hong Kong
CATEGORIES:Networking,Seminar
ATTACH;FMTTYPE=image/png:https://starthub.asia/wp-content/uploads/2026/04/CC.png
END:VEVENT
END:VCALENDAR