BEGIN:VCALENDAR
VERSION:2.0
PRODID:-//Starthub Asia - ECPv6.15.14//NONSGML v1.0//EN
CALSCALE:GREGORIAN
METHOD:PUBLISH
X-ORIGINAL-URL:https://starthub.asia
X-WR-CALDESC:Events for Starthub Asia
REFRESH-INTERVAL;VALUE=DURATION:PT1H
X-Robots-Tag:noindex
X-PUBLISHED-TTL:PT1H
BEGIN:VTIMEZONE
TZID:Asia/Hong_Kong
BEGIN:STANDARD
TZOFFSETFROM:+0800
TZOFFSETTO:+0800
TZNAME:HKT
DTSTART:20250101T000000
END:STANDARD
END:VTIMEZONE
BEGIN:VEVENT
DTSTART;TZID=Asia/Hong_Kong:20260427T080000
DTEND;TZID=Asia/Hong_Kong:20260429T170000
DTSTAMP:20260421T185834
CREATED:20260414T173605Z
LAST-MODIFIED:20260414T173605Z
UID:65696-1777276800-1777482000@starthub.asia
SUMMARY:HKTDC Hong Kong International Licensing Show & Asian Licensing Conference (ALC)
DESCRIPTION:HKTDC Hong Kong International Licensing Show (HKILS) is the flagship platform for the licensing industry in Asia. It gathers licensors\, brands\, licensing agents\, licensees and traders from around the world\, opening doors to unparalleled business opportunities. \nRunning concurrently is the Asian Licensing Conference (ALC)\, where the licensing world’s brightest minds and elites come together to exchange market intelligence for the global licensing industry. \nFor more details\, please click here.
URL:https://starthub.asia/event/hktdc-hong-kong-international-licensing-show-asian-licensing-conference-alc/
LOCATION:Hong Kong Convention and Exhibition Centre\, Hong Kong
CATEGORIES:Conference,Seminar
ATTACH;FMTTYPE=image/png:https://starthub.asia/wp-content/uploads/2026/04/HKTDC-Hong-Kong-International-Licensing-Show-Asian-Licensing-Conference-ALC.png
END:VEVENT
BEGIN:VEVENT
DTSTART;TZID=Asia/Hong_Kong:20260429T143000
DTEND;TZID=Asia/Hong_Kong:20260429T190000
DTSTAMP:20260421T185834
CREATED:20260414T174157Z
LAST-MODIFIED:20260414T174157Z
UID:65710-1777473000-1777489200@starthub.asia
SUMMARY:IPIC Incubation Graduation Ceremony cum Startup Demo Day
DESCRIPTION:Join us for the IPIC Incubation Graduation Ceremony cum Startup Demo Day — a celebratory milestone recognizing the progress and achievements of our IPIC startups. This event marks the culmination of their entrepreneurial journey\, featuring live startup showcases\, product demos\, and pitching sessions. \nThroughout the afternoon and evening\, participating teams will present what they’ve built during the incubation period\, engage with members of the HKUST entrepreneurship community\, and connect with a distinguished group of mentors and industry experts. It’s a valuable opportunity to gain visibility\, exchange ideas\, and explore potential collaborations. \nFor more details\, please click here.
URL:https://starthub.asia/event/ipic-incubation-graduation-ceremony-cum-startup-demo-day/
LOCATION:HKUST\, Hong Kong
CATEGORIES:Pitching,Seminar
ATTACH;FMTTYPE=image/png:https://starthub.asia/wp-content/uploads/2026/04/IPIC-Incubation-Graduation-Ceremony-cum-Startup-Demo-Day.png
END:VEVENT
END:VCALENDAR