BEGIN:VCALENDAR
VERSION:2.0
PRODID:-//Starthub Asia - ECPv6.15.14//NONSGML v1.0//EN
CALSCALE:GREGORIAN
METHOD:PUBLISH
X-ORIGINAL-URL:https://starthub.asia
X-WR-CALDESC:Events for Starthub Asia
REFRESH-INTERVAL;VALUE=DURATION:PT1H
X-Robots-Tag:noindex
X-PUBLISHED-TTL:PT1H
BEGIN:VTIMEZONE
TZID:Asia/Hong_Kong
BEGIN:STANDARD
TZOFFSETFROM:+0800
TZOFFSETTO:+0800
TZNAME:HKT
DTSTART:20250101T000000
END:STANDARD
END:VTIMEZONE
BEGIN:VEVENT
DTSTART;TZID=Asia/Hong_Kong:20260323T170000
DTEND;TZID=Asia/Hong_Kong:20260323T190000
DTSTAMP:20260422T032243
CREATED:20260415T075028Z
LAST-MODIFIED:20260415T075028Z
UID:65853-1774285200-1774292400@starthub.asia
SUMMARY:Latest Trends on Startup Financing
DESCRIPTION:The session will bring together startup founders\, investors\, government stakeholders\, universities\, and IP practitioners to exchange views \nThe session will bring together founders\, investors\, government stakeholders\, universities\, and IP practitioners to exchange views on the evolving startup financing landscape and to build practical connections across the ecosystem. \nFor more details\, please click here.
URL:https://starthub.asia/event/latest-trends-on-startup-financing/
LOCATION:JLL仲量聯行總部 One Taikoo Place\, 979 King’s Road #7/F Hong Kong\, Hong Kong
CATEGORIES:Seminar
ATTACH;FMTTYPE=image/webp:https://starthub.asia/wp-content/uploads/2026/04/Latest-Trends-on-Startup-Financing.webp
END:VEVENT
BEGIN:VEVENT
DTSTART;TZID=Asia/Hong_Kong:20260325T153000
DTEND;TZID=Asia/Hong_Kong:20260325T163000
DTSTAMP:20260422T032243
CREATED:20260415T075606Z
LAST-MODIFIED:20260415T075622Z
UID:65865-1774452600-1774456200@starthub.asia
SUMMARY:「中小企資援組」 填FORM攻略「開拓市場」精讀班 #2 BUD專項基金
DESCRIPTION:中小企想善用「BUD專項基金」推行市場拓展大計，但無從入手，不知如何規劃項目及「填FORM」? \n立即報名參加「中小企資援組」「填FORM攻略『開拓市場』精讀班#2」! 一小時極速掌握「BUD專項基金」申請要訣 !「求FUND」專員為您拆解常見「填FORM」謬誤，逐步指導正確填寫申請表攻略。更有中小企代表親身分享成功「求BUD」心得 ! \n把握機會 ! 輕鬆「求FUND」拓展新市場! \n欲知更多信息，請點擊這裏。
URL:https://starthub.asia/event/%e3%80%8c%e4%b8%ad%e5%b0%8f%e4%bc%81%e8%b3%87%e6%8f%b4%e7%b5%84%e3%80%8d-%e5%a1%abform%e6%94%bb%e7%95%a5%e3%80%8c%e9%96%8b%e6%8b%93%e5%b8%82%e5%a0%b4%e3%80%8d%e7%b2%be%e8%ae%80%e7%8f%ad-2-bud/
LOCATION:九龍達之路78號生產力大樓1樓 Inno Network\, Hong Kong
CATEGORIES:Seminar
ATTACH;FMTTYPE=image/jpeg:https://starthub.asia/wp-content/uploads/2026/04/「中小企資援組」-填FORM攻略「開拓市場」精讀班-2-BUD專項基金.jpg
END:VEVENT
BEGIN:VEVENT
DTSTART;TZID=Asia/Hong_Kong:20260325T153000
DTEND;TZID=Asia/Hong_Kong:20260325T170000
DTSTAMP:20260422T032243
CREATED:20260415T075741Z
LAST-MODIFIED:20260415T075741Z
UID:65871-1774452600-1774458000@starthub.asia
SUMMARY:「知識產權如何驅動企業ESG價值與融資商機」研討會
DESCRIPTION:實踐環境、社會與管治（ESG）不僅能優化企業經營模式，更能強化其聲譽並吸引投資者參與。是次研討會將邀請知識產權專家，剖析知識產權（IP）在ESG中的關鍵作用。專家將分享綠色IP概念及其對持續發展的影響，亦會講解IP如何驅動綠色技術創新、技術轉讓及授權、以及在相關報告及風險管理中的應用。此外，專家將結合行業案例，講解ESG的知識產權融資化（如綠色債券），協助中小企業從IP角度剖析ESG帶來的新機遇。 \n此研討會是中小企服務中心「四合一」研討會系列其中一個研討會。 \n欲知更多信息，請點擊這裏。
URL:https://starthub.asia/event/%e3%80%8c%e7%9f%a5%e8%ad%98%e7%94%a2%e6%ac%8a%e5%a6%82%e4%bd%95%e9%a9%85%e5%8b%95%e4%bc%81%e6%a5%adesg%e5%83%b9%e5%80%bc%e8%88%87%e8%9e%8d%e8%b3%87%e5%95%86%e6%a9%9f%e3%80%8d%e7%a0%94%e8%a8%8e/
LOCATION:九龍城協調道3號工業貿易大樓13樓1301室 工業貿易署中小企業支援與諮詢中心\, Hong Kong
CATEGORIES:Seminar
END:VEVENT
BEGIN:VEVENT
DTSTART;TZID=Asia/Hong_Kong:20260326T190000
DTEND;TZID=Asia/Hong_Kong:20260326T210000
DTSTAMP:20260422T032243
CREATED:20260415T075936Z
LAST-MODIFIED:20260415T075936Z
UID:65874-1774551600-1774558800@starthub.asia
SUMMARY:LSE Generate Hong Kong AI x Marketing Supper Club
DESCRIPTION:With Art Month taking place this month in Hong Kong\, our international chapter is putting on a special night for professionals working in the intersection of creativity\, AI\, marketing and art to collide! \n​Over dinner and drinks\, we will explore how AI is transforming storytelling\, branding\, and audience engagement\, especially in creative industries. Expect thoughtful conversation\, fresh perspectives\, and a room full of people building at the intersection of technology\, creativity\, and culture. \n​We will have informal sharing from Kelvin Tang\, LSE alumni founder of Pons.ai\, on his experience working with IPs such as Cristiano Ronaldo\, Counter Strike\, M+ and Longines International Horse Show. \n​This is not a panel or formal talk — it’s a curated supper conversation designed for stimulating chats and ideas you won’t get at typical networking events. \nRegistration closes at 7:59 AM on March 25th. \nFor more details\, please click here.
URL:https://starthub.asia/event/lse-generate-hong-kong-ai-x-marketing-supper-club/
LOCATION:You will see the address after you register\, Hong Kong
CATEGORIES:Networking,Seminar
ATTACH;FMTTYPE=image/avif:https://starthub.asia/wp-content/uploads/2026/04/LSE-Generate-Hong-Kong-AI-x-Marketing-Supper-Club.avif
END:VEVENT
BEGIN:VEVENT
DTSTART;TZID=Asia/Hong_Kong:20260327T150000
DTEND;TZID=Asia/Hong_Kong:20260327T170000
DTSTAMP:20260422T032243
CREATED:20260415T080315Z
LAST-MODIFIED:20260415T080315Z
UID:65884-1774623600-1774630800@starthub.asia
SUMMARY:From Ideas to Solutions: How Circularity is Evolving in Hong Kong
DESCRIPTION:Explore circular solution in Hong Kong with panelists consisting of innovators & practitioners on real-world impact\, trends & collaboration. \nJoin us for an engaging afternoon exploring how circular economy ideas are turning into real‑world solutions in Hong Kong. This in‑person panel brings together practitioners\, innovators\, and changemakers to share insights on what’s working\, what’s next\, and how collaboration is accelerating impact. Expect lively discussion\, practical takeaways\, and interactive audience participation. \nCome connect\, learn\, and be part of the circular conversation. \nFor more details\, please click here.
URL:https://starthub.asia/event/from-ideas-to-solutions-how-circularity-is-evolving-in-hong-kong/
LOCATION:Dream Impact 夢創成真 4/F\, 760 Cheung Sha Wan Road #Unit C Hong Kong\, Hong Kong
CATEGORIES:Seminar
ATTACH;FMTTYPE=image/webp:https://starthub.asia/wp-content/uploads/2026/04/From-Ideas-to-Solutions-How-Circularity-is-Evolving-in-Hong-Kong.webp
END:VEVENT
BEGIN:VEVENT
DTSTART;TZID=Asia/Hong_Kong:20260328T093000
DTEND;TZID=Asia/Hong_Kong:20260328T170000
DTSTAMP:20260422T032243
CREATED:20260415T080451Z
LAST-MODIFIED:20260415T080451Z
UID:65889-1774690200-1774717200@starthub.asia
SUMMARY:Women Techmakers Hong Kong: International Women’s Day – Break the Pattern
DESCRIPTION:IWD is our largest annual event campaign. It is a time to host events that create connections\, educate and inspire tech community. \nStop accepting things just because they’ve always been that way. \nThis is the moment to disrupt old biases\, step into spaces where we weren’t expected\, and rewrite the rules of who gets to shape technology’s future. \nFor more details\, please click here.
URL:https://starthub.asia/event/women-techmakers-hong-kong-international-womens-day-break-the-pattern/
LOCATION:Google Hong Kong 19/F Google Hong Kong Office\, Tower 2\, Times Square\, 1 Matheson St Hong Kong.\, Hong Kong
CATEGORIES:Seminar
ATTACH;FMTTYPE=image/webp:https://starthub.asia/wp-content/uploads/2026/04/Women-Techmakers-Hong-Kong-International-Womens-Day-–-Break-the-Pattern.webp
END:VEVENT
BEGIN:VEVENT
DTSTART;TZID=Asia/Hong_Kong:20260331T093000
DTEND;TZID=Asia/Hong_Kong:20260331T123000
DTSTAMP:20260422T032243
CREATED:20260415T080812Z
LAST-MODIFIED:20260415T080812Z
UID:65900-1774949400-1774960200@starthub.asia
SUMMARY:推動香港低空經濟發展： 創新、標準與新質生產力
DESCRIPTION:本講座將全面解析低空經濟產業的最新發展趨勢，帶領參加者掌握這個高速崛起領域中的機遇、技術突破與政策方向。內容涵蓋國際標準制定、無人機技術革新、可靠性與安全框架建立，並以多個實際應用場景作示例，讓您快速了解低空經濟如何為物流、檢測、旅遊、科研等行業帶來嶄新可能。 \n特別為初創企業、行業代表、研發團隊及製造商精心設計，本講座不但協助您掌握最新產業動向，更展示香港在創新技術研發、國際與本地標準制定、行業應用落地等方面的最新成果，助您在低空經濟這個新藍海中加速部署與拓展商機。 \n如果你希望把握低空經濟帶來的新一輪產業增長、尋求技術突破、或探索合作與應用落地的可能性，本講座必將為你帶來實用觀點與啟發。 \nFor more details\, please click here.
URL:https://starthub.asia/event/%e6%8e%a8%e5%8b%95%e9%a6%99%e6%b8%af%e4%bd%8e%e7%a9%ba%e7%b6%93%e6%bf%9f%e7%99%bc%e5%b1%95%ef%bc%9a-%e5%89%b5%e6%96%b0%e3%80%81%e6%a8%99%e6%ba%96%e8%88%87%e6%96%b0%e8%b3%aa%e7%94%9f%e7%94%a2%e5%8a%9b/
LOCATION:九龍達之路78號生產力大樓1樓演講廳一\, Hong Kong
CATEGORIES:Seminar
END:VEVENT
BEGIN:VEVENT
DTSTART;TZID=Asia/Hong_Kong:20260331T143000
DTEND;TZID=Asia/Hong_Kong:20260331T174500
DTSTAMP:20260422T032243
CREATED:20260415T080953Z
LAST-MODIFIED:20260415T080953Z
UID:65904-1774967400-1774979100@starthub.asia
SUMMARY:AI Security and Cybersecurity Summit for Enterprises
DESCRIPTION:In today’s digital world\, cyberattacks on organisations’ information systems are not just occasional events; they have become a real threat which may lead to the leakage of personal data and financial and reputational damage. Meanwhile\, as artificial intelligence (AI) continues to evolve at a rapid pace\, organisations of all sizes are eager to harness its transformative potential. However\, the application of AI carries challenges\, as AI also introduces cybersecurity and personal data privacy risks that must be critically addressed by organisations. \nThe Hong Kong Internet Registration Corporation Limited (HKIRC) and the Office of the Privacy Commissioner for Personal Data (PCPD) will co-organise the AI Security and Cybersecurity Summit for Enterprises (Summit) on 31 March 2026. With the Digital Policy Office acting as a strategic partner\, the Summit aims to bring together leading experts\, industry leaders\, policymakers and company directors to explore the evolving AI security and cybersecurity threat landscape\, exchange innovative solutions\, and share insights into strengthening cybersecurity and data protection in the age of AI. \nFor more details\, please click here.
URL:https://starthub.asia/event/ai-security-and-cybersecurity-summit-for-enterprises/
LOCATION:Meeting Rooms S221–230\, 2/F\, Hong Kong Convention and Exhibition Centre (Old Wing)\, Hong Kong
CATEGORIES:Seminar,Webinar
ATTACH;FMTTYPE=image/png:https://starthub.asia/wp-content/uploads/2026/04/AI-Security-and-Cybersecurity-Summit-for-Enterprises.png
END:VEVENT
BEGIN:VEVENT
DTSTART;TZID=Asia/Hong_Kong:20260409T140000
DTEND;TZID=Asia/Hong_Kong:20260409T170000
DTSTAMP:20260422T032243
CREATED:20260414T163308Z
LAST-MODIFIED:20260414T163308Z
UID:65598-1775743200-1775754000@starthub.asia
SUMMARY:Scaling Health & Wellness in 2026: Investor\, GBA Growth & Operations
DESCRIPTION:Join us for this exclusive executive briefing to learn how leading health and wellness businesses are preparing for growth in Hong Kong and the Greater Bay Area (GBA) in 2026. \nThe healthcare sector is rapidly evolving into a “Big Health” economy\, where growth depends on more than innovation. \nHealthcare companies today must navigate tighter capital markets\, cross-border digital marketing compliance\, and rising operational complexity while continuing to scale. \n🎟️ Exclusive Attendee Benefits (Valued at HK$3\,000+) \nFor more details\, please click here.
URL:https://starthub.asia/event/scaling-health-wellness-in-2026-investor-gba-growth-operations/
LOCATION:Oracle Hong Kong Headquarter\, 8/F\, Lee Garden Three\, Causeway Bay\, Hong Kong
CATEGORIES:Networking,Seminar
ATTACH;FMTTYPE=image/jpeg:https://starthub.asia/wp-content/uploads/2026/04/Scaling-Health-Wellness-in-2026-Investor-GBA-Growth-Operations.jpg
END:VEVENT
BEGIN:VEVENT
DTSTART;TZID=Asia/Hong_Kong:20260410T140000
DTEND;TZID=Asia/Hong_Kong:20260410T160000
DTSTAMP:20260422T032243
CREATED:20260414T170046Z
LAST-MODIFIED:20260414T170046Z
UID:65617-1775829600-1775836800@starthub.asia
SUMMARY:新型工業化下保健品 與食品產業的機遇: 「製造業升級支援計劃 （Manufacturing+）」 資助方案
DESCRIPTION:本研討會將介紹「先導製造及生產線升級支援計劃（Manufacturing+）」及其在生命健康產業創新中的重要角色。內容涵蓋如何透過嶄新的研發方向、智能化製造技術及符合法規要求的生產環境，提升產品質量及市場競爭力。透過專家分享與交流，與會者可深入了解相關資助機會及行業最佳實踐，有助促進功能食品、補充品及健康相關製造業的發展。 \nFor more details\, please click here.
URL:https://starthub.asia/event/%e6%96%b0%e5%9e%8b%e5%b7%a5%e6%a5%ad%e5%8c%96%e4%b8%8b%e4%bf%9d%e5%81%a5%e5%93%81-%e8%88%87%e9%a3%9f%e5%93%81%e7%94%a2%e6%a5%ad%e7%9a%84%e6%a9%9f%e9%81%87-%e3%80%8c%e8%a3%bd%e9%80%a0%e6%a5%ad/
LOCATION:九龍達之路78號生產力大樓1樓126室\, Hong Kong
CATEGORIES:Seminar
END:VEVENT
BEGIN:VEVENT
DTSTART;TZID=Asia/Hong_Kong:20260413T080000
DTEND;TZID=Asia/Hong_Kong:20260416T170000
DTSTAMP:20260422T032244
CREATED:20260414T170933Z
LAST-MODIFIED:20260414T170933Z
UID:65630-1776067200-1776358800@starthub.asia
SUMMARY:InnoEX 2026
DESCRIPTION:InnoEX is a core event of the Business of Innovation and Technology Week\, driven by the Innovation\, Technology and Industry Bureau of the HKSAR Government and the HKTDC\, showcasing cutting-edge technologies and global innovations. \nUnder the theme of “Innovate • Automate • Elevate”\, InnoEX 2026 will spotlight five dynamic areas: AI+\, Robotics\, Low-altitude Economy\, Property Technology\, and Retail Technology. \nFor more details\, please click here.
URL:https://starthub.asia/event/innoex-2026/
LOCATION:Hong Kong Convention and Exhibition Centre\, Hong Kong
CATEGORIES:Conference,Seminar
ATTACH;FMTTYPE=image/jpeg:https://starthub.asia/wp-content/uploads/2026/04/InnoEX-2026.jpg
END:VEVENT
BEGIN:VEVENT
DTSTART;TZID=Asia/Hong_Kong:20260415T163000
DTEND;TZID=Asia/Hong_Kong:20260415T183000
DTSTAMP:20260422T032244
CREATED:20260414T171344Z
LAST-MODIFIED:20260414T171344Z
UID:65638-1776270600-1776277800@starthub.asia
SUMMARY:PolyU x CEO Club ─ Power of AI: Shaping the Future Enterprise
DESCRIPTION:Join us for an inspiring seminar to learn practical insights from practitioners and real project case studies. Discover how AI and robotics are reshaping business strategy\, operations and growth across industries. Hear from PolyU researchers and start-ups how advanced technologies are transforming diagnostics and personalised care\, as well as providing intelligent retro-commissioning solutions to achieve sustainable building management. \nA multidisciplinary panel will discuss industry trends and the application of AI-driven technologies across finance\, healthcare\, building management\, tourism and education. \nRegister Now! Don’t miss this opportunity to network with industry partners\, AI experts and other stakeholders. Seats are limited\, first-come-first-served basis. \nFor more details\, please click here.
URL:https://starthub.asia/event/polyu-x-ceo-club-%e2%94%80-power-of-ai-shaping-the-future-enterprise/
LOCATION:the STAGE\, Hall 3E\, Hong Kong Convention and Exhibition Centre\, Hong Kong
CATEGORIES:Seminar
ATTACH;FMTTYPE=image/jpeg:https://starthub.asia/wp-content/uploads/2026/04/PolyU-x-CEO-Club-─-Power-of-AI-Shaping-the-Future-Enterprise.jpg
END:VEVENT
BEGIN:VEVENT
DTSTART;TZID=Asia/Hong_Kong:20260417T141500
DTEND;TZID=Asia/Hong_Kong:20260417T174500
DTSTAMP:20260422T032244
CREATED:20260414T171856Z
LAST-MODIFIED:20260414T171856Z
UID:65646-1776435300-1776447900@starthub.asia
SUMMARY:CUHK Innovation Summit
DESCRIPTION:Registration Deadline: 10 April 2026 (Friday) \nWhat to expect?\n1. Announcement of the latest development at CUHK Innovation’s investment platform\n2. Panel by KTO – From Research Excellence to Real World Impact — A Cross Faculty Dialogue on Research Commercialisation\n3. Bring together Deans from Medicine\, Engineering\, and Science to examine how academic excellence\, translational readiness\, and industry engagement converge to drive impactful commercialisation\n4. Panel by CUIL – Investor–Investee Dialogue: From Fundraising to Partnerships — Building Alignment in Deep-Tech Ventures\n• Feature CUIL portfolio companies and their investors\, sharing candid insights on fundraising experiences\, expectation alignment\, and the development of long-term partnerships in deep tech ventures\n5. Project Showcase\n• Featuring 10+ CUHK startup teams\, who will present their cutting-edge research outcomes and innovative solutions across biomedicine\, engineering\, and emerging technologies. \nFor more details\, please click here.
URL:https://starthub.asia/event/cuhk-innovation-summit/
LOCATION:LT7\, Lee Shau Kee Building\, CUHK\, Hong Kong
CATEGORIES:Seminar
ATTACH;FMTTYPE=image/jpeg:https://starthub.asia/wp-content/uploads/2026/04/CUHK-Innovation-Summit.jpg
END:VEVENT
BEGIN:VEVENT
DTSTART;TZID=Asia/Hong_Kong:20260418T140000
DTEND;TZID=Asia/Hong_Kong:20260418T173000
DTSTAMP:20260422T032244
CREATED:20260414T172145Z
LAST-MODIFIED:20260414T172145Z
UID:65654-1776520800-1776533400@starthub.asia
SUMMARY:Hult Prize 2026 Hong Kong Summit
DESCRIPTION:The Hult Prize Hong Kong Summit is a flagship regional event that brings together outstanding student entrepreneurs\, global mentors\, and impact investors in a vibrant platform dedicated to social innovation and sustainable change. As part of the world’s largest student startup competition — often hailed as the “Nobel Prize for Students” — the Summit celebrates purpose-driven ventures that align with the United Nations Sustainable Development Goals (SDGs) and showcases how business can be a force for good. \nHosting the first-ever Hong Kong Summit\, HKUST takes pride in leading this transformative initiative\, uniting young changemakers from across Hong Kong who are pioneering solutions to some of the world’s most pressing challenges. Beyond a competition\, the Summit serves as a launchpad for the next generation of social innovators — connecting ideas with impact\, and empowering students to reimagine the future through entrepreneurship. \nFor more details\, please click here.
URL:https://starthub.asia/event/hult-prize-2026-hong-kong-summit/
LOCATION:Art Hall\, HKUST\, Hong Kong
CATEGORIES:Seminar
ATTACH;FMTTYPE=image/png:https://starthub.asia/wp-content/uploads/2026/04/Hult-Prize-2026-Hong-Kong-Summit.png
END:VEVENT
BEGIN:VEVENT
DTSTART;TZID=Asia/Hong_Kong:20260422T090000
DTEND;TZID=Asia/Hong_Kong:20260422T163000
DTSTAMP:20260422T032244
CREATED:20260414T172622Z
LAST-MODIFIED:20260414T172622Z
UID:65668-1776848400-1776875400@starthub.asia
SUMMARY:B:COMING 2026 – Hong Kong’s First B Corp International Summit
DESCRIPTION:B:COMING is Hong Kong’s first B Corp international summit – a landmark event designed to accelerate the B Corp Movement across the region and build a connected\, future-ready ecosystem for businesses that create positive impact for all people and our planet. \nThe world has changed. Business must act fast. \nWhy Should You Attend? \n“Business For Good” is no longer a nice-to-have – it is fast becoming how resilient companies compete. Stay ahead of where business is heading\, and what it means for you. \nMarkets are shifting fast. Customer expectations are evolving. Talent priorities are changing. Regulations and supply chains are becoming more complex. The question is no longer whether these trends will affect your business\, but how prepared you are to respond. \nB:COMING brings together experienced B Corp leaders\, founders and C-suite executives to share practical insights on how companies are adapting and thriving – from navigating consumer behaviour to building resilient supply chains and staying competitive in uncertain times. \nThis is not a theoretical conference. It’s a space for honest conversations\, real lessons\, and perspectives you can take back to your business. \nAttend to:\n• Understand shifting market and consumer trends shaping the next decade\n• Learn how peers are managing risk\, growth and operational complexity\n• Gain practical insights to stay competitive in a changing landscape\n• Connect with leaders across industries facing similar challenges\n• Explore synergies and opportunities in Asia and beyond with new partnerships\n• Discover how B Corp certification can strengthen trust\, resilience\, and long-term competitiveness \nFor more details\, please click here.
URL:https://starthub.asia/event/bcoming-2026-hong-kongs-first-b-corp-international-summit/
LOCATION:BEC Auditorium\, G/F\, 77 Tat Chee Avenue\, Kowloon Tong\, Hong Kong
CATEGORIES:Seminar
ATTACH;FMTTYPE=image/jpeg:https://starthub.asia/wp-content/uploads/2026/04/B-COMING-2026-–-Hong-Kongs-First-B-Corp-International-Summit.jpg
END:VEVENT
BEGIN:VEVENT
DTSTART;TZID=Asia/Hong_Kong:20260422T100000
DTEND;TZID=Asia/Hong_Kong:20260422T180000
DTSTAMP:20260422T032244
CREATED:20260414T172800Z
LAST-MODIFIED:20260414T172800Z
UID:65673-1776852000-1776880800@starthub.asia
SUMMARY:The Inaugural Global Web4.0 Summit：Innovation and Convergence of Al + Digital Assets
DESCRIPTION:​AI + Digital Assets: Innovation and Convergence \n​As AI advances at an exponential pace and regulatory frameworks for digital assets continue to mature\, the world is entering a new inflection point for the internet and finance. \n​If Web3 accelerated decentralization and digital ownership\, Web 4.0 points toward an “active intelligent network”—where AI agents can act\, decide\, and transact autonomously. When AI converges with digital assets as programmable liquidity\, payments and value settlement can become automated\, 24/7\, and borderless. \n​Against this backdrop\, AlloyX Group and ME Group are proud to present the Inaugural Global Web 4.0 Conference: Innovation and Convergence of AI + Digital Assets in Hong Kong. \n​The summit brings together leading AI builders\, digital asset institutions\, issuers\, and Web3 ecosystem leaders to explore how AI and digital assets can power the next leap in the internet and digital economy. \nFor more details\, please click here.
URL:https://starthub.asia/event/the-inaugural-global-web4-0-summit%ef%bc%9ainnovation-and-convergence-of-al-digital-assets/
LOCATION:Cyberport Address: Cyberport\, Pokfulam\, Hong Kong\, Hong Kong
CATEGORIES:Seminar
ATTACH;FMTTYPE=image/jpeg:https://starthub.asia/wp-content/uploads/2026/04/The-Inaugural-Global-Web4.0-Summit-Innovation-and-Convergence-of-Al-Digital-Assets.jpeg
END:VEVENT
BEGIN:VEVENT
DTSTART;TZID=Asia/Hong_Kong:20260423T150000
DTEND;TZID=Asia/Hong_Kong:20260423T160000
DTSTAMP:20260422T032244
CREATED:20260414T173239Z
LAST-MODIFIED:20260414T173239Z
UID:65687-1776956400-1776960000@starthub.asia
SUMMARY:Business Opportunities for Foreign Companies in GBA Cities – Huizhou\, Dongguan & Foshan
DESCRIPTION:The rapid development of the Greater Bay Area (GBA) in recent years has brought unlimited potential business opportunities to international businesses. To provide support and guidance to foreign companies in Hong Kong to tap into the GBA market\, the HKTDC has introduced the “GoGBA Coffee & Chat for Expatriates” series. Consultant or industry expert will be invited to share insights and answer questions in the form of interactive group exchange\, as well as to provide practical advice on doing business in the GBA. \nFor more details\, please click here.
URL:https://starthub.asia/event/business-opportunities-for-foreign-companies-in-gba-cities-huizhou-dongguan-foshan/
LOCATION:HKTDC SME Centre (Ground Floor\, Hong Kong Convention and Exhibition Centre\, 1 Expo Drive\, Wanchai\, Hong Kong)\, Hong Kong
CATEGORIES:Seminar
END:VEVENT
BEGIN:VEVENT
DTSTART;TZID=Asia/Hong_Kong:20260427T080000
DTEND;TZID=Asia/Hong_Kong:20260429T170000
DTSTAMP:20260422T032244
CREATED:20260414T173605Z
LAST-MODIFIED:20260414T173605Z
UID:65696-1777276800-1777482000@starthub.asia
SUMMARY:HKTDC Hong Kong International Licensing Show & Asian Licensing Conference (ALC)
DESCRIPTION:HKTDC Hong Kong International Licensing Show (HKILS) is the flagship platform for the licensing industry in Asia. It gathers licensors\, brands\, licensing agents\, licensees and traders from around the world\, opening doors to unparalleled business opportunities. \nRunning concurrently is the Asian Licensing Conference (ALC)\, where the licensing world’s brightest minds and elites come together to exchange market intelligence for the global licensing industry. \nFor more details\, please click here.
URL:https://starthub.asia/event/hktdc-hong-kong-international-licensing-show-asian-licensing-conference-alc/
LOCATION:Hong Kong Convention and Exhibition Centre\, Hong Kong
CATEGORIES:Conference,Seminar
ATTACH;FMTTYPE=image/png:https://starthub.asia/wp-content/uploads/2026/04/HKTDC-Hong-Kong-International-Licensing-Show-Asian-Licensing-Conference-ALC.png
END:VEVENT
BEGIN:VEVENT
DTSTART;TZID=Asia/Hong_Kong:20260428T143000
DTEND;TZID=Asia/Hong_Kong:20260428T174500
DTSTAMP:20260422T032244
CREATED:20260414T173745Z
LAST-MODIFIED:20260414T173745Z
UID:65700-1777386600-1777398300@starthub.asia
SUMMARY:HKUST Industry Engagement Day + – AI + Medicine: The Future of Intelligence Healthcare
DESCRIPTION:Join us for a dynamic event that brings together pioneers in artificial intelligence and healthcare to explore the transformative potential of AI in medicine. This Industry Engagement Day Plus features global insights from leading experts\, a showcase of innovative startups\, and engaging industry dialogues. Discover how cutting-edge AI technologies are reshaping diagnostics\, treatment\, and patient care\, and explore collaboration opportunities at the intersection of technology and healthcare. \nWhether you are a researcher\, industry professional\, or entrepreneur\, this event offers a unique platform to connect\, learn\, and shape the future of intelligent healthcare. \nFor more details\, please click here.
URL:https://starthub.asia/event/hkust-industry-engagement-day-ai-medicine-the-future-of-intelligence-healthcare/
LOCATION:Kaisa Group Lecture Theater\, The HKUST Jockey Club Institute for Advanced Study (IAS)\, HKUST Campus\, Hong Kong
CATEGORIES:Seminar
ATTACH;FMTTYPE=image/png:https://starthub.asia/wp-content/uploads/2026/04/HKUST-Industry-Engagement-Day-AI-Medicine-The-Future-of-Intelligence-Healthcare.png
END:VEVENT
BEGIN:VEVENT
DTSTART;TZID=Asia/Hong_Kong:20260429T143000
DTEND;TZID=Asia/Hong_Kong:20260429T190000
DTSTAMP:20260422T032244
CREATED:20260414T174157Z
LAST-MODIFIED:20260414T174157Z
UID:65710-1777473000-1777489200@starthub.asia
SUMMARY:IPIC Incubation Graduation Ceremony cum Startup Demo Day
DESCRIPTION:Join us for the IPIC Incubation Graduation Ceremony cum Startup Demo Day — a celebratory milestone recognizing the progress and achievements of our IPIC startups. This event marks the culmination of their entrepreneurial journey\, featuring live startup showcases\, product demos\, and pitching sessions. \nThroughout the afternoon and evening\, participating teams will present what they’ve built during the incubation period\, engage with members of the HKUST entrepreneurship community\, and connect with a distinguished group of mentors and industry experts. It’s a valuable opportunity to gain visibility\, exchange ideas\, and explore potential collaborations. \nFor more details\, please click here.
URL:https://starthub.asia/event/ipic-incubation-graduation-ceremony-cum-startup-demo-day/
LOCATION:HKUST\, Hong Kong
CATEGORIES:Pitching,Seminar
ATTACH;FMTTYPE=image/png:https://starthub.asia/wp-content/uploads/2026/04/IPIC-Incubation-Graduation-Ceremony-cum-Startup-Demo-Day.png
END:VEVENT
END:VCALENDAR