BEGIN:VCALENDAR
VERSION:2.0
PRODID:-//Starthub Asia - ECPv6.15.14//NONSGML v1.0//EN
CALSCALE:GREGORIAN
METHOD:PUBLISH
X-ORIGINAL-URL:https://starthub.asia
X-WR-CALDESC:Events for Starthub Asia
REFRESH-INTERVAL;VALUE=DURATION:PT1H
X-Robots-Tag:noindex
X-PUBLISHED-TTL:PT1H
BEGIN:VTIMEZONE
TZID:Asia/Hong_Kong
BEGIN:STANDARD
TZOFFSETFROM:+0800
TZOFFSETTO:+0800
TZNAME:HKT
DTSTART:20250101T000000
END:STANDARD
END:VTIMEZONE
BEGIN:VEVENT
DTSTART;TZID=Asia/Hong_Kong:20260418T140000
DTEND;TZID=Asia/Hong_Kong:20260418T173000
DTSTAMP:20260422T020048
CREATED:20260414T172145Z
LAST-MODIFIED:20260414T172145Z
UID:65654-1776520800-1776533400@starthub.asia
SUMMARY:Hult Prize 2026 Hong Kong Summit
DESCRIPTION:The Hult Prize Hong Kong Summit is a flagship regional event that brings together outstanding student entrepreneurs\, global mentors\, and impact investors in a vibrant platform dedicated to social innovation and sustainable change. As part of the world’s largest student startup competition — often hailed as the “Nobel Prize for Students” — the Summit celebrates purpose-driven ventures that align with the United Nations Sustainable Development Goals (SDGs) and showcases how business can be a force for good. \nHosting the first-ever Hong Kong Summit\, HKUST takes pride in leading this transformative initiative\, uniting young changemakers from across Hong Kong who are pioneering solutions to some of the world’s most pressing challenges. Beyond a competition\, the Summit serves as a launchpad for the next generation of social innovators — connecting ideas with impact\, and empowering students to reimagine the future through entrepreneurship. \nFor more details\, please click here.
URL:https://starthub.asia/event/hult-prize-2026-hong-kong-summit/
LOCATION:Art Hall\, HKUST\, Hong Kong
CATEGORIES:Seminar
ATTACH;FMTTYPE=image/png:https://starthub.asia/wp-content/uploads/2026/04/Hult-Prize-2026-Hong-Kong-Summit.png
END:VEVENT
BEGIN:VEVENT
DTSTART;TZID=Asia/Hong_Kong:20260422T090000
DTEND;TZID=Asia/Hong_Kong:20260422T163000
DTSTAMP:20260422T020048
CREATED:20260414T172622Z
LAST-MODIFIED:20260414T172622Z
UID:65668-1776848400-1776875400@starthub.asia
SUMMARY:B:COMING 2026 – Hong Kong’s First B Corp International Summit
DESCRIPTION:B:COMING is Hong Kong’s first B Corp international summit – a landmark event designed to accelerate the B Corp Movement across the region and build a connected\, future-ready ecosystem for businesses that create positive impact for all people and our planet. \nThe world has changed. Business must act fast. \nWhy Should You Attend? \n“Business For Good” is no longer a nice-to-have – it is fast becoming how resilient companies compete. Stay ahead of where business is heading\, and what it means for you. \nMarkets are shifting fast. Customer expectations are evolving. Talent priorities are changing. Regulations and supply chains are becoming more complex. The question is no longer whether these trends will affect your business\, but how prepared you are to respond. \nB:COMING brings together experienced B Corp leaders\, founders and C-suite executives to share practical insights on how companies are adapting and thriving – from navigating consumer behaviour to building resilient supply chains and staying competitive in uncertain times. \nThis is not a theoretical conference. It’s a space for honest conversations\, real lessons\, and perspectives you can take back to your business. \nAttend to:\n• Understand shifting market and consumer trends shaping the next decade\n• Learn how peers are managing risk\, growth and operational complexity\n• Gain practical insights to stay competitive in a changing landscape\n• Connect with leaders across industries facing similar challenges\n• Explore synergies and opportunities in Asia and beyond with new partnerships\n• Discover how B Corp certification can strengthen trust\, resilience\, and long-term competitiveness \nFor more details\, please click here.
URL:https://starthub.asia/event/bcoming-2026-hong-kongs-first-b-corp-international-summit/
LOCATION:BEC Auditorium\, G/F\, 77 Tat Chee Avenue\, Kowloon Tong\, Hong Kong
CATEGORIES:Seminar
ATTACH;FMTTYPE=image/jpeg:https://starthub.asia/wp-content/uploads/2026/04/B-COMING-2026-–-Hong-Kongs-First-B-Corp-International-Summit.jpg
END:VEVENT
BEGIN:VEVENT
DTSTART;TZID=Asia/Hong_Kong:20260422T100000
DTEND;TZID=Asia/Hong_Kong:20260422T180000
DTSTAMP:20260422T020048
CREATED:20260414T172800Z
LAST-MODIFIED:20260414T172800Z
UID:65673-1776852000-1776880800@starthub.asia
SUMMARY:The Inaugural Global Web4.0 Summit：Innovation and Convergence of Al + Digital Assets
DESCRIPTION:​AI + Digital Assets: Innovation and Convergence \n​As AI advances at an exponential pace and regulatory frameworks for digital assets continue to mature\, the world is entering a new inflection point for the internet and finance. \n​If Web3 accelerated decentralization and digital ownership\, Web 4.0 points toward an “active intelligent network”—where AI agents can act\, decide\, and transact autonomously. When AI converges with digital assets as programmable liquidity\, payments and value settlement can become automated\, 24/7\, and borderless. \n​Against this backdrop\, AlloyX Group and ME Group are proud to present the Inaugural Global Web 4.0 Conference: Innovation and Convergence of AI + Digital Assets in Hong Kong. \n​The summit brings together leading AI builders\, digital asset institutions\, issuers\, and Web3 ecosystem leaders to explore how AI and digital assets can power the next leap in the internet and digital economy. \nFor more details\, please click here.
URL:https://starthub.asia/event/the-inaugural-global-web4-0-summit%ef%bc%9ainnovation-and-convergence-of-al-digital-assets/
LOCATION:Cyberport Address: Cyberport\, Pokfulam\, Hong Kong\, Hong Kong
CATEGORIES:Seminar
ATTACH;FMTTYPE=image/jpeg:https://starthub.asia/wp-content/uploads/2026/04/The-Inaugural-Global-Web4.0-Summit-Innovation-and-Convergence-of-Al-Digital-Assets.jpeg
END:VEVENT
BEGIN:VEVENT
DTSTART;TZID=Asia/Hong_Kong:20260423T150000
DTEND;TZID=Asia/Hong_Kong:20260423T160000
DTSTAMP:20260422T020048
CREATED:20260414T173239Z
LAST-MODIFIED:20260414T173239Z
UID:65687-1776956400-1776960000@starthub.asia
SUMMARY:Business Opportunities for Foreign Companies in GBA Cities – Huizhou\, Dongguan & Foshan
DESCRIPTION:The rapid development of the Greater Bay Area (GBA) in recent years has brought unlimited potential business opportunities to international businesses. To provide support and guidance to foreign companies in Hong Kong to tap into the GBA market\, the HKTDC has introduced the “GoGBA Coffee & Chat for Expatriates” series. Consultant or industry expert will be invited to share insights and answer questions in the form of interactive group exchange\, as well as to provide practical advice on doing business in the GBA. \nFor more details\, please click here.
URL:https://starthub.asia/event/business-opportunities-for-foreign-companies-in-gba-cities-huizhou-dongguan-foshan/
LOCATION:HKTDC SME Centre (Ground Floor\, Hong Kong Convention and Exhibition Centre\, 1 Expo Drive\, Wanchai\, Hong Kong)\, Hong Kong
CATEGORIES:Seminar
END:VEVENT
BEGIN:VEVENT
DTSTART;TZID=Asia/Hong_Kong:20260427T080000
DTEND;TZID=Asia/Hong_Kong:20260429T170000
DTSTAMP:20260422T020048
CREATED:20260414T173605Z
LAST-MODIFIED:20260414T173605Z
UID:65696-1777276800-1777482000@starthub.asia
SUMMARY:HKTDC Hong Kong International Licensing Show & Asian Licensing Conference (ALC)
DESCRIPTION:HKTDC Hong Kong International Licensing Show (HKILS) is the flagship platform for the licensing industry in Asia. It gathers licensors\, brands\, licensing agents\, licensees and traders from around the world\, opening doors to unparalleled business opportunities. \nRunning concurrently is the Asian Licensing Conference (ALC)\, where the licensing world’s brightest minds and elites come together to exchange market intelligence for the global licensing industry. \nFor more details\, please click here.
URL:https://starthub.asia/event/hktdc-hong-kong-international-licensing-show-asian-licensing-conference-alc/
LOCATION:Hong Kong Convention and Exhibition Centre\, Hong Kong
CATEGORIES:Conference,Seminar
ATTACH;FMTTYPE=image/png:https://starthub.asia/wp-content/uploads/2026/04/HKTDC-Hong-Kong-International-Licensing-Show-Asian-Licensing-Conference-ALC.png
END:VEVENT
BEGIN:VEVENT
DTSTART;TZID=Asia/Hong_Kong:20260428T143000
DTEND;TZID=Asia/Hong_Kong:20260428T174500
DTSTAMP:20260422T020048
CREATED:20260414T173745Z
LAST-MODIFIED:20260414T173745Z
UID:65700-1777386600-1777398300@starthub.asia
SUMMARY:HKUST Industry Engagement Day + – AI + Medicine: The Future of Intelligence Healthcare
DESCRIPTION:Join us for a dynamic event that brings together pioneers in artificial intelligence and healthcare to explore the transformative potential of AI in medicine. This Industry Engagement Day Plus features global insights from leading experts\, a showcase of innovative startups\, and engaging industry dialogues. Discover how cutting-edge AI technologies are reshaping diagnostics\, treatment\, and patient care\, and explore collaboration opportunities at the intersection of technology and healthcare. \nWhether you are a researcher\, industry professional\, or entrepreneur\, this event offers a unique platform to connect\, learn\, and shape the future of intelligent healthcare. \nFor more details\, please click here.
URL:https://starthub.asia/event/hkust-industry-engagement-day-ai-medicine-the-future-of-intelligence-healthcare/
LOCATION:Kaisa Group Lecture Theater\, The HKUST Jockey Club Institute for Advanced Study (IAS)\, HKUST Campus\, Hong Kong
CATEGORIES:Seminar
ATTACH;FMTTYPE=image/png:https://starthub.asia/wp-content/uploads/2026/04/HKUST-Industry-Engagement-Day-AI-Medicine-The-Future-of-Intelligence-Healthcare.png
END:VEVENT
BEGIN:VEVENT
DTSTART;TZID=Asia/Hong_Kong:20260429T143000
DTEND;TZID=Asia/Hong_Kong:20260429T190000
DTSTAMP:20260422T020048
CREATED:20260414T174157Z
LAST-MODIFIED:20260414T174157Z
UID:65710-1777473000-1777489200@starthub.asia
SUMMARY:IPIC Incubation Graduation Ceremony cum Startup Demo Day
DESCRIPTION:Join us for the IPIC Incubation Graduation Ceremony cum Startup Demo Day — a celebratory milestone recognizing the progress and achievements of our IPIC startups. This event marks the culmination of their entrepreneurial journey\, featuring live startup showcases\, product demos\, and pitching sessions. \nThroughout the afternoon and evening\, participating teams will present what they’ve built during the incubation period\, engage with members of the HKUST entrepreneurship community\, and connect with a distinguished group of mentors and industry experts. It’s a valuable opportunity to gain visibility\, exchange ideas\, and explore potential collaborations. \nFor more details\, please click here.
URL:https://starthub.asia/event/ipic-incubation-graduation-ceremony-cum-startup-demo-day/
LOCATION:HKUST\, Hong Kong
CATEGORIES:Pitching,Seminar
ATTACH;FMTTYPE=image/png:https://starthub.asia/wp-content/uploads/2026/04/IPIC-Incubation-Graduation-Ceremony-cum-Startup-Demo-Day.png
END:VEVENT
END:VCALENDAR