BEGIN:VCALENDAR
VERSION:2.0
PRODID:-//Starthub Asia - ECPv6.15.14//NONSGML v1.0//EN
CALSCALE:GREGORIAN
METHOD:PUBLISH
X-WR-CALNAME:Starthub Asia
X-ORIGINAL-URL:https://starthub.asia
X-WR-CALDESC:Events for Starthub Asia
REFRESH-INTERVAL;VALUE=DURATION:PT1H
X-Robots-Tag:noindex
X-PUBLISHED-TTL:PT1H
BEGIN:VTIMEZONE
TZID:Asia/Hong_Kong
BEGIN:STANDARD
TZOFFSETFROM:+0800
TZOFFSETTO:+0800
TZNAME:HKT
DTSTART:20240101T000000
END:STANDARD
END:VTIMEZONE
BEGIN:VEVENT
DTSTART;TZID=Asia/Hong_Kong:20251202T090000
DTEND;TZID=Asia/Hong_Kong:20251203T170000
DTSTAMP:20260421T225718
CREATED:20251021T055916Z
LAST-MODIFIED:20251021T055916Z
UID:62929-1764666000-1764781200@starthub.asia
SUMMARY:2025 Global Innovation Show
DESCRIPTION:The 2025 Global Innovation Show (GIS) (Hong Kong) is set to take place on December 2–3\, 2025 at The AsiaWorld-Expo in Hong Kong. \nThis premier technology event is hosted by the Global Tech Innovation Alliance (Hong Kong) (GTIA) and co-hosted by the Silicon Valley Innovation & Entrepreneurship Forum (SVIEF). It is organized by Beijing Gaochuang Technology Co.\, Ltd and Beijing Zhongji Shengshi Intelligent Technology Co.\, Ltd. (2045 Accelerator).The 2025 GIS is strongly supported by the China Chamber of International Commerce (CCOIC/CCPIT)\, which will organize domestic and international enterprises and distinguished guests to attend. \nDedicated to advancing global exchanges and collaboration in scientific and technological innovation\, GIS champions the principle of “Technology for Good” and “AI for Good”. As a world-class platform for the launch of cutting-edge innovations\, it will bring together over 900 pioneering start-ups from leading innovation hubs including Europe\, the United States\, China\, Japan\, Singapore\, and Australia\, alongside more than 100 global Fortune 500 companies\, unicorns\, and industry leaders. The focus will be on the industrialization of disruptive technologies. \nWith the collaboration of Hong Kong\, Guangzhou\, Shenzhen\, and Macao\, GIS is committed to creating a “landmark of the Greater Bay Area” for technological innovation and industrialization. Rooted in Hong Kong and leveraging the collective strengths of the Guangdong-Hong Kong-Macao Greater Bay Area\, GIS aims to help the region become a global innovation hub while building a three-tiered ecosystem that integrates technology\, capital\, and markets. The event will bring together over 500 top investors and more than 1\,000 professional global buyers onsite\, establishing a pragmatic platform for business matching and transactions. \nThe exhibition will feature eight key sectors: AI + Embodied Robot\, New energy & Automotive Technology、Consumer Electronics、Smart Home Internet of Things、Big Data+Enterprise Technology\, Advanced Manufacturing\, Biomedical Technology\, and G-Star New Concept Startups. In addition\, an international pavilion matrix will showcase five key country/region themes — the United States\, Europe\, South Korea\, ASEAN\, and Hong Kong — providing a comprehensive display of the world’s cutting-edge technological innovations. \nFor more details\, please click here.
URL:https://starthub.asia/event/2025-global-innovation-show/
LOCATION:Hong Kong AsianWorld Expo
CATEGORIES:Conference,Course,Exhibition,Networking,Pitching,Tour
ATTACH;FMTTYPE=image/jpeg:https://starthub.asia/wp-content/uploads/2025/10/2025-Global-Innovation-Show.jpeg
END:VEVENT
END:VCALENDAR