BEGIN:VCALENDAR
VERSION:2.0
PRODID:-//Starthub Asia - ECPv6.15.14//NONSGML v1.0//EN
CALSCALE:GREGORIAN
METHOD:PUBLISH
X-WR-CALNAME:Starthub Asia
X-ORIGINAL-URL:https://starthub.asia
X-WR-CALDESC:Events for Starthub Asia
REFRESH-INTERVAL;VALUE=DURATION:PT1H
X-Robots-Tag:noindex
X-PUBLISHED-TTL:PT1H
BEGIN:VTIMEZONE
TZID:Asia/Hong_Kong
BEGIN:STANDARD
TZOFFSETFROM:+0800
TZOFFSETTO:+0800
TZNAME:HKT
DTSTART:20250101T000000
END:STANDARD
END:VTIMEZONE
BEGIN:VEVENT
DTSTART;TZID=Asia/Hong_Kong:20260521T160000
DTEND;TZID=Asia/Hong_Kong:20260521T170000
DTSTAMP:20260421T200812
CREATED:20260415T053721Z
LAST-MODIFIED:20260415T053721Z
UID:65747-1779379200-1779382800@starthub.asia
SUMMARY:「中小企資援組」網絡研討會 「資助領航・科技賦能」中小企拓展藍圖系列 – 【電商快線】AI 驅動數碼升級，借力資助開拓跨境商機
DESCRIPTION:✓ 想掌握人工智能（AI）、電商與 ESG 的最新趨勢？\n✓ 想了解如何運用政府資助，推動科技升級與市場拓展？ \n「中小企資援組」網絡研討會全新系列︰「資助領航・科技賦能」中小企拓展藍圖，將以三大主題帶你拆解中小企必備的升級策略，實戰示範如何善用各類資助，加速業務向世界出發。 \n立即報名，鎖定3場免費網絡研討會，由本地走向全球！ \nEP.2【電商快線】AI 驅動數碼升級，借力資助開拓跨境商機\n嘉賓講者︰香港互聯網及電子商務發展協會執行主席及副會長趙溢佳先生\n日期：2026年5 月 21 日（四）｜16:00–17:00\n重點內容︰\n• AI電商方案\n• O2O跨境轉型及相關資助\n• BUD專項基金攻略︰電商易\n• 中小企實戰故事 \nFor more details\, please click here.
URL:https://starthub.asia/event/%e3%80%8c%e4%b8%ad%e5%b0%8f%e4%bc%81%e8%b3%87%e6%8f%b4%e7%b5%84%e3%80%8d%e7%b6%b2%e7%b5%a1%e7%a0%94%e8%a8%8e%e6%9c%83-%e3%80%8c%e8%b3%87%e5%8a%a9%e9%a0%98%e8%88%aa%e3%83%bb%e7%a7%91%e6%8a%80-2/
LOCATION:線上直播\, Hong Kong
CATEGORIES:Webinar
ATTACH;FMTTYPE=image/webp:https://starthub.asia/wp-content/uploads/2026/04/「中小企資援組」網絡研討會-「資助領航・科技賦能」中小企拓展藍圖系列-–-【電商快線】AI-驅動數碼升級，借力資助開拓跨境商機.webp
END:VEVENT
END:VCALENDAR