BEGIN:VCALENDAR
VERSION:2.0
PRODID:-//Starthub Asia - ECPv6.15.14//NONSGML v1.0//EN
CALSCALE:GREGORIAN
METHOD:PUBLISH
X-ORIGINAL-URL:https://starthub.asia
X-WR-CALDESC:Events for Starthub Asia
REFRESH-INTERVAL;VALUE=DURATION:PT1H
X-Robots-Tag:noindex
X-PUBLISHED-TTL:PT1H
BEGIN:VTIMEZONE
TZID:Asia/Hong_Kong
BEGIN:STANDARD
TZOFFSETFROM:+0800
TZOFFSETTO:+0800
TZNAME:HKT
DTSTART:20250101T000000
END:STANDARD
END:VTIMEZONE
BEGIN:VEVENT
DTSTART;TZID=Asia/Hong_Kong:20260417T150000
DTEND;TZID=Asia/Hong_Kong:20260417T160000
DTSTAMP:20260421T202843
CREATED:20260414T172011Z
LAST-MODIFIED:20260414T172011Z
UID:65651-1776438000-1776441600@starthub.asia
SUMMARY:「製造及生產線 『升』級支援先導計劃」 提交申請 – 關鍵小貼士講解
DESCRIPTION:「製造及生產線『升』級支援先導計劃」(「先導計劃」)旨在支援在香港從事製造業務或營運生產線的企業制訂智能生產策略，以及為現有製造業務或生產線引進先進技術。 \n有鑑於不少申請者於採購及提交申請時遇到不少疑問，秘書處將於2026 年4 月17 日下午3:00-4:00 舉行有關介紹先導計劃的各項指引和規定的網上講解會 ，屆時秘書處代表將於講解會中介紹先導計劃的申請資格、資助金額和範圍、採購程序、申請程序、評審準則、發放資助、申請所需文件等，以令申請者在這些流程中進行得更順暢。 \n想了解更多？立即登記參加！ \nFor more details\, please click here.
URL:https://starthub.asia/event/%e3%80%8c%e8%a3%bd%e9%80%a0%e5%8f%8a%e7%94%9f%e7%94%a2%e7%b7%9a-%e3%80%8e%e5%8d%87%e3%80%8f%e7%b4%9a%e6%94%af%e6%8f%b4%e5%85%88%e5%b0%8e%e8%a8%88%e5%8a%83%e3%80%8d-%e6%8f%90%e4%ba%a4%e7%94%b3%e8%ab%8b/
LOCATION:網上直播\, Hong Kong
CATEGORIES:Webinar
END:VEVENT
END:VCALENDAR