BEGIN:VCALENDAR
VERSION:2.0
PRODID:-//Starthub Asia - ECPv6.15.14//NONSGML v1.0//EN
CALSCALE:GREGORIAN
METHOD:PUBLISH
X-WR-CALNAME:Starthub Asia
X-ORIGINAL-URL:https://starthub.asia
X-WR-CALDESC:Events for Starthub Asia
REFRESH-INTERVAL;VALUE=DURATION:PT1H
X-Robots-Tag:noindex
X-PUBLISHED-TTL:PT1H
BEGIN:VTIMEZONE
TZID:Asia/Hong_Kong
BEGIN:STANDARD
TZOFFSETFROM:+0800
TZOFFSETTO:+0800
TZNAME:HKT
DTSTART:20230101T000000
END:STANDARD
END:VTIMEZONE
BEGIN:VEVENT
DTSTART;TZID=Asia/Hong_Kong:20250930T160000
DTEND;TZID=Asia/Hong_Kong:20250930T170000
DTSTAMP:20260421T190548
CREATED:20250811T010308Z
LAST-MODIFIED:20250811T010308Z
UID:58961-1759248000-1759251600@starthub.asia
SUMMARY:政府資助推動「新質生產力」 網絡研討會-「資」助驅動綠色循環
DESCRIPTION:「中小企資援組」舉辦一連三場「政府資助推動『新質生產力』」網絡研討會系列，匯聚行業、技術及資助專家，與您探索「新質生產力」— 以創新綠色技術及政府資助實現產業升級及可持續發展。 \n把握機會 ! 開拓智慧未來 ! \n\nFor more details\, please click here.
URL:https://starthub.asia/event/%e6%94%bf%e5%ba%9c%e8%b3%87%e5%8a%a9%e6%8e%a8%e5%8b%95%e3%80%8c%e6%96%b0%e8%b3%aa%e7%94%9f%e7%94%a2%e5%8a%9b%e3%80%8d-%e7%b6%b2%e7%b5%a1%e7%a0%94%e8%a8%8e%e6%9c%83-%e3%80%8c%e8%b3%87%e3%80%8d-2/
LOCATION:網上直播\, Hong Kong
CATEGORIES:Webinar
ATTACH;FMTTYPE=image/webp:https://starthub.asia/wp-content/uploads/2025/08/政府資助推動「新質生產力」-網絡研討會-「資」助驅動綠色循環.webp
END:VEVENT
BEGIN:VEVENT
DTSTART;TZID=Asia/Hong_Kong:20250826T160000
DTEND;TZID=Asia/Hong_Kong:20250826T170000
DTSTAMP:20260421T190548
CREATED:20250809T094148Z
LAST-MODIFIED:20250809T094148Z
UID:58852-1756224000-1756227600@starthub.asia
SUMMARY:政府資助推動「新質生產力」 網絡研討會-「資」助推動智能生產
DESCRIPTION:「中小企資援組」舉辦一連三場「政府資助推動『新質生產力』」網絡研討會系列，匯聚行業、技術及資助專家，與您探索「新質生產力」— 以創新綠色技術及政府資助實現產業升級及可持續發展。 \n把握機會 ! 開拓智慧未來 ! \n\nFor more details\, please click here.
URL:https://starthub.asia/event/%e6%94%bf%e5%ba%9c%e8%b3%87%e5%8a%a9%e6%8e%a8%e5%8b%95%e3%80%8c%e6%96%b0%e8%b3%aa%e7%94%9f%e7%94%a2%e5%8a%9b%e3%80%8d-%e7%b6%b2%e7%b5%a1%e7%a0%94%e8%a8%8e%e6%9c%83-%e3%80%8c%e8%b3%87%e3%80%8d%e5%8a%a9/
LOCATION:網上直播\, Hong Kong
CATEGORIES:Webinar
ATTACH;FMTTYPE=image/webp:https://starthub.asia/wp-content/uploads/2025/08/政府資助推動「新質生產力」-網絡研討會-「資」助推動智能生產.webp
END:VEVENT
BEGIN:VEVENT
DTSTART;TZID=Asia/Hong_Kong:20250812T150000
DTEND;TZID=Asia/Hong_Kong:20250812T160000
DTSTAMP:20260421T190548
CREATED:20250809T085056Z
LAST-MODIFIED:20250809T085056Z
UID:58827-1755010800-1755014400@starthub.asia
SUMMARY:香港貿發局經貿研究網上研討會「拓展內銷市場機遇：稅務實務要求」
DESCRIPTION:中國內地正全方位擴大內需，同時鼓勵及擴大進口，為優質、特色產品供應商帶來巨大的市場機會。內地並推出一系列推動大規模消費品「以舊換新」政策，促進消費市場高質量發展。 \n在本工作坊，香港貿發局經濟師將介紹內地消費市場的發展近況，包括線上及線下零售市場發展趨勢、內地提振消費市場的政策方向等。上海金澄律師事務所稅務合夥人也將應邀出席，講解貨物進口內地以及在內地市場銷售的相關稅務事宜。 \n\nFor more details\, please click here.
URL:https://starthub.asia/event/%e9%a6%99%e6%b8%af%e8%b2%bf%e7%99%bc%e5%b1%80%e7%b6%93%e8%b2%bf%e7%a0%94%e7%a9%b6%e7%b6%b2%e4%b8%8a%e7%a0%94%e8%a8%8e%e6%9c%83%e3%80%8c%e6%8b%93%e5%b1%95%e5%85%a7%e9%8a%b7%e5%b8%82%e5%a0%b4%e6%a9%9f/
LOCATION:網絡
CATEGORIES:Webinar
ATTACH;FMTTYPE=image/jpeg:https://starthub.asia/wp-content/uploads/2025/08/香港貿發局經貿研究網上研討會「拓展內銷市場機遇：稅務實務要求」.jpeg
END:VEVENT
BEGIN:VEVENT
DTSTART;TZID=Asia/Hong_Kong:20250808T143000
DTEND;TZID=Asia/Hong_Kong:20250808T180000
DTSTAMP:20260421T190548
CREATED:20250804T174513Z
LAST-MODIFIED:20250804T174513Z
UID:58378-1754663400-1754676000@starthub.asia
SUMMARY:專題技術論壇 – 智政新時代：數字人客服 X 智能會議引領高效未來
DESCRIPTION:數字政策辦公室、香港數碼港、香港生產力促進局和香港科技園公司正合辦一系列專題技術論壇，讓業界分享其創新人工智能方案和成功個案，以及這些方案如何有效地提升公共服務的質素。 \n即將舉行的人工智能+ 政務 專題技術論壇系列(一)以「智政新時代：數字人客服 X 智能會議引領高效未來」為主題，並以混合模式舉行。專家講者將介紹不同類型的相關人工智能解決方案。此外，參加者亦可藉此機會與專家互相交流，交換意見，探索如何善用業界提供的解決方案賦能公共服務發展。 \n\nFor more details\, please click here.
URL:https://starthub.asia/event/%e5%b0%88%e9%a1%8c%e6%8a%80%e8%a1%93%e8%ab%96%e5%a3%87-%e6%99%ba%e6%94%bf%e6%96%b0%e6%99%82%e4%bb%a3%ef%bc%9a%e6%95%b8%e5%ad%97%e4%ba%ba%e5%ae%a2%e6%9c%8d-x-%e6%99%ba%e8%83%bd%e6%9c%83/
LOCATION:數碼港商場中庭CyberArena (*另提供網上直播)
CATEGORIES:Seminar,Webinar
ATTACH;FMTTYPE=image/png:https://starthub.asia/wp-content/uploads/2025/08/專題技術論壇-–-智政新時代：數字人客服-X-智能會議引領高效未來.png
END:VEVENT
BEGIN:VEVENT
DTSTART;TZID=Asia/Hong_Kong:20250806T150000
DTEND;TZID=Asia/Hong_Kong:20250806T160000
DTSTAMP:20260421T190548
CREATED:20250804T173406Z
LAST-MODIFIED:20250804T173406Z
UID:58370-1754492400-1754496000@starthub.asia
SUMMARY:佈局全球新機遇 EOR 人力資源管理策略精讀班
DESCRIPTION:隨著香港和內地中小企業把握東盟市場的發展機遇 ，國際化招聘和合規問題成為一大挑戰。在新市場設立分公司往往成本高、時間長，且牽涉複雜的法律和稅務要求。 EOR 模式為中小企業提供一個靈活的解決方案，企業可以在無需設立當地實體的情況下，快速招聘海外人才，同時確保符合當地勞工法規、稅務和社保要求，降低營運風險。 \n本次《中小企升級實戰教室》特別為香港和內地中小企業度身訂做，旨在分享實戰經驗和策略，幫助企業在東盟市場實現可持續的全球化擴張，利用EOR模式實現高效、合規和成本效益高的海外招聘。 \n立即報名，讓您的企業在競爭中穩步前行！ \n\n\n\nFor more details\, please click here.
URL:https://starthub.asia/event/%e4%bd%88%e5%b1%80%e5%85%a8%e7%90%83%e6%96%b0%e6%a9%9f%e9%81%87-eor-%e4%ba%ba%e5%8a%9b%e8%b3%87%e6%ba%90%e7%ae%a1%e7%90%86%e7%ad%96%e7%95%a5%e7%b2%be%e8%ae%80%e7%8f%ad/
LOCATION:Zoom
CATEGORIES:Webinar
ATTACH;FMTTYPE=image/jpeg:https://starthub.asia/wp-content/uploads/2025/08/佈局全球新機遇-EOR-人力資源管理策略精讀班.jpg
END:VEVENT
BEGIN:VEVENT
DTSTART;TZID=Asia/Hong_Kong:20250707T140000
DTEND;TZID=Asia/Hong_Kong:20250708T170000
DTSTAMP:20260421T190548
CREATED:20250729T085253Z
LAST-MODIFIED:20250729T091441Z
UID:58021-1751896800-1751994000@starthub.asia
SUMMARY:HONG KONG BEST KOREA Startup IR DEMODAY & Biz MEETUP Program [​Materials & Components / Machinery / Smart Infrastructure / Smart Construction / Mobility / UAM / Aerospace / Robotics / Energy / Marine]
DESCRIPTION:HONG KONG BEST KOREA Startup IR DEMODAY & Biz MEETUP\nConnecting Korea’s Innovation Leaders with Global Opportunities \nObjective:\nShowcase Korea’s most promising startups to global investors and business partners\, driving cross-border collaborations and investments across cutting-edge sectors. \nEligible Participants:\nEntrepreneurs\, Investors\, Industry Experts\, Research Institutions\, Accelerators\, Government Agencies\, and Associations. \nIndustry Focus:\nMaterials & Components / Machinery / Smart Infrastructure / Smart Construction / Mobility / UAM / Aerospace / Robotics / Energy / Marine \nEvent Details:\nVenue: Ball Room (B1)\, Gloucester Luk Kwok Hotel\n(72 Gloucester Road\, Wanchai\, Hong Kong | Near Wan Chai Station) \nDate: 7-8 July\, 2025\nTime: 14:00–17:00 HKT Daily \nFeatured Startups:\nCutting edge and award-winning Korean innovators\, including:\nCES Innovation Award\, Presidential Award\, and Global Technology Honorees. \nFunding Stage Breakdown:\nSeed (10%) | Pre-A (25%) | Series A (25%) | Series B (25%) | Series C (15%) \nInvestor Benefits:\n– Executive One-Pagers: Curated English profiles of all startups.\n– Pre-Event 1:1 Zoom Meetings: Secure 5–10 targeted sessions.\n– Day 1: Deep-dive into startup traction and investment potential.\n– Day 2: Structured negotiations for term sheets\, partnerships\, and procurement.\n– Post-Event Support: Ongoing deal-closing and partnership facilitation. \nRegistration & Participation:\nApply: https://forms.gle/E9pwmBDnHswQDRUb6 \nOnline Access: https://zoom.us/j/92217945639?pwd=0VE40HakdFsBccFPwFuLgusj2heFlE.1 \nContact:\nJimyeong (Jimmy) Ryu\, Team Leader\, SCG Korea\n✉️ scg_rjm@scghuman.com \n\nFor more details\, please click here.
URL:https://starthub.asia/event/hong-kong-best-korea-startup-ir-demoday-biz-meetup-program-materials-components-machinery-smart-infrastructure-smart-construction-mobility-uam-aerospace-robotics-energy/
LOCATION:Ball Room(B1)\, Gloucester Luk Kwok Hotel (Near Wan Chai Station) (72 Gloucester Road\, Wanchai\, Hong Kong)\, Hong Kong
CATEGORIES:Conference,Conference Workshop,Course,Exhibition,Networking,Pitching,Seminar,Tour,Webinar,Workshop
ATTACH;FMTTYPE=image/png:https://starthub.asia/wp-content/uploads/2025/07/Theme-2-Front-Banner-New.png
END:VEVENT
BEGIN:VEVENT
DTSTART;TZID=Asia/Hong_Kong:20250627T153000
DTEND;TZID=Asia/Hong_Kong:20250627T160000
DTSTAMP:20260421T190548
CREATED:20250508T032952Z
LAST-MODIFIED:20250508T032952Z
UID:54434-1751038200-1751040000@starthub.asia
SUMMARY:《中小企升級實戰教室》— 創新直播策略系列：跨境直播銷售爆單術
DESCRIPTION:隨著直播電商的蓬勃發展，如何戰勝平台流量秘訣與跨境銷售技巧成為中小企突圍而出的關鍵！新一輯《中小企升級實戰教室》將會聚焦小紅書、抖音、淘寶及京東等電商平台，由專家深入析解「流量密碼」攻略秘笈，助力企業低成本「吸」客、高效變現！ \n捉緊流量紅利，搶先一步實現轉型！立即報名，讓您的企業在競爭中穩步前行！ \n\n欲知更多信息，請點擊這裡。
URL:https://starthub.asia/event/%e3%80%8a%e4%b8%ad%e5%b0%8f%e4%bc%81%e5%8d%87%e7%b4%9a%e5%af%a6%e6%88%b0%e6%95%99%e5%ae%a4%e3%80%8b-%e5%89%b5%e6%96%b0%e7%9b%b4%e6%92%ad%e7%ad%96%e7%95%a5%e7%b3%bb%e5%88%97%ef%bc%9a%e8%b7%a8/
LOCATION:知創企業家 網絡
CATEGORIES:Webinar
ATTACH;FMTTYPE=image/png:https://starthub.asia/wp-content/uploads/2025/05/《中小企升級實戰教室》—-創新直播策略系列：跨境直播銷售爆單術.png
END:VEVENT
BEGIN:VEVENT
DTSTART;TZID=Asia/Hong_Kong:20250523T150000
DTEND;TZID=Asia/Hong_Kong:20250523T160000
DTSTAMP:20260421T190548
CREATED:20250508T031241Z
LAST-MODIFIED:20250508T031241Z
UID:54391-1748012400-1748016000@starthub.asia
SUMMARY:《中小企升級實戰教室》— 創新直播策略系列：抖音短片演算法攻略
DESCRIPTION:隨著直播電商的蓬勃發展，如何戰勝平台流量秘訣與跨境銷售技巧成為中小企突圍而出的關鍵！新一輯《中小企升級實戰教室》將會聚焦小紅書、抖音、淘寶及京東等電商平台，由專家深入析解「流量密碼」攻略秘笈，助力企業低成本「吸」客、高效變現！ \n捉緊流量紅利，搶先一步實現轉型！立即報名，讓您的企業在競爭中穩步前行！ \n\nFor more details\, please click here.
URL:https://starthub.asia/event/%e3%80%8a%e4%b8%ad%e5%b0%8f%e4%bc%81%e5%8d%87%e7%b4%9a%e5%af%a6%e6%88%b0%e6%95%99%e5%ae%a4%e3%80%8b-%e5%89%b5%e6%96%b0%e7%9b%b4%e6%92%ad%e7%ad%96%e7%95%a5%e7%b3%bb%e5%88%97%ef%bc%9a%e6%8a%96/
LOCATION:線上講座
CATEGORIES:Webinar
ATTACH;FMTTYPE=image/png:https://starthub.asia/wp-content/uploads/2025/05/《中小企升級實戰教室》—-創新直播策略系列：抖音短片演算法攻略.png
END:VEVENT
BEGIN:VEVENT
DTSTART;TZID=Asia/Hong_Kong:20250220T153000
DTEND;TZID=Asia/Hong_Kong:20250220T160000
DTSTAMP:20260421T190548
CREATED:20250306T102713Z
LAST-MODIFIED:20250306T102713Z
UID:50760-1740065400-1740067200@starthub.asia
SUMMARY:專利申請資助計劃免費網上研討會 – 創新者指南： 知識產權錦囊與支援
DESCRIPTION:作為創新者，保護知識產權能有效地確保競爭優勢和促進創新。知識產權 策略是公司和初創企業保護其創新的重要一步。在制定知識產權策略時\, 應考慮預算限制、與及研發、資金和決策相關的時程，以及了解所需保護技術的潛在商業化機會。本次研討會將探討以下內容： \n– 發明權為何重要？\n– 創新者的常見錯誤\n– 專利申請錦囊\n– 「專利申請資助計劃」（PAG） - 申請資格和計劃特點 \n欲知更多信息，請點擊這裏。
URL:https://starthub.asia/event/%e5%b0%88%e5%88%a9%e7%94%b3%e8%ab%8b%e8%b3%87%e5%8a%a9%e8%a8%88%e5%8a%83%e5%85%8d%e8%b2%bb%e7%b6%b2%e4%b8%8a%e7%a0%94%e8%a8%8e%e6%9c%83-%e5%89%b5%e6%96%b0%e8%80%85%e6%8c%87%e5%8d%97%ef%bc%9a/
LOCATION:Zoom
CATEGORIES:Webinar
ATTACH;FMTTYPE=image/webp:https://starthub.asia/wp-content/uploads/2025/03/IP-Tips-and-Support-for-Innovators-banner-1.webp
END:VEVENT
BEGIN:VEVENT
DTSTART;TZID=Asia/Hong_Kong:20250210T150000
DTEND;TZID=Asia/Hong_Kong:20250210T163000
DTSTAMP:20260421T190548
CREATED:20250306T092739Z
LAST-MODIFIED:20250306T092739Z
UID:50683-1739199600-1739205000@starthub.asia
SUMMARY:T-box 工作坊: 掌握《區域全面經濟夥伴關係協定》商機 – 電子商貿
DESCRIPTION:是次網上研討會由香港律師會主辦，香港貿易發展局擔任支持機構。活動將邀請知名律師及一家大型內地企業代表，分享 《區域全面經濟夥伴關係協定》下電子商貿市場的相關專業知識和經驗；並討論該協定將為香港社會各界帶來的機遇和挑戰，以及香港加入有關協定後，法律專業界別如何幫助本地企業解決日常營運中可能會遇到的實務問題。 \n欲知更多信息，請點擊這裏。
URL:https://starthub.asia/event/t-box-%e5%b7%a5%e4%bd%9c%e5%9d%8a-%e6%8e%8c%e6%8f%a1%e3%80%8a%e5%8d%80%e5%9f%9f%e5%85%a8%e9%9d%a2%e7%b6%93%e6%bf%9f%e5%a4%a5%e4%bc%b4%e9%97%9c%e4%bf%82%e5%8d%94%e5%ae%9a%e3%80%8b%e5%95%86%e6%a9%9f/
LOCATION:網上
CATEGORIES:Webinar
ATTACH;FMTTYPE=image/jpeg:https://starthub.asia/wp-content/uploads/2025/03/AsImVkaXRzIjp7fX-1.jpg
END:VEVENT
BEGIN:VEVENT
DTSTART;TZID=Asia/Hong_Kong:20250208T100000
DTEND;TZID=Asia/Hong_Kong:20250208T170000
DTSTAMP:20260421T190548
CREATED:20250308T075538Z
LAST-MODIFIED:20250308T075538Z
UID:50922-1739008800-1739034000@starthub.asia
SUMMARY:Registration and application procedure of IP rights in Hong Kong
DESCRIPTION:This course introduces the IP registration system in Hong Kong\, enabling participants to comprehend the registration and application procedures of various IP rights and thereby formulate effective IP registration strategies for the enterprises. \nFor more details\, please click here.
URL:https://starthub.asia/event/registration-and-application-procedure-of-ip-rights-in-hong-kong/
LOCATION:7/F\, VTC Tower\, 27 Wood Road\, Wan Chai\, Hong Kong
CATEGORIES:Seminar,Webinar
ATTACH;FMTTYPE=image/jpeg:https://starthub.asia/wp-content/uploads/2025/03/Registration-and-application-procedure-of-IP-rights-in-Hong-Kong.jpg
END:VEVENT
BEGIN:VEVENT
DTSTART;TZID=Asia/Hong_Kong:20241118T090000
DTEND;TZID=Asia/Hong_Kong:20241121T163000
DTSTAMP:20260421T190548
CREATED:20241021T184134Z
LAST-MODIFIED:20241021T184134Z
UID:40924-1731920400-1732206600@starthub.asia
SUMMARY:The 37th Annual AVCJ Private Equity Forum
DESCRIPTION:Join us at the 37th Annual AVCJ Private Equity Forum\, the premier private markets gathering in Asia. This event unites the biggest names in global private equity and offers more insights\, opportunities\, and enhanced networking. \nOur program features 165+ speakers and is powered by superior data analytics\, helping investors understand trends and gain future insights. The AVCJ Forum is where the world’s leading LPs come to understand Asia’s global impact. \nOrganized by Mergermarket\, the forum blends five insightful conferences and an awards ceremony\, spotlighting promising market opportunities and pressing macroeconomic issues in private equity. \nFor more details\, please click here.
URL:https://starthub.asia/event/the-37th-annual-avcj-private-equity-forum/
LOCATION:FOUR SEASONS HOTEL HONG KONG\, Hong Kong
CATEGORIES:Conference,Networking,Webinar
ATTACH;FMTTYPE=image/png:https://starthub.asia/wp-content/uploads/2024/10/The-37th-Annual-AVCJ-Private-Equity-Forum.png
END:VEVENT
BEGIN:VEVENT
DTSTART;TZID=Asia/Hong_Kong:20241024T100000
DTEND;TZID=Asia/Hong_Kong:20241024T163000
DTSTAMP:20260421T190548
CREATED:20241021T180401Z
LAST-MODIFIED:20241021T180401Z
UID:40881-1729764000-1729787400@starthub.asia
SUMMARY:AWS Innovate Conference – Migrate. Modernize. Build.
DESCRIPTION:AWS Innovate 2024 is the annual flagship virtual event that brings together industry experts\, thought leaders\, and successful customer stories to explore the latest cloud strategies and practical guidance in Hong Kong. Discover proven strategies for seamless workload migration\, application modernization\, and building AI-enabled solutions. This workshop is ideal for IT professionals\, developers\, startup founders and decision-makers interested in cloud adoption and optimization. \nFor more details\, please click here.
URL:https://starthub.asia/event/aws-innovate-conference-migrate-modernize-build/
LOCATION:Virtual
CATEGORIES:Conference,Webinar
ATTACH;FMTTYPE=image/png:https://starthub.asia/wp-content/uploads/2024/10/AWS-Innovate-Conference-–-Migrate.-Modernize.-Build.png
END:VEVENT
BEGIN:VEVENT
DTSTART;TZID=Asia/Hong_Kong:20240815T193000
DTEND;TZID=Asia/Hong_Kong:20240815T200000
DTSTAMP:20260421T190548
CREATED:20240824T175734Z
LAST-MODIFIED:20240824T175734Z
UID:35990-1723750200-1723752000@starthub.asia
SUMMARY:Transform Your Career: How UX UI Skills Can Propel You Forward
DESCRIPTION:What you will learn in this FREE Webinar: \nSecret 1: How to get a career in tech without spending all your money on a university degree?\n👉 Learn how to break into the tech industry and land a UX design job without the need for an expensive university degree. \nSecret 2: How to become an exceptional UX designer in less time even if I’m not creative?\n👉 Discover proven strategies to develop your UX design skills quickly\, even if you don’t consider yourself a naturally creative person. \nSecret 3: How to get a competitive UX Design salary without prior experience\n👉 Explore techniques to negotiate a competitive salary in the UX design field\, even if you’re just starting out. \nDon’t miss this opportunity to learn from industry experts and take the first step towards your dream career in UX design. Sign up now as spots are limited! \nEvent Details: \n📅 Date: Thursday\, 15 August 2024 \n🕒 Time: 19:30 HKT \n📍 Location: Online \n🌐 Language: English \nFor more details\, please click here.
URL:https://starthub.asia/event/transform-your-career-how-ux-ui-skills-can-propel-you-forward/
LOCATION:Online Address: Online Event\, Hong Kong
CATEGORIES:Webinar
ATTACH;FMTTYPE=image/jpeg:https://starthub.asia/wp-content/uploads/2024/08/https___cdn.evbuc_.com_images_817696789_199160580029_1_original.jpg
END:VEVENT
BEGIN:VEVENT
DTSTART;TZID=Asia/Hong_Kong:20240808T150000
DTEND;TZID=Asia/Hong_Kong:20240808T160000
DTSTAMP:20260421T190548
CREATED:20240824T174343Z
LAST-MODIFIED:20240824T174608Z
UID:35976-1723129200-1723132800@starthub.asia
SUMMARY:[Free Webinar] Maximising the Value of Intellectual Property
DESCRIPTION:Intellectual property (IP) is an intangible asset that can have tremendous value for any business. Understanding the importance of IP could help safeguard and maximise your business. \nFor Inventors and Startups\, patent application and protection are vital to safeguarding their inventions. This not only involves protecting innovative products or technologies but also securing a competitive advantage and a leading position in the market. \nFor more details\, please click here.
URL:https://starthub.asia/event/free-webinar-maximising-the-value-of-intellectual-property/
LOCATION:N/A
CATEGORIES:Webinar
ATTACH;FMTTYPE=image/jpeg:https://starthub.asia/wp-content/uploads/2024/08/shutterstock_2467785437-scaled-1.jpg
END:VEVENT
END:VCALENDAR