BEGIN:VCALENDAR
VERSION:2.0
PRODID:-//Starthub Asia - ECPv6.15.14//NONSGML v1.0//EN
CALSCALE:GREGORIAN
METHOD:PUBLISH
X-WR-CALNAME:Starthub Asia
X-ORIGINAL-URL:https://starthub.asia
X-WR-CALDESC:Events for Starthub Asia
REFRESH-INTERVAL;VALUE=DURATION:PT1H
X-Robots-Tag:noindex
X-PUBLISHED-TTL:PT1H
BEGIN:VTIMEZONE
TZID:Asia/Hong_Kong
BEGIN:STANDARD
TZOFFSETFROM:+0800
TZOFFSETTO:+0800
TZNAME:HKT
DTSTART:20240101T000000
END:STANDARD
END:VTIMEZONE
BEGIN:VEVENT
DTSTART;TZID=Asia/Hong_Kong:20251009T183000
DTEND;TZID=Asia/Hong_Kong:20251009T203000
DTSTAMP:20260422T020446
CREATED:20251019T152656Z
LAST-MODIFIED:20251019T152656Z
UID:62674-1760034600-1760041800@starthub.asia
SUMMARY:Start Smart\, Scale Smarter: A Masterclass for Hong Kong Entrepreneurs
DESCRIPTION:Hong Kong is a launchpad for entrepreneurs\, but hidden roadblocks can stall your growth before you even take off.\n​That’s why Aspire and Osome\, in partnership with e27\, are bringing together Hong Kong’s entrepreneurial community for a closed-door masterclass on building strong foundations and scaling smarter.\n​This isn’t another surface-level talk. It’s a hands-on\, interactive session designed to give you: \n​Compliance clarity: how to stay on top of regulations without drowning in paperwork \n​Financial confidence: the numbers and reporting that actually matter to investors and stakeholders \n​Smart systems: how automation frees up your time to focus on growth \n​Scaling strategies: proven ways to grow from Hong Kong into Southeast Asia \n​Why Attend?\n​✨ Learn what matters most – cut through the noise with practical insights on compliance\, finance\, and growth.\n✨ Go beyond theory – walk away with frameworks and tools you can apply immediately.\n✨ Build your network – connect with founders\, freelancers\, creators\, and leaders facing the same challenges.\n✨ Scale with confidence – discover smarter ways to grow in Hong Kong and beyond. \n​And because growth doesn’t just happen in the session\, you’ll also connect with peers over dinner — where some of the best insights are shared off-stage. \n​Meet the Speakers\nGigi Li — Channel Partnerships Director\, Aspire\nWith deep experience across Greater China\, Gigi builds partnerships that help businesses grow. She’ll cover cash flow mastery\, funding readiness\, and how to scale from Hong Kong into Southeast Asia with lean finance ops. \n​Tiffany Lew — Osome Business Expert\, Osome Hong Kong\nFormerly with Salesforce and Square\, Tiffany now helps Hong Kong founders avoid setup pitfalls and stay compliant with ease. She’ll share how AI + expert support can streamline accounting\, payroll\, and tax. \n🔥 Seats are limited — once they’re filled\, they’re gone.\nDon’t miss this chance to sharpen your growth strategy and be part of the conversation shaping Hong Kong’s next wave of builders. \n​🚀 Secure your seat and scale smarter in Hong Kong! \nFor more details\, please click here.
URL:https://starthub.asia/event/start-smart-scale-smarter-a-masterclass-for-hong-kong-entrepreneurs/
LOCATION:Garage Society Wan Chai Lockhart\, Beverly House 1/F-2/F\, Lockhart Road\, Wan Chai
CATEGORIES:Course,Seminar,Workshop
ATTACH;FMTTYPE=image/png:https://starthub.asia/wp-content/uploads/2025/10/Start-Smart-Scale-Smarter-A-Masterclass-for-Hong-Kong-Entrepreneurs-Update.png
END:VEVENT
BEGIN:VEVENT
DTSTART;TZID=Asia/Hong_Kong:20251014T150000
DTEND;TZID=Asia/Hong_Kong:20251014T180000
DTSTAMP:20260422T020446
CREATED:20251019T153842Z
LAST-MODIFIED:20251019T153842Z
UID:62690-1760454000-1760464800@starthub.asia
SUMMARY:【Tech & Taste：智營餐飲輕鬆傾】
DESCRIPTION:您將收穫：\n✓ 專家見解：由產業專家親自分享，探討如何運用最新科技提升效率、節省成本。\n✓ 專業人脈交流：與餐飲業的領導者們建立連結，拓展您的專業人脈。\n✓ 實用解決方案：發掘合作夥伴提供的尖端餐飲科技，並在互動問答環節中得到您的疑問解答。 \nFor more details\, please click here.
URL:https://starthub.asia/event/%e3%80%90tech-taste%ef%bc%9a%e6%99%ba%e7%87%9f%e9%a4%90%e9%a3%b2%e8%bc%95%e9%ac%86%e5%82%be%e3%80%91/
LOCATION:The Chelsea 香港上環蘇杭街69號10樓
CATEGORIES:Networking,Seminar,Workshop
ATTACH;FMTTYPE=image/png:https://starthub.asia/wp-content/uploads/2025/10/【Tech-Taste：智營餐飲輕鬆傾】.png
END:VEVENT
BEGIN:VEVENT
DTSTART;TZID=Asia/Hong_Kong:20251015T160000
DTEND;TZID=Asia/Hong_Kong:20251015T173000
DTSTAMP:20260422T020446
CREATED:20251019T154110Z
LAST-MODIFIED:20251019T154110Z
UID:62695-1760544000-1760549400@starthub.asia
SUMMARY:[數碼學堂] 市場分析、落地營銷、融資方案｜中小企跨境出海全攻略
DESCRIPTION:在全球化浪潮下，香港及內地中小企正面臨前所未有的出海機遇。但如何由零開始？市場資訊要如何分析？如何挑選融資方案？數碼學堂將舉辦實體研討會，請來市場營銷專家Dr. Bernie Wong，以及富融銀行企業金融部總經理李冠中先生，為大家提供最貼地最實用的出海策略。 \n研討會下半部更有香港電商協會會長 (ECAHK) 李基銓、香港貿易發展局研究部高級經濟師楊翠麗，以及富融銀行企業客户代表加入專題討論，討論重點包括歐美及東南亞市場分析、海外社交媒體營銷策略，到AI數碼廣告實戰等，讓大家一次過掌握出海成功的關鍵秘訣。 \n活動於香港會議展覽中心展覽廳5BC香港貿發局「香港秋季電子產品展」THE STAGE舉行，同場亦有國際電子組件及生產技術展，誠意推薦各位於活動前後蒞臨參觀，發掘創新產品、接觸業界翹楚、採購優質產品！ \n現場座位有限，名額先到先得，成功報名者將獲發確認函通知。研討會亦會進行網上同步直播，方便未能親身到場的朋友也可以了解到最新市場資訊。 \nFor more details\, please click here.
URL:https://starthub.asia/event/%e6%95%b8%e7%a2%bc%e5%ad%b8%e5%a0%82-%e5%b8%82%e5%a0%b4%e5%88%86%e6%9e%90%e3%80%81%e8%90%bd%e5%9c%b0%e7%87%9f%e9%8a%b7%e3%80%81%e8%9e%8d%e8%b3%87%e6%96%b9%e6%a1%88%ef%bd%9c%e4%b8%ad%e5%b0%8f/
LOCATION:香港會議展覽中心展覽廳5BC
CATEGORIES:Tour,Workshop
ATTACH;FMTTYPE=image/png:https://starthub.asia/wp-content/uploads/2025/10/數碼學堂-市場分析、落地營銷、融資方案｜中小企跨境出海全攻略.png
END:VEVENT
BEGIN:VEVENT
DTSTART;TZID=Asia/Hong_Kong:20251021T150000
DTEND;TZID=Asia/Hong_Kong:20251021T160000
DTSTAMP:20260422T020446
CREATED:20251020T121523Z
LAST-MODIFIED:20251020T121523Z
UID:62734-1761058800-1761062400@starthub.asia
SUMMARY:【HKTISC知識產權培訓】 專利對發展大灣區業務的重要性
DESCRIPTION:專利在大灣區（GBA）企業的發展和成功中扮演著至關重要的角色，成為創新和競爭優勢的基礎。通過保護知識產權，專利賦予企業必要的專有權，為企業在大灣區乃至中國國内市場的商業活動、夥伴合作等提供重要的保障。 \n本次網絡研討會將涵蓋知識產權的各個方面，解釋中國大陸的專利制度，並討論專利保護的戰略行動。講者將分享實用的知識和案例研究，幫助參加者提升其專利策略，並釋放其創新在大灣區市場的商業潛力。 \n重點議題：\n進入大灣區市場的知識產權案例及實用建議\n專利挖掘方法與策略\n專利組合規劃過程中的不同考量 \n立即參與，獲取發展大灣區業務的實用知識產權策略！ \nFor more details\, please click here.
URL:https://starthub.asia/event/%e3%80%90hktisc%e7%9f%a5%e8%ad%98%e7%94%a2%e6%ac%8a%e5%9f%b9%e8%a8%93%e3%80%91-%e5%b0%88%e5%88%a9%e5%b0%8d%e7%99%bc%e5%b1%95%e5%a4%a7%e7%81%a3%e5%8d%80%e6%a5%ad%e5%8b%99%e7%9a%84%e9%87%8d%e8%a6%81/
LOCATION:網上直播（Zoom）\, Hong Kong
CATEGORIES:Seminar,Workshop
END:VEVENT
BEGIN:VEVENT
DTSTART;TZID=Asia/Hong_Kong:20251021T180000
DTEND;TZID=Asia/Hong_Kong:20251021T193000
DTSTAMP:20260422T020446
CREATED:20251020T121937Z
LAST-MODIFIED:20251020T121955Z
UID:62738-1761069600-1761075000@starthub.asia
SUMMARY:Session 3: Drafting Patents — From Idea to Billion-Dollar Asset
DESCRIPTION:About the Session \n​Breakthrough research often grabs headlines but rarely reaches the market. The reason? Without a strong patent specification\, innovations stay trapped in labs for years. \n​In this session\, you’ll learn to identify key inventive features using clear language\, well-supported specifications with broad claims that protect your ideas — and keep competitors at bay. \n​*Seating is on a first-come\, first-served basis. To secure your spot\, please arrive 10–15 minutes early. \nFor more details\, please click here.
URL:https://starthub.asia/event/session-3-drafting-patents-from-idea-to-billion-dollar-asset/
LOCATION:The University of Hong Kong Tsui Tsin Tong Building
CATEGORIES:Course,Workshop
ATTACH;FMTTYPE=image/jpeg:https://starthub.asia/wp-content/uploads/2025/10/Session-3-Drafting-Patents-—-From-Idea-to-Billion-Dollar-Asset.jpg
END:VEVENT
BEGIN:VEVENT
DTSTART;TZID=Asia/Hong_Kong:20251024T000000
DTEND;TZID=Asia/Hong_Kong:20251101T000000
DTSTAMP:20260422T020446
CREATED:20251020T123011Z
LAST-MODIFIED:20251020T123040Z
UID:62747-1761264000-1761955200@starthub.asia
SUMMARY:International Blockchain and Data Science Olympiads
DESCRIPTION:KBI Eastern Conference 2025\, hosted by the Königsberger Bridges Institute\, unites global innovative talent through the International Blockchain Olympiad (IBCOL) and International Data Science Olympiad (IDSOL). Over 30 countries will compete and collaborate in arenas focused on blockchain (trust technologies\, decentralized applications\, etc) and data science (AI\, machine learning\, etc). From 24 October to 1 November 2025 in Hong Kong – the multi-day event features tours of innovation centers\, immersive exhibitions\, expert sessions\, and pitch contests followed by an award ceremony. It also highlights Hong Kong’s vibrant tech ecosystem\, offering prime opportunities for networking\, brand exposure\, and talent development. \nFor more details\, please click here.
URL:https://starthub.asia/event/international-blockchain-and-data-science-olympiads-3/
LOCATION:Hong Kong\, Hong Kong
CATEGORIES:Conference,Exhibition,Pitching,Seminar,Tour,Webinar,Workshop
ATTACH;FMTTYPE=image/png:https://starthub.asia/wp-content/uploads/2025/10/KBI-Eastern-Conference-2025-IBCOL-IDSOL.png
END:VEVENT
BEGIN:VEVENT
DTSTART;TZID=Asia/Hong_Kong:20251024T080000
DTEND;TZID=Asia/Hong_Kong:20251101T170000
DTSTAMP:20260422T020446
CREATED:20250509T114415Z
LAST-MODIFIED:20250509T114415Z
UID:54513-1761292800-1762016400@starthub.asia
SUMMARY:International Blockchain and Data Science Olympiads
DESCRIPTION:KBI Eastern Conference 2025\, hosted by the Königsberger Bridges Institute\, unites global innovative talent through the International Blockchain Olympiad (IBCOL) and International Data Science Olympiad (IDSOL). Over 30 countries will compete and collaborate in arenas focused on blockchain (trust technologies\, decentralized applications\, etc) and data science (AI\, machine learning\, etc). From 24 October to 1 November 2025 in Hong Kong – the multi-day event features tours of innovation centers\, immersive exhibitions\, expert sessions\, and pitch contests followed by an award ceremony. It also highlights Hong Kong’s vibrant tech ecosystem\, offering prime opportunities for networking\, brand exposure\, and talent development. \nFor more details\, please click here.
URL:https://starthub.asia/event/international-blockchain-and-data-science-olympiads/
LOCATION:Hong Kong\, Hong Kong
CATEGORIES:Conference,Exhibition,Networking,Pitching,Seminar,Tour,Webinar,Workshop
ATTACH;FMTTYPE=image/png:https://starthub.asia/wp-content/uploads/2025/05/KBI-Eastern-Conference-2025-IBCOL-IDSOL.png
END:VEVENT
BEGIN:VEVENT
DTSTART;TZID=Asia/Hong_Kong:20251025T093000
DTEND;TZID=Asia/Hong_Kong:20251025T160000
DTSTAMP:20260422T020446
CREATED:20251020T124359Z
LAST-MODIFIED:20251020T124359Z
UID:62756-1761384600-1761408000@starthub.asia
SUMMARY:JUMPSTARTER ZPIRE – AI Mastery Workshop
DESCRIPTION:​Build with AI: From Idea to App in a Day\n​Step into the future of creation with our hands-on AI Mastery Workshop! Learn how to turn ideas into real apps — fast. From mastering prompts and LLMs to building your own AI-powered prototypes using tools like Lovable\, Vercel\, and Qoder\, this workshop takes you beyond no-code. No coding background required — just curiosity\, creativity\, and the drive to build. \n​Speaker:\n​- Tom Ho\n– Tech Product Manager\, Animoca Brands\n– Head of AI\, Materia Logic \nFor more details\, please click here.
URL:https://starthub.asia/event/jumpstarter-zpire-ai-mastery-workshop/
LOCATION:Alibaba Office
CATEGORIES:Seminar,Workshop
ATTACH;FMTTYPE=image/jpeg:https://starthub.asia/wp-content/uploads/2025/10/JUMPSTARTER-ZPIRE-–-AI-Mastery-Workshop.jpg
END:VEVENT
END:VCALENDAR