BEGIN:VCALENDAR
VERSION:2.0
PRODID:-//Starthub Asia - ECPv6.15.14//NONSGML v1.0//EN
CALSCALE:GREGORIAN
METHOD:PUBLISH
X-ORIGINAL-URL:https://starthub.asia
X-WR-CALDESC:Events for Starthub Asia
REFRESH-INTERVAL;VALUE=DURATION:PT1H
X-Robots-Tag:noindex
X-PUBLISHED-TTL:PT1H
BEGIN:VTIMEZONE
TZID:Asia/Hong_Kong
BEGIN:STANDARD
TZOFFSETFROM:+0800
TZOFFSETTO:+0800
TZNAME:HKT
DTSTART:20240101T000000
END:STANDARD
END:VTIMEZONE
BEGIN:VEVENT
DTSTART;TZID=Asia/Hong_Kong:20251024T080000
DTEND;TZID=Asia/Hong_Kong:20251101T170000
DTSTAMP:20260422T004631
CREATED:20250509T114415Z
LAST-MODIFIED:20250509T114415Z
UID:54513-1761292800-1762016400@starthub.asia
SUMMARY:International Blockchain and Data Science Olympiads
DESCRIPTION:KBI Eastern Conference 2025\, hosted by the Königsberger Bridges Institute\, unites global innovative talent through the International Blockchain Olympiad (IBCOL) and International Data Science Olympiad (IDSOL). Over 30 countries will compete and collaborate in arenas focused on blockchain (trust technologies\, decentralized applications\, etc) and data science (AI\, machine learning\, etc). From 24 October to 1 November 2025 in Hong Kong – the multi-day event features tours of innovation centers\, immersive exhibitions\, expert sessions\, and pitch contests followed by an award ceremony. It also highlights Hong Kong’s vibrant tech ecosystem\, offering prime opportunities for networking\, brand exposure\, and talent development. \nFor more details\, please click here.
URL:https://starthub.asia/event/international-blockchain-and-data-science-olympiads/
LOCATION:Hong Kong\, Hong Kong
CATEGORIES:Conference,Exhibition,Networking,Pitching,Seminar,Tour,Webinar,Workshop
ATTACH;FMTTYPE=image/png:https://starthub.asia/wp-content/uploads/2025/05/KBI-Eastern-Conference-2025-IBCOL-IDSOL.png
END:VEVENT
BEGIN:VEVENT
DTSTART;TZID=Asia/Hong_Kong:20251103T000000
DTEND;TZID=Asia/Hong_Kong:20251103T000000
DTSTAMP:20260422T004631
CREATED:20251020T152246Z
LAST-MODIFIED:20251020T154757Z
UID:62783-1762128000-1762128000@starthub.asia
SUMMARY:AsiaPay Vision 2025: The Future of Payment in Asia
DESCRIPTION:An exclusive leadership forum and interactive showcase exploring the tectonic shifts in Asian payments and charting the course for the next decade of growth. This isn’t just a booth; it’s a destination within the Hong Kong FinTech Week x StartmeupHK Festival 2025. It positions AsiaPay not as a vendor\, but as a visionary partner and thought leader shaping the future of the financial ecosystem. \nRegistration via email address: sales@asiapay.com
URL:https://starthub.asia/event/asiapay-vision-2025-the-future-of-payment-in-asia/
LOCATION:Hall 5E-WB16\, Hong Kong Convention and Exhibition Centre (Main Conference of Hong Kong FinTech Week x StartmeupHK Festival 2025)
CATEGORIES:Workshop
ATTACH;FMTTYPE=image/webp:https://starthub.asia/wp-content/uploads/2025/10/AsiaPay-Vision-2025-The-Future-of-Payment-in-Asia.webp
END:VEVENT
BEGIN:VEVENT
DTSTART;TZID=Asia/Hong_Kong:20251103T163000
DTEND;TZID=Asia/Hong_Kong:20251103T203000
DTSTAMP:20260422T004631
CREATED:20251020T152535Z
LAST-MODIFIED:20251020T152535Z
UID:62788-1762187400-1762201800@starthub.asia
SUMMARY:Beyond the Hype: The AI Blueprint Every Business Needs
DESCRIPTION:AI adoption is no longer a question of if but how. For the past year\, over 20 GCC member companies have collaborated to create a practical framework: the AI Business Transformation Blueprint. This blueprint\, structured into 7 pillars\, provides companies with a clear pathway to assess readiness\, define use cases\, and measure ROI in their AI journey. Join us at the stunning iCube venue to experience the unveiling of this landmark initiative. Expect an evening of insights\, real-world examples\, and a glimpse into how AI is reshaping the future of business. This event is not about theory\, but about practical outcomes: how to identify opportunities\, build capabilities\, and capture measurable business results with AI. It also marks the kick-start of Phase 2 in 2026\, when the Chamber will build a vibrant AI ecosystem connecting demand and supply across Hong Kong. Seats are limited. Be part of Hong Kong’s most significant AI event of the year. \nFor more details\, please click here.
URL:https://starthub.asia/event/beyond-the-hype-the-ai-blueprint-every-business-needs/
LOCATION:HKU iCube\, 40/F\, Two Exchange Square\, Central
CATEGORIES:Networking,Seminar,Workshop
ATTACH;FMTTYPE=image/webp:https://starthub.asia/wp-content/uploads/2025/10/Beyond-the-Hype-The-AI-Blueprint-Every-Business-Needs.webp
END:VEVENT
BEGIN:VEVENT
DTSTART;TZID=Asia/Hong_Kong:20251104T090000
DTEND;TZID=Asia/Hong_Kong:20251104T130000
DTSTAMP:20260422T004631
CREATED:20251020T165707Z
LAST-MODIFIED:20251020T165707Z
UID:62819-1762246800-1762261200@starthub.asia
SUMMARY:Investor Roundtable Hong Kong
DESCRIPTION:The VNTR Investor Roundtable in Hong Kong (November 4\, 2025) brings together venture capitalists\, family offices\, business angels\, and crypto investors for high-level networking and deal flow discussions. As part of Hong Kong FinTech Week x StartmeupHK Festival 2025\, the roundtable offers introductions\, roundtable dialogues\, and one-on-one meetings in an exclusive\, curated setting. Attendance is limited and subject to approval\, ensuring a private environment for meaningful connections\, co-investment opportunities\, and exchange on the latest investment trends. \nFor more details\, please click here.
URL:https://starthub.asia/event/investor-roundtable-hong-kong/
LOCATION:The Investor Roundtable Hong Kong (Nov 4\, 2025) will take place in Hong Kong during Hong Kong FinTech Week x StartmeupHK Festival 2025. The specific venue and address will only be disclosed to approved guests after registration.
CATEGORIES:Networking,Workshop
ATTACH;FMTTYPE=image/webp:https://starthub.asia/wp-content/uploads/2025/10/Investor-Roundtable-Hong-Kong.webp
END:VEVENT
BEGIN:VEVENT
DTSTART;TZID=Asia/Hong_Kong:20251111T120000
DTEND;TZID=Asia/Hong_Kong:20251111T123000
DTSTAMP:20260422T004631
CREATED:20251020T183931Z
LAST-MODIFIED:20251020T183931Z
UID:62898-1762862400-1762864200@starthub.asia
SUMMARY:[Lunch & Learn Webinar Series #71] 用數據與AI升級你的行銷！讓曝光、互動、業績一次到位
DESCRIPTION:在數據與人工智能驅動下，品牌需要採用創新策略以實現業務增長。本次活動將探討如何利用數據和 AI 技術，提升品牌的營銷效率，擴大客戶基礎，並增強客戶參與度。參加者將獲得實用的技能和見解，幫助他們在不斷變化的市場環境中脫穎而出。 \n內容\n– 行銷成效看得見：用更系統化方法追蹤你的KPI，認識「成效歸因」和「客戶終身價值」，挖掘現有客戶潛力，讓每一筆行銷預算都花在刀口上。\n– 不再靠感覺亂花錢：用AI數據分析，精準規劃品牌行銷預算，集中資源在最有效的推廣渠道，達到行銷投資回報最大化。\n– 精選適配KOL：用AI工具幫你挑出最適合自家品牌的KOL／網紅，帶來實質生意額。並探索AI助手工具，讓你輕鬆省下內容製作的時間和費用。\n– 行銷新趨勢：結合即時通訊工具與AI代理技術，快速帶進潛在客戶、提升成交率，開啟跨平台互動行銷新時代。\n– 案例分享：一年粉絲暴增百萬倍的真實經驗分享，解析如何靠創新方法突破行銷瓶頸，打造品牌爆紅！ \nFor more details\, please click here.
URL:https://starthub.asia/event/lunch-learn-webinar-series-71-%e7%94%a8%e6%95%b8%e6%93%9a%e8%88%87ai%e5%8d%87%e7%b4%9a%e4%bd%a0%e7%9a%84%e8%a1%8c%e9%8a%b7%ef%bc%81%e8%ae%93%e6%9b%9d%e5%85%89%e3%80%81%e4%ba%92%e5%8b%95%e3%80%81/
LOCATION:網上直播\, Hong Kong
CATEGORIES:Course,Webinar,Workshop
ATTACH;FMTTYPE=image/png:https://starthub.asia/wp-content/uploads/2025/10/Lunch-Learn-Webinar-Series-71-用數據與AI升級你的行銷！讓曝光、互動、業績一次到位.png
END:VEVENT
END:VCALENDAR