BEGIN:VCALENDAR
VERSION:2.0
PRODID:-//Starthub Asia - ECPv6.15.14//NONSGML v1.0//EN
CALSCALE:GREGORIAN
METHOD:PUBLISH
X-ORIGINAL-URL:https://starthub.asia
X-WR-CALDESC:Events for Starthub Asia
REFRESH-INTERVAL;VALUE=DURATION:PT1H
X-Robots-Tag:noindex
X-PUBLISHED-TTL:PT1H
BEGIN:VTIMEZONE
TZID:Asia/Hong_Kong
BEGIN:STANDARD
TZOFFSETFROM:+0800
TZOFFSETTO:+0800
TZNAME:HKT
DTSTART:20250101T000000
END:STANDARD
END:VTIMEZONE
BEGIN:VEVENT
DTSTART;TZID=Asia/Hong_Kong:20260428T143000
DTEND;TZID=Asia/Hong_Kong:20260428T174500
DTSTAMP:20260420T100308
CREATED:20260414T173745Z
LAST-MODIFIED:20260414T173745Z
UID:65700-1777386600-1777398300@starthub.asia
SUMMARY:HKUST Industry Engagement Day + – AI + Medicine: The Future of Intelligence Healthcare
DESCRIPTION:Join us for a dynamic event that brings together pioneers in artificial intelligence and healthcare to explore the transformative potential of AI in medicine. This Industry Engagement Day Plus features global insights from leading experts\, a showcase of innovative startups\, and engaging industry dialogues. Discover how cutting-edge AI technologies are reshaping diagnostics\, treatment\, and patient care\, and explore collaboration opportunities at the intersection of technology and healthcare. \nWhether you are a researcher\, industry professional\, or entrepreneur\, this event offers a unique platform to connect\, learn\, and shape the future of intelligent healthcare. \nFor more details\, please click here.
URL:https://starthub.asia/event/hkust-industry-engagement-day-ai-medicine-the-future-of-intelligence-healthcare/
LOCATION:Kaisa Group Lecture Theater\, The HKUST Jockey Club Institute for Advanced Study (IAS)\, HKUST Campus\, Hong Kong
CATEGORIES:Seminar
ATTACH;FMTTYPE=image/png:https://starthub.asia/wp-content/uploads/2026/04/HKUST-Industry-Engagement-Day-AI-Medicine-The-Future-of-Intelligence-Healthcare.png
END:VEVENT
BEGIN:VEVENT
DTSTART;TZID=Asia/Hong_Kong:20260429T143000
DTEND;TZID=Asia/Hong_Kong:20260429T190000
DTSTAMP:20260420T100308
CREATED:20260414T174157Z
LAST-MODIFIED:20260414T174157Z
UID:65710-1777473000-1777489200@starthub.asia
SUMMARY:IPIC Incubation Graduation Ceremony cum Startup Demo Day
DESCRIPTION:Join us for the IPIC Incubation Graduation Ceremony cum Startup Demo Day — a celebratory milestone recognizing the progress and achievements of our IPIC startups. This event marks the culmination of their entrepreneurial journey\, featuring live startup showcases\, product demos\, and pitching sessions. \nThroughout the afternoon and evening\, participating teams will present what they’ve built during the incubation period\, engage with members of the HKUST entrepreneurship community\, and connect with a distinguished group of mentors and industry experts. It’s a valuable opportunity to gain visibility\, exchange ideas\, and explore potential collaborations. \nFor more details\, please click here.
URL:https://starthub.asia/event/ipic-incubation-graduation-ceremony-cum-startup-demo-day/
LOCATION:HKUST\, Hong Kong
CATEGORIES:Pitching,Seminar
ATTACH;FMTTYPE=image/png:https://starthub.asia/wp-content/uploads/2026/04/IPIC-Incubation-Graduation-Ceremony-cum-Startup-Demo-Day.png
END:VEVENT
BEGIN:VEVENT
DTSTART;TZID=Asia/Hong_Kong:20260429T193000
DTEND;TZID=Asia/Hong_Kong:20260429T213000
DTSTAMP:20260420T100308
CREATED:20260416T050944Z
LAST-MODIFIED:20260416T051457Z
UID:66060-1777491000-1777498200@starthub.asia
SUMMARY:🚀 StartHub Asia - 2026 AI 時代「職涯升級，拒絕被淘汰」星級嘉賓分享會
DESCRIPTION:頂尖招聘專家與 AI 總監親自分享實戰經驗，教你從零開始掌握 AI，洞悉 2026 職場新機遇… \n親愛的 Investors， \n「未來不會被 AI 取代，但會被懂得運用 AI 的人取代。」 \n在 2026 年的今天，AI 已經不再是科技人員的專利，而是每一位職場人士與管理層的最強武器。無論你是想在現有崗位上大幅提升競爭力、自動化繁瑣工作，還是尋求跨界突破，現在就是最好的時機。 \nStartHub Asia 是一個致力於推動亞洲創新與職場賦能的資源整合平台。我們深信「科技賦能」的力量，長久以來透過舉辦各類前沿科技講座、實戰工作坊及人脈交流活動，協助無數創業者與職場精英掌握最新市場趨勢、突破職涯樽頸。 \n為了幫助大家在 AI 浪潮中搶佔先機，StartHub Asia 今次特別為你籌辦了一場別開生面的年度交流盛會： \n✨ 【賦能職場精英：2026 AI 時代的職涯升級 —— 星級嘉賓分享會】 ✨ \n我們相信，最能啟發人心的往往是「真實的經驗」。因此，這次分享會我們迎來了史無前例的星級嘉賓陣容！我們邀請了來自頂尖科技社群、國際招聘企業及前沿 AI 公司的領軍人物，親身為你分享他們在最前線的實戰心得與市場洞察： \n🌟 【星級嘉賓陣容】\n🗣️ Captar 創辦人 Rick Chung：獵頭最前線！企業最睇重咩 AI 技能？咩職位正被淘汰？\n🤖 Dyna.Ai 總監 Charoite Lee：現場實測 Agentic AI，見證生產力十倍速增長！\n🚀 GDG HK 總監 Frankie Wu：非技術人員必睇！零基礎 AI 輕鬆學習路徑。\n👤 神秘嘉賓：真人真事分享，靠 AI 成功突破職涯樽頸嘅實戰故事！ \n  \n📅 活動詳情： \n\n日期：2026年4月29日 (星期三)]\n時間：\n\n\n晚上 7:30 – 9:00pm｜星級嘉賓核心分享會(90分鐘高密度實戰經驗分享)\n晚上 9:00 – 9:30｜自由交流與問答 (Networking & Mingling)(自由參與：歡迎留步與嘉賓講者及 StartHub 團隊深度交流、交換名片或請教問題)\n\n地點：尖沙咀廣東道海港城英國保誠保險大樓11樓\n語言：廣東話\n\n\n\n👉 [點擊此處：名額有限\, 立即免費留座，聆聽星級嘉賓的成功秘訣！] \n  \n別讓猶豫限制了你的發展潛力。來聽聽走在最前線的專家怎麼說，主導你未來十年的職場與人生！期待在分享會上見到你！ \nStartHub Asia 團隊 敬上\nhttps://starthub.asia \n聯絡電郵: info@starthub.asia \n電話:  +852 52286502 (whatsapp)
URL:https://starthub.asia/event/starthub-asia-2026-ai-era-career-upgrade-refuse-to-be-eliminated-star-guest-sharing-session/
LOCATION:尖沙咀廣東道海港城英國保誠保險大樓11樓\, Hong Kong
CATEGORIES:Conference,Networking
ATTACH;FMTTYPE=image/png:https://starthub.asia/wp-content/uploads/2026/04/🚀-StartHub-Asia-2026-AI-時代「職涯升級，拒絕被淘汰」星級嘉賓分享會.png
END:VEVENT
BEGIN:VEVENT
DTSTART;TZID=Asia/Hong_Kong:20260511T080000
DTEND;TZID=Asia/Hong_Kong:20260512T170000
DTSTAMP:20260420T100308
CREATED:20260415T053407Z
LAST-MODIFIED:20260415T053407Z
UID:65739-1778486400-1778605200@starthub.asia
SUMMARY:Asia Summit on Global Health
DESCRIPTION:Positioned as Asia’s premier event on health innovation and investment\, the Asia Summit on Global Health (ASGH) jointly organised by the Government of the Hong Kong Special Administrative Region and the Hong Kong Trade Development Council is a one-stop platform that will bring together all stakeholders – from policymakers to healthcare experts to renowned academia and influential business leaders\, together with key industry players\, innovative start-ups\, and investors from around the world to exchange insights\, explore opportunities and collaborate on the diverse and dynamic healthcare sector. \nFor more details\, please click here.
URL:https://starthub.asia/event/asia-summit-on-global-health-2/
LOCATION:Hong Kong Convention and Exhibition Centre\, Hong Kong
CATEGORIES:Conference
ATTACH;FMTTYPE=image/png:https://starthub.asia/wp-content/uploads/2026/04/Asia-Summit-on-Global-Health.png
END:VEVENT
BEGIN:VEVENT
DTSTART;TZID=Asia/Hong_Kong:20260511T080000
DTEND;TZID=Asia/Hong_Kong:20260513T170000
DTSTAMP:20260420T100308
CREATED:20260415T052912Z
LAST-MODIFIED:20260415T052912Z
UID:65735-1778486400-1778691600@starthub.asia
SUMMARY:HKTDC Hong Kong International Medical and Healthcare Fair
DESCRIPTION:Feel the pulse of the medical and healthcare trade \nBusiness Opportunities Abound at Blossoming Healthcare Platform \nThe HKTDC Hong Kong International Medical and Healthcare Fair provides industry players with the ideal platform to update themselves on the latest development and forge strong connections within the medical products field. \nFor more details\, please click here.
URL:https://starthub.asia/event/hktdc-hong-kong-international-medical-and-healthcare-fair/
LOCATION:Hong Kong Convention and Exhibition Centre\, Hong Kong
CATEGORIES:Conference
ATTACH;FMTTYPE=image/jpeg:https://starthub.asia/wp-content/uploads/2026/04/HKTDC-Hong-Kong-International-Medical-and-Healthcare-Fair.jpg
END:VEVENT
BEGIN:VEVENT
DTSTART;TZID=Asia/Hong_Kong:20260521T080000
DTEND;TZID=Asia/Hong_Kong:20260521T170000
DTSTAMP:20260420T100308
CREATED:20260415T053546Z
LAST-MODIFIED:20260415T053546Z
UID:65743-1779350400-1779382800@starthub.asia
SUMMARY:Tech Fest Summit Hong Kong 2026
DESCRIPTION:On 21 May 2026\, join 2000+ senior tech leaders in an event produced by the teams behind three iconic events – Cloud Forum (a KORNERSTONE Institute event)\, Revive Tech Asia\, and Nexus APAC (a TEH Group event). This brand-new experience is designed to unite the expertise and innovation of these events\, creating a fresh platform for exploring the future of technology. \nFor more details\, please click here.
URL:https://starthub.asia/event/tech-fest-summit-hong-kong-2026/
LOCATION:Hong Kong Convention and Exhibition Centre\, Hong Kong
CATEGORIES:Conference
ATTACH;FMTTYPE=image/jpeg:https://starthub.asia/wp-content/uploads/2026/04/Tech-Fest-Summit-Hong-Kong-2026.jpg
END:VEVENT
BEGIN:VEVENT
DTSTART;TZID=Asia/Hong_Kong:20260521T160000
DTEND;TZID=Asia/Hong_Kong:20260521T170000
DTSTAMP:20260420T100308
CREATED:20260415T053721Z
LAST-MODIFIED:20260415T053721Z
UID:65747-1779379200-1779382800@starthub.asia
SUMMARY:「中小企資援組」網絡研討會 「資助領航・科技賦能」中小企拓展藍圖系列 – 【電商快線】AI 驅動數碼升級，借力資助開拓跨境商機
DESCRIPTION:✓ 想掌握人工智能（AI）、電商與 ESG 的最新趨勢？\n✓ 想了解如何運用政府資助，推動科技升級與市場拓展？ \n「中小企資援組」網絡研討會全新系列︰「資助領航・科技賦能」中小企拓展藍圖，將以三大主題帶你拆解中小企必備的升級策略，實戰示範如何善用各類資助，加速業務向世界出發。 \n立即報名，鎖定3場免費網絡研討會，由本地走向全球！ \nEP.2【電商快線】AI 驅動數碼升級，借力資助開拓跨境商機\n嘉賓講者︰香港互聯網及電子商務發展協會執行主席及副會長趙溢佳先生\n日期：2026年5 月 21 日（四）｜16:00–17:00\n重點內容︰\n• AI電商方案\n• O2O跨境轉型及相關資助\n• BUD專項基金攻略︰電商易\n• 中小企實戰故事 \nFor more details\, please click here.
URL:https://starthub.asia/event/%e3%80%8c%e4%b8%ad%e5%b0%8f%e4%bc%81%e8%b3%87%e6%8f%b4%e7%b5%84%e3%80%8d%e7%b6%b2%e7%b5%a1%e7%a0%94%e8%a8%8e%e6%9c%83-%e3%80%8c%e8%b3%87%e5%8a%a9%e9%a0%98%e8%88%aa%e3%83%bb%e7%a7%91%e6%8a%80-2/
LOCATION:線上直播\, Hong Kong
CATEGORIES:Webinar
ATTACH;FMTTYPE=image/webp:https://starthub.asia/wp-content/uploads/2026/04/「中小企資援組」網絡研討會-「資助領航・科技賦能」中小企拓展藍圖系列-–-【電商快線】AI-驅動數碼升級，借力資助開拓跨境商機.webp
END:VEVENT
BEGIN:VEVENT
DTSTART;TZID=Asia/Hong_Kong:20260527T080000
DTEND;TZID=Asia/Hong_Kong:20260528T170000
DTSTAMP:20260420T100308
CREATED:20260415T053910Z
LAST-MODIFIED:20260415T053910Z
UID:65751-1779868800-1779987600@starthub.asia
SUMMARY:Online Trading Expo
DESCRIPTION:作為亞洲金融樞紐的年度盛事，Online Trading Expo 致力於為香港及全球交易者打造一個高效、透明且具前瞻性的交流平台。在市場瞬息萬變的 2026 年，我們匯聚了全球頂尖的外匯、股票、貴金屬、原油、差價合約及金融科技專家，為您解構最前沿的交易策略與市場趨勢。 \n無論您是資深專業投資者，還是剛起步的交易愛好者，本屆博覽會都將為您提供一站式的資訊與技術解決方案。 \n為什麼您不能錯過？ \n星級講師陣容： 邀請多位香港及海外財經名家、專業分析師，現場拆解 2026 下半年市場行情。 \n尖端交易技術： 率先體驗 AI 交易工具、自動化策略及最新的社交交易平台。 \n獨家投資情報： 獲取第一手環球經濟分析，助您在波動市場中發掘隱藏商機。 \n優質人脈連接： 與數千名志同道合的交易者及業界精英直接交流，拓展您的投資圈子。 \n活動詳情： \n日期：2026年5月27-28日 \n地點：香港亞洲博覽中心 \n費用： 限時免費登記（名額有限，先到先得） \nFor more details\, please click here.
URL:https://starthub.asia/event/online-trading-expo/
LOCATION:香港亞洲博覽中心\, Hong Kong
CATEGORIES:Conference,Exhibition,Networking
ATTACH;FMTTYPE=image/jpeg:https://starthub.asia/wp-content/uploads/2026/04/Online-Trading-Expo.jpg
END:VEVENT
BEGIN:VEVENT
DTSTART;TZID=Asia/Hong_Kong:20260610T090000
DTEND;TZID=Asia/Hong_Kong:20260610T180000
DTSTAMP:20260420T100308
CREATED:20260415T054114Z
LAST-MODIFIED:20260415T054114Z
UID:65756-1781082000-1781114400@starthub.asia
SUMMARY:Hong Kong Hack
DESCRIPTION:Hong Kong Hack 2026\, taking place on June 10\, 2026\, is a profit-neutral\, high-level technical symposium dedicated to frontier security research\, offensive and defensive practices\, and the future of digital trust. \nHong Kong Hack is part of the Hack series of technical security events organized by Casaba Security. Previous editions of the series have been successfully held in Malaysia (MYHACK) and Singapore (SGHack)\, focusing on frontier security research\, real-world offensive and defensive practices\, and high-quality technical exchange. Over time\, the Hack series has established a strong reputation within the regional security community for being non-commercial\, technically rigorous\, and content-driven. \nFor more details\, please click here.
URL:https://starthub.asia/event/hong-kong-hack/
LOCATION:Hong Kong Science and Technology Parks – InnoCentre\, Hong Kong
CATEGORIES:Conference
ATTACH;FMTTYPE=image/png:https://starthub.asia/wp-content/uploads/2026/04/Hong-Kong-Hack.png
END:VEVENT
BEGIN:VEVENT
DTSTART;TZID=Asia/Hong_Kong:20260708T080000
DTEND;TZID=Asia/Hong_Kong:20260710T170000
DTSTAMP:20260420T100308
CREATED:20260415T054335Z
LAST-MODIFIED:20260415T054335Z
UID:65762-1783497600-1783702800@starthub.asia
SUMMARY:LEAP EAST 2026
DESCRIPTION:LEAP East is brought to you by the team behind LEAP – a major tech event in Riyadh\, Saudia Arabia that is fast becoming a global movement. \nLocated in Hong Kong\, one of the world’s most culturally diverse cities\, LEAP East offers a unique opportunity to immerse yourself in the forefront of the global tech industry. Join us as we drive technological advancements for positive change worldwide\, catalysing innovation and collaboration across borders. \nFor more details\, please click here.
URL:https://starthub.asia/event/leap-east-2026/
LOCATION:Hong Kong Convention and Exhibition Centre\, Hong Kong
CATEGORIES:Conference
ATTACH;FMTTYPE=image/jpeg:https://starthub.asia/wp-content/uploads/2026/04/LEAP-EAST-2026.jpeg
END:VEVENT
BEGIN:VEVENT
DTSTART;TZID=Asia/Hong_Kong:20260723T160000
DTEND;TZID=Asia/Hong_Kong:20260723T170000
DTSTAMP:20260420T100308
CREATED:20260415T054523Z
LAST-MODIFIED:20260415T054523Z
UID:65766-1784822400-1784826000@starthub.asia
SUMMARY:「中小企資援組」網絡研討會 「資助領航・科技賦能」中小企拓展藍圖系列 – 【智綠商機】資助引領綠色轉型，開拓永續市場新版圖
DESCRIPTION:✓ 想掌握人工智能（AI）、電商與 ESG 的最新趨勢？\n✓ 想了解如何運用政府資助，推動科技升級與市場拓展？ \n「中小企資援組」網絡研討會全新系列︰「資助領航・科技賦能」中小企拓展藍圖，將以三大主題帶你拆解中小企必備的升級策略，實戰示範如何善用各類資助，加速業務向世界出發。 \n立即報名，鎖定3場免費網絡研討會，由本地走向全球！ \nEP.3【智綠商機】資助引領綠色轉型，開拓永續市場新版圖\n日期：2026年7 月 23 日（四）｜16:00–17:00\n重點內容︰\n• 「綠」續制勝策略\n• ESG 如何帶來營運增長\n• ESG 資助全覽\n• Green Tech 應用方向 \nFor more details\, please click here.
URL:https://starthub.asia/event/%e3%80%8c%e4%b8%ad%e5%b0%8f%e4%bc%81%e8%b3%87%e6%8f%b4%e7%b5%84%e3%80%8d%e7%b6%b2%e7%b5%a1%e7%a0%94%e8%a8%8e%e6%9c%83-%e3%80%8c%e8%b3%87%e5%8a%a9%e9%a0%98%e8%88%aa%e3%83%bb%e7%a7%91%e6%8a%80-3/
LOCATION:線上直播\, Hong Kong
CATEGORIES:Webinar
ATTACH;FMTTYPE=image/webp:https://starthub.asia/wp-content/uploads/2026/04/「中小企資援組」網絡研討會-「資助領航・科技賦能」中小企拓展藍圖系列-–-【智綠商機】資助引領綠色轉型，開拓永續市場新版圖.webp
END:VEVENT
END:VCALENDAR